Workbook
Name _GoBack: Finansieringsforslag!$B$37
Name _Toc102655464: Aktivitetsudvidelser!$B$59
Name _Toc102655465: Aktivitetsudvidelser!$B$64
Name _Toc137023395: Aktivitetsudvidelser!$B$59
Name _Toc196311238: Finansieringsforslag!$B$143
Name _Toc196402557: Aktivitetsudvidelser!$B$82
Name _Toc196402560: Aktivitetsudvidelser!#REF!
Name _Toc196402561: Aktivitetsudvidelser!#REF!
Name _Toc196402562: Aktivitetsudvidelser!#REF!
Name _Toc196827022: Aktivitetsudvidelser!$B$142
Name _Toc198109041: Aktivitetsudvidelser!#REF!
Name _Toc233361828: Anlægsønsker!$A$209
Name _Toc238131926: Anlægsønsker!#REF!
Name _Toc269807039: Aktivitetsudvidelser!#REF!
Name _Toc34638328: Aktivitetsudvidelser!$B$16
Name _Toc34640908: Finansieringsforslag!$B$37
Name _Toc34640909: Finansieringsforslag!#REF!
Name _Toc34640910: Finansieringsforslag!#REF!
Name _Toc34640911: Finansieringsforslag!#REF!
Name _Toc41307569: Aktivitetsudvidelser!#REF!
Name _Toc422136273: Anlægsønsker!#REF!
Name _Toc449534135: Aktivitetsudvidelser!#REF!
Name _Toc449534136: Aktivitetsudvidelser!#REF!
Name _Toc452714603: Aktivitetsudvidelser!#REF!
Name _Toc452714604: Aktivitetsudvidelser!#REF!
Name _Toc452714605: Aktivitetsudvidelser!$B$141
Name _Toc480807185: Finansieringsforslag!#REF!
Name _Toc483296837: Aktivitetsudvidelser!#REF!
Name _Toc509499967: Aktivitetsudvidelser!#REF!
Name _Toc509499968: Aktivitetsudvidelser!#REF!
Name _Toc511823335: Aktivitetsudvidelser!#REF!
Name _Toc514753201: Aktivitetsudvidelser!#REF!
Name _Toc517773207: Anlægsønsker!#REF!
Name _Toc517946780: Aktivitetsudvidelser!$B$142
Name _Toc67402931: Aktivitetsudvidelser!$B$59
Name _Toc67402932: Aktivitetsudvidelser!#REF!
Name _Toc72420131: Anlægsønsker!#REF!
Name _Toc72420132: Anlægsønsker!#REF!
Name _Toc72420133: Anlægsønsker!#REF!
Name _Toc72420134: Anlægsønsker!#REF!
Name _Toc72420135: Anlægsønsker!#REF!
Name _Toc72420136: Anlægsønsker!#REF!
Name _Toc72420138: Anlægsønsker!#REF!
Name _Toc72420139: Anlægsønsker!#REF!
Name _Toc72420141: Anlægsønsker!#REF!
Name _Toc72420142: Anlægsønsker!$A$285
Name _Toc72420143: Anlægsønsker!#REF!
Name _Toc72420144: Anlægsønsker!#REF!
Name _Toc72420145: Anlægsønsker!#REF!
Name _Toc72420147: Anlægsønsker!#REF!
Name _Toc72420148: Anlægsønsker!#REF!
Name _Toc72420149: Anlægsønsker!#REF!
Name OLE_LINK11: Aktivitetsudvidelser!#REF!

Sheet LOG ændringer
A1: LOG over ændringer ift. 1. version af SIM
A2: 1.9 | B2: kryds i FF vedr. akt. 31 rettet så forslag tæller med
A4: 3.9 | B4: 2 anlægsønsker fra KIF er godkendt af KB og sendt som tillæg i supplerende høring og lagt ind i SIM. Det er AØ 383 og 384
A6: 7.9 | B6: 60AØ2027-021 Nedskriver budgettet i 2027 med det beløb der oprindelig stod i 2030
A9: 10.9 | B9: Mulige justeringer i finansieringsforslag lagt ind som ekstra linjer
B10: Forslag vedr. Regional Kulturtilskud rettet fra 300.000 kr. oplyst til budgetseminar 9.9 til 293.000 kr. svarende til DUT-kompensation
A13: 14.9 | B13: Der er tilføjet en linje nederst i FF arket med leje af pavilloner på Grønnevang Skole
B14: XA-0000030166 Grønnevang Skole, husleje vedr. pavilloner - modpost
B15: tilføjelse under FF-arket:
B16: STU - reduktion af budgetramme
B17: STU - flytning af service til overførsler
B18: STU - flytning af service til overførsler | F18: tæller ikke med i service ved modregning på forside linje 57
A21: 15.9 | B21: Scenarie 3 og 4 vedr. Hillerød Vestskolen
B22: NY 602027-121 Tulstrup Børnehus - justeret budget
B23: 0,25 pct. rammebesparelse ind på alle områder
B24: Reduktion af ældrepulje - ændret disponering
B25: der er på akt 12 reduceret 500 t. kr. og flyttet til anlæg vedr. Skolen ved Skoven. Kodet modpost på anlæg
B26: nye versioner af AU-forslag
B27: 11-006 halv effekt i alle år og med kvart effekt i 2027
B28: 11-009 begge linjer reduceret til 75 pct. i år 2027.
B29: 11-010 Nyt forslag med nye penge vedr. Hillerød Hospital og Hillerød Stadion inkl. rådgiver på akt. 28. med 75 pct. i år 2027
B30: NY41AU2027-001 Ny lovgivning for Dagtilbud (forslag 2: 57%/43%)
B31: Ny version af 60AØ-040 genopretnning af kommunale bygninger - kun beløb i 2027. Overslagsår nullet
B32: NYAØ2027-999 flyttet forslag 11AU2027-016 Midler til foreningen Jordnær, ekstern rådgiver til anlæg
B33: indtægtsside rettet med septemberkørslen
B34: beregning af pl-effekt vedr. anlægsforslag rettet. Der var korrigeret dobbelt ift. omregning i mio. kr.

Sheet  Balance akt.
J6: i pct. af oprindelig serviceramme!
A7: Aktivitetsområde | B7: type | C7: UDVALG | D7: =+'Budgetforslag 2027-2030'!C3 -> 2027 | E7: =+D7+1 -> 2028 | F7: =+E7+1 -> 2029 | G7: =+F7+1 -> 2030 | H7: =A7 -> Aktivitetsområde | I7: type | J7: 2027 i pct | K7: 2028 i pct | L7: 2029 i pct | M7: 2030 i pct
A8: 11. Administration | B8: Serviceramme ompr.sag | C8: ØU | D8: 475352.99 | E8: 464720.52 | F8: 472800.5 | G8: 472800.5 | H8: =A8 -> 11. Administration | I8: =B8 -> Serviceramme ompr.sag
A9: 11. Administration | B9: Driftsramme | C9: ØU | D9: =Afstemning!D9 -> 475923.87 | E9: =Afstemning!E9 -> 465291.4 | F9: =Afstemning!F9 -> 473371.39 | G9: =Afstemning!G9 -> 473371.39 | H9: =A9 -> 11. Administration | I9: =B9 -> Driftsramme
A10: 11. Administration | B10: Tekniske korrektioner | C10: ØU | D10: =Afstemning!D10 -> 7185 | E10: =Afstemning!E10 -> 8224 | F10: =Afstemning!F10 -> 7970 | G10: =Afstemning!G10 -> -545 | H10: =A10 -> 11. Administration | I10: =B10 -> Tekniske korrektioner | J10: =D10/D8 -> 0.015115083 | K10: =E10/E8 -> 0.017696658 | L10: =F10/F8 -> 0.016857004 | M10: =G10/G8 -> -0.001152706
A11: 11. Administration | B11: Afledt drift | C11: ØU | D11: =Afstemning!D11 -> 106 | E11: =Afstemning!E11 -> 296 | F11: =Afstemning!F11 -> 296 | G11: =Afstemning!G11 -> 106 | H11: =A11 -> 11. Administration | I11: =B11 -> Afledt drift | J11: =D11/D8 -> 0.00022299218 | K11: =E11/E8 -> 0.00063694197 | L11: =F11/F8 -> 0.00062605686 | M11: =G11/G8 -> 0.00022419604
A12: 11. Administration | B12: Budgetønsker | C12: ØU | D12: =Afstemning!D12 -> 8451 | E12: =Afstemning!E12 -> 8991 | F12: =Afstemning!F12 -> 8991 | G12: =Afstemning!G12 -> 8991 | H12: =A12 -> 11. Administration | I12: =B12 -> Budgetønsker | J12: =D12/D8 -> 0.017778367 | K12: =E12/E8 -> 0.019347112 | L12: =F12/F8 -> 0.019016477 | M12: =G12/G8 -> 0.019016477
A13: 11. Administration | B13: Finansieringsforslag | C13: ØU | D13: =Afstemning!D13 -> -20625 | E13: =Afstemning!E13 -> -16795 | F13: =Afstemning!F13 -> -16695 | G13: =Afstemning!G13 -> -13570 | H13: =A13 -> 11. Administration | I13: =B13 -> Finansieringsforslag | J13: =D13/D8 -> -0.043388809 | K13: =E13/E8 -> -0.036140001 | L13: =F13/F8 -> -0.035310876 | M13: =G13/G8 -> -0.028701323
A14: 11. Administration | B14: Vedtaget budget 2020 - 2023 | C14: ØU | D14: =SUM(D9:D13) -> 471040.87 | E14: =SUM(E9:E13) -> 466007.4 | F14: =SUM(F9:F13) -> 473933.39 | G14: =SUM(G9:G13) -> 468353.39 | H14: =A14 -> 11. Administration | I14: =B14 -> Vedtaget budget 2020 - 2023
H15: =A15 -> 0 | I15: =B15 -> 0
H16: =A16 -> 0 | I16: =B16 -> 0
A17: 12. Ejendomme | B17: Serviceramme ompr.sag | C17: ØU | D17: 168790.3 | E17: 168249.92 | F17: 166302.54 | G17: 166302.54 | H17: =A17 -> 12. Ejendomme | I17: =B17 -> Serviceramme ompr.sag
A18: 12. Ejendomme | B18: Driftsramme | C18: ØU | D18: =Afstemning!D18 -> 169925.58 | E18: =Afstemning!E18 -> 169385.23 | F18: =Afstemning!F18 -> 167437.85 | G18: =Afstemning!G18 -> 167437.85 | H18: =A18 -> 12. Ejendomme | I18: =B18 -> Driftsramme
A19: 12. Ejendomme | B19: Tekniske korrektioner | C19: ØU | D19: =Afstemning!D19 -> -12243 | E19: =Afstemning!E19 -> -2430 | F19: =Afstemning!F19 -> 38 | G19: =Afstemning!G19 -> -3253 | H19: =A19 -> 12. Ejendomme | I19: =B19 -> Tekniske korrektioner | J19: =D19/D17 -> -0.072533791 | K19: =E19/E17 -> -0.0144428 | L19: =F19/F17 -> 0.00022849922 | M19: =G19/G17 -> -0.019560736
A20: 12. Ejendomme | B20: Afledt drift | C20: ØU | D20: =Afstemning!D20 -> -1541 | E20: =Afstemning!E20 -> -1181 | F20: =Afstemning!F20 -> 112 | G20: =Afstemning!G20 -> -298 | H20: =A20 -> 12. Ejendomme | I20: =B20 -> Afledt drift | J20: =D20/D17 -> -0.0091296718 | K20: =E20/E17 -> -0.0070193199 | L20: =F20/F17 -> 0.00067347139 | M20: =G20/G17 -> -0.001791915
A21: 12. Ejendomme | B21: Budgetønsker | C21: ØU | D21: =Afstemning!D21 -> 280 | E21: =Afstemning!E21 -> 300 | F21: =Afstemning!F21 -> 300 | G21: =Afstemning!G21 -> 300 | H21: =A21 -> 12. Ejendomme | I21: =B21 -> Budgetønsker | J21: =D21/D17 -> 0.0016588631 | K21: =E21/E17 -> 0.0017830618 | L21: =F21/F17 -> 0.0018039412 | M21: =G21/G17 -> 0.0018039412
A22: 12. Ejendomme | B22: Finansieringsforslag | C22: ØU | D22: =Afstemning!D22 -> -15257 | E22: =Afstemning!E22 -> -14605 | F22: =Afstemning!F22 -> -14605 | G22: =Afstemning!G22 -> -14605 | H22: =A22 -> 12. Ejendomme | I22: =B22 -> Finansieringsforslag | J22: =D22/D17 -> -0.090390268 | K22: =E22/E17 -> -0.086805391 | L22: =F22/F17 -> -0.087821872 | M22: =G22/G17 -> -0.087821872
A23: 12. Ejendomme | B23: Vedtaget budget 2020 - 2023 | C23: ØU | D23: =SUM(D18:D22) -> 141164.58 | E23: =SUM(E18:E22) -> 151469.23 | F23: =SUM(F18:F22) -> 153282.85 | G23: =SUM(G18:G22) -> 149581.85 | H23: =A23 -> 12. Ejendomme | I23: =B23 -> Vedtaget budget 2020 - 2023
H24: =A24 -> 0 | I24: =B24 -> 0
H25: =A25 -> 0 | I25: =B25 -> 0
A26: 13. Rengøring - Bestiller | B26: Serviceramme ompr.sag | C26: ØU | D26: 53357.778 | E26: 53386.782 | F26: 53440.282 | G26: 53440.282 | H26: =A26 -> 13. Rengøring - Bestiller | I26: =B26 -> Serviceramme ompr.sag
A27: 13. Rengøring - Bestiller | B27: Driftsramme | C27: ØU | D27: =Afstemning!D27 -> 53966.778 | E27: =Afstemning!E27 -> 53994.782 | F27: =Afstemning!F27 -> 54048.282 | G27: =Afstemning!G27 -> 54048.282 | H27: =A27 -> 13. Rengøring - Bestiller | I27: =B27 -> Driftsramme
A28: 13. Rengøring - Bestiller | B28: Tekniske korrektioner | C28: ØU | D28: =Afstemning!D28 -> 872 | E28: =Afstemning!E28 -> 1088 | F28: =Afstemning!F28 -> 891 | G28: =Afstemning!G28 -> 731 | H28: =A28 -> 13. Rengøring - Bestiller | I28: =B28 -> Tekniske korrektioner | J28: =D28/D26 -> 0.01634251 | K28: =E28/E26 -> 0.020379576 | L28: =F28/F26 -> 0.016672816 | M28: =G28/G26 -> 0.01367882
A29: 13. Rengøring - Bestiller | B29: Afledt drift | C29: ØU | D29: =Afstemning!D29 -> -277 | E29: =Afstemning!E29 -> -325 | F29: =Afstemning!F29 -> -133 | G29: =Afstemning!G29 -> -120 | H29: =A29 -> 13. Rengøring - Bestiller | I29: =B29 -> Afledt drift | J29: =D29/D26 -> -0.0051913706 | K29: =E29/E26 -> -0.0060876492 | L29: =F29/F26 -> -0.0024887593 | M29: =G29/G26 -> -0.0022454971
A30: 13. Rengøring - Bestiller | B30: Budgetønsker | C30: ØU | D30: =Afstemning!D30 -> 100 | E30: =Afstemning!E30 -> 100 | F30: =Afstemning!F30 -> 100 | G30: =Afstemning!G30 -> 100 | H30: =A30 -> 13. Rengøring - Bestiller | I30: =B30 -> Budgetønsker | J30: =D30/D26 -> 0.001874141 | K30: =E30/E26 -> 0.0018731228 | L30: =F30/F26 -> 0.0018712476 | M30: =G30/G26 -> 0.0018712476
A31: 13. Rengøring - Bestiller | B31: Finansieringsforslag | C31: ØU | D31: =Afstemning!D31 -> -360 | E31: =Afstemning!E31 -> -360 | F31: =Afstemning!F31 -> -360 | G31: =Afstemning!G31 -> -360 | H31: =A31 -> 13. Rengøring - Bestiller | I31: =B31 -> Finansieringsforslag | J31: =D31/D26 -> -0.0067469076 | K31: =E31/E26 -> -0.0067432422 | L31: =F31/F26 -> -0.0067364914 | M31: =G31/G26 -> -0.0067364914
A32: 13. Rengøring - Bestiller | B32: Vedtaget budget 2020 - 2023 | C32: ØU | D32: =SUM(D27:D31) -> 54301.778 | E32: =SUM(E27:E31) -> 54497.782 | F32: =SUM(F27:F31) -> 54546.282 | G32: =SUM(G27:G31) -> 54399.282 | H32: =A32 -> 13. Rengøring - Bestiller | I32: =B32 -> Vedtaget budget 2020 - 2023
H33: =A33 -> 0 | I33: =B33 -> 0
H34: =A34 -> 0 | I34: =B34 -> 0
A35: 21. Natur, Miljø og Klima | B35: Serviceramme ompr.sag | C35: NMK | D35: 13943.986 | E35: 13791.991 | F35: 13791.989 | G35: 13791.989 | H35: =A35 -> 21. Natur, Miljø og Klima | I35: =B35 -> Serviceramme ompr.sag
A36: 21. Natur, Miljø og Klima | B36: Driftsramme | C36: NMK | D36: =Afstemning!D36 -> 13943.986 | E36: =Afstemning!E36 -> 13791.991 | F36: =Afstemning!F36 -> 13791.989 | G36: =Afstemning!G36 -> 13791.989 | H36: =A36 -> 21. Natur, Miljø og Klima | I36: =B36 -> Driftsramme
A37: 21. Natur, Miljø og Klima | B37: Tekniske korrektioner | C37: NMK | D37: =Afstemning!D37 -> -972 | E37: =Afstemning!E37 -> -972 | F37: =Afstemning!F37 -> -971 | G37: =Afstemning!G37 -> -971 | H37: =A37 -> 21. Natur, Miljø og Klima | I37: =B37 -> Tekniske korrektioner | J37: =D37/D35 -> -0.069707471 | K37: =E37/E35 -> -0.070475684 | L37: =F37/F35 -> -0.070403188 | M37: =G37/G35 -> -0.070403188
A38: 21. Natur, Miljø og Klima | B38: Afledt drift | C38: NMK | D38: =Afstemning!D38 -> 0 | E38: =Afstemning!E38 -> 0 | F38: =Afstemning!F38 -> 0 | G38: =Afstemning!G38 -> 0 | H38: =A38 -> 21. Natur, Miljø og Klima | I38: =B38 -> Afledt drift | J38: =D38/D35 -> 0 | K38: =E38/E35 -> 0 | L38: =F38/F35 -> 0 | M38: =G38/G35 -> 0
A39: 21. Natur, Miljø og Klima | B39: Budgetønsker | C39: NMK | D39: =Afstemning!D39 -> 2900 | E39: =Afstemning!E39 -> 2900 | F39: =Afstemning!F39 -> 2900 | G39: =Afstemning!G39 -> 2900 | H39: =A39 -> 21. Natur, Miljø og Klima | I39: =B39 -> Budgetønsker | J39: =D39/D35 -> 0.20797496 | K39: =E39/E35 -> 0.21026696 | L39: =F39/F35 -> 0.21026699 | M39: =G39/G35 -> 0.21026699
A40: 21. Natur, Miljø og Klima | B40: Finansieringsforslag | C40: NMK | D40: =Afstemning!D40 -> -200 | E40: =Afstemning!E40 -> -200 | F40: =Afstemning!F40 -> -200 | G40: =Afstemning!G40 -> -200 | H40: =A40 -> 21. Natur, Miljø og Klima | I40: =B40 -> Finansieringsforslag | J40: =D40/D35 -> -0.014343101 | K40: =E40/E35 -> -0.01450117 | L40: =F40/F35 -> -0.014501172 | M40: =G40/G35 -> -0.014501172
A41: 21. Natur, Miljø og Klima | B41: Vedtaget budget 2020 - 2023 | C41: NMK | D41: =SUM(D36:D40) -> 15671.986 | E41: =SUM(E36:E40) -> 15519.991 | F41: =SUM(F36:F40) -> 15520.989 | G41: =SUM(G36:G40) -> 15520.989 | H41: =A41 -> 21. Natur, Miljø og Klima | I41: =B41 -> Vedtaget budget 2020 - 2023
H42: =A42 -> 0 | I42: =B42 -> 0
H43: =A43 -> 0 | I43: =B43 -> 0
A44: 23. Kirkegårde | B44: Serviceramme ompr.sag | C44: ØU | D44: 3356.696 | E44: 3358.715 | F44: 3358.715 | G44: 3358.715 | H44: =A44 -> 23. Kirkegårde | I44: =B44 -> Serviceramme ompr.sag
A45: 23. Kirkegårde | B45: Driftsramme | C45: ØU | D45: =Afstemning!D45 -> 3356.696 | E45: =Afstemning!E45 -> 3358.715 | F45: =Afstemning!F45 -> 3358.715 | G45: =Afstemning!G45 -> 3358.715 | H45: =A45 -> 23. Kirkegårde | I45: =B45 -> Driftsramme
A46: 23. Kirkegårde | B46: Tekniske korrektioner | C46: ØU | D46: =Afstemning!D46 -> -287 | E46: =Afstemning!E46 -> -240 | F46: =Afstemning!F46 -> -240 | G46: =Afstemning!G46 -> -240 | H46: =A46 -> 23. Kirkegårde | I46: =B46 -> Tekniske korrektioner | J46: =D46/D44 -> -0.085500742 | K46: =E46/E44 -> -0.071455899 | L46: =F46/F44 -> -0.071455899 | M46: =G46/G44 -> -0.071455899
A47: 23. Kirkegårde | B47: Afledt drift | C47: ØU | D47: =Afstemning!D47 -> 0 | E47: =Afstemning!E47 -> 0 | F47: =Afstemning!F47 -> 0 | G47: =Afstemning!G47 -> 0 | H47: =A47 -> 23. Kirkegårde | I47: =B47 -> Afledt drift | J47: =D47/D44 -> 0 | K47: =E47/E44 -> 0 | L47: =F47/F44 -> 0 | M47: =G47/G44 -> 0
A48: 23. Kirkegårde | B48: Budgetønsker | C48: ØU | D48: =Afstemning!D48 -> 0 | E48: =Afstemning!E48 -> 0 | F48: =Afstemning!F48 -> 0 | G48: =Afstemning!G48 -> 0 | H48: =A48 -> 23. Kirkegårde | I48: =B48 -> Budgetønsker | J48: =D48/D44 -> 0 | K48: =E48/E44 -> 0 | L48: =F48/F44 -> 0 | M48: =G48/G44 -> 0
A49: 23. Kirkegårde | B49: Finansieringsforslag | C49: ØU | D49: =Afstemning!D49 -> -27 | E49: =Afstemning!E49 -> -27 | F49: =Afstemning!F49 -> -27 | G49: =Afstemning!G49 -> -27 | H49: =A49 -> 23. Kirkegårde | I49: =B49 -> Finansieringsforslag | J49: =D49/D44 -> -0.0080436238 | K49: =E49/E44 -> -0.0080387886 | L49: =F49/F44 -> -0.0080387886 | M49: =G49/G44 -> -0.0080387886
A50: 23. Kirkegårde | B50: Vedtaget budget 2020 - 2023 | C50: ØU | D50: =SUM(D45:D49) -> 3042.696 | E50: =SUM(E45:E49) -> 3091.715 | F50: =SUM(F45:F49) -> 3091.715 | G50: =SUM(G45:G49) -> 3091.715 | H50: =A50 -> 23. Kirkegårde | I50: =B50 -> Vedtaget budget 2020 - 2023
H51: =A51 -> 0 | I51: =B51 -> 0
H52: =A52 -> 0 | I52: =B52 -> 0
A53: 27.Ejendomme - Grøn drift | B53: Serviceramme ompr.sag | C53: ØU | D53: -6.203 | E53: -6.179 | F53: -6.08 | G53: -6.08 | H53: =A53 -> 27.Ejendomme - Grøn drift | I53: =B53 -> Serviceramme ompr.sag
A54: 27.Ejendomme - Grøn drift | B54: Driftsramme | C54: ØU | D54: =Afstemning!D54 -> -6.203 | E54: =Afstemning!E54 -> -6.179 | F54: =Afstemning!F54 -> -6.08 | G54: =Afstemning!G54 -> -6.08 | H54: =A54 -> 27.Ejendomme - Grøn drift | I54: =B54 -> Driftsramme
A55: 27.Ejendomme - Grøn drift | B55: Tekniske korrektioner | C55: ØU | D55: =Afstemning!D55 -> 1388 | E55: =Afstemning!E55 -> 1389 | F55: =Afstemning!F55 -> 1390 | G55: =Afstemning!G55 -> 1391 | H55: =A55 -> 27.Ejendomme - Grøn drift | I55: =B55 -> Tekniske korrektioner | J55: =D55/D53 -> -223.7627 | K55: =E55/E53 -> -224.79366 | L55: =F55/F53 -> -228.61842 | M55: =G55/G53 -> -228.78289
A56: 27.Ejendomme - Grøn drift | B56: Afledt drift | C56: ØU | D56: =Afstemning!D56 -> 0 | E56: =Afstemning!E56 -> 0 | F56: =Afstemning!F56 -> 0 | G56: =Afstemning!G56 -> 0 | H56: =A56 -> 27.Ejendomme - Grøn drift | I56: =B56 -> Afledt drift | J56: =D56/D53 -> 0 | K56: =E56/E53 -> 0 | L56: =F56/F53 -> 0 | M56: =G56/G53 -> 0
A57: 27.Ejendomme - Grøn drift | B57: Budgetønsker | C57: ØU | D57: =Afstemning!D57 -> 0 | E57: =Afstemning!E57 -> 0 | F57: =Afstemning!F57 -> 0 | G57: =Afstemning!G57 -> 0 | H57: =A57 -> 27.Ejendomme - Grøn drift | I57: =B57 -> Budgetønsker | J57: =D57/D53 -> 0 | K57: =E57/E53 -> 0 | L57: =F57/F53 -> 0 | M57: =G57/G53 -> 0
A58: 27.Ejendomme - Grøn drift | B58: Finansieringsforslag | C58: ØU | D58: =Afstemning!D58 -> 0 | E58: =Afstemning!E58 -> 0 | F58: =Afstemning!F58 -> 0 | G58: =Afstemning!G58 -> 0 | H58: =A58 -> 27.Ejendomme - Grøn drift | I58: =B58 -> Finansieringsforslag | J58: =D58/D53 -> 0 | K58: =E58/E53 -> 0 | L58: =F58/F53 -> 0 | M58: =G58/G53 -> 0
A59: 27.Ejendomme - Grøn drift | B59: Vedtaget budget 2020 - 2023 | C59: ØU | D59: =SUM(D54:D58) -> 1381.797 | E59: =SUM(E54:E58) -> 1382.821 | F59: =SUM(F54:F58) -> 1383.92 | G59: =SUM(G54:G58) -> 1384.92 | H59: =A59 -> 27.Ejendomme - Grøn drift | I59: =B59 -> Vedtaget budget 2020 - 2023
H60: =A60 -> 0 | I60: =B60 -> 0
H61: =A61 -> 0 | I61: =B61 -> 0
A62: 28. By og Miljø | B62: Serviceramme ompr.sag | C62: PBU | D62: 1227.825 | E62: 1227.825 | F62: 1227.825 | G62: 1227.825 | H62: =A62 -> 28. By og Miljø | I62: =B62 -> Serviceramme ompr.sag
A63: 28. By og Miljø | B63: Driftsramme | C63: PBU | D63: =Afstemning!D63 -> 1227.825 | E63: =Afstemning!E63 -> 1227.825 | F63: =Afstemning!F63 -> 1227.825 | G63: =Afstemning!G63 -> 1227.825 | H63: =A63 -> 28. By og Miljø | I63: =B63 -> Driftsramme
A64: 28. By og Miljø | B64: Tekniske korrektioner | C64: PBU | D64: =Afstemning!D64 -> -142 | E64: =Afstemning!E64 -> -142 | F64: =Afstemning!F64 -> -142 | G64: =Afstemning!G64 -> -142 | H64: =A64 -> 28. By og Miljø | I64: =B64 -> Tekniske korrektioner | J64: =D64/D62 -> -0.11565166 | K64: =E64/E62 -> -0.11565166 | L64: =F64/F62 -> -0.11565166 | M64: =G64/G62 -> -0.11565166
A65: 28. By og Miljø | B65: Afledt drift | C65: PBU | D65: =Afstemning!D65 -> 0 | E65: =Afstemning!E65 -> 0 | F65: =Afstemning!F65 -> 0 | G65: =Afstemning!G65 -> 0 | H65: =A65 -> 28. By og Miljø | I65: =B65 -> Afledt drift | J65: =D65/D62 -> 0 | K65: =E65/E62 -> 0 | L65: =F65/F62 -> 0 | M65: =G65/G62 -> 0
A66: 28. By og Miljø | B66: Budgetønsker | C66: PBU | D66: =Afstemning!D66 -> 64 | E66: =Afstemning!E66 -> 100 | F66: =Afstemning!F66 -> 100 | G66: =Afstemning!G66 -> 100 | H66: =A66 -> 28. By og Miljø | I66: =B66 -> Budgetønsker | J66: =D66/D62 -> 0.052124692 | K66: =E66/E62 -> 0.081444831 | L66: =F66/F62 -> 0.081444831 | M66: =G66/G62 -> 0.081444831
A67: 28. By og Miljø | B67: Finansieringsforslag | C67: PBU | D67: =Afstemning!D67 -> -16 | E67: =Afstemning!E67 -> -16 | F67: =Afstemning!F67 -> -16 | G67: =Afstemning!G67 -> -16 | H67: =A67 -> 28. By og Miljø | I67: =B67 -> Finansieringsforslag | J67: =D67/D62 -> -0.013031173 | K67: =E67/E62 -> -0.013031173 | L67: =F67/F62 -> -0.013031173 | M67: =G67/G62 -> -0.013031173
A68: 28. By og Miljø | B68: Vedtaget budget 2020 - 2023 | C68: PBU | D68: =SUM(D63:D67) -> 1133.825 | E68: =SUM(E63:E67) -> 1169.825 | F68: =SUM(F63:F67) -> 1169.825 | G68: =SUM(G63:G67) -> 1169.825 | H68: =A68 -> 28. By og Miljø | I68: =B68 -> Vedtaget budget 2020 - 2023
H69: =A69 -> 0 | I69: =B69 -> 0
H70: =A70 -> 0 | I70: =B70 -> 0
A71: 31. Beskæftigelsesindsats | B71: Serviceramme ompr.sag | C71: EUU | D71: 1587.948 | E71: 1587.948 | F71: 1587.948 | G71: 1587.948 | H71: =A71 -> 31. Beskæftigelsesindsats | I71: =B71 -> Serviceramme ompr.sag
A72: 31. Beskæftigelsesindsats | B72: Driftsramme | C72: EUU | D72: =Afstemning!D79 -> 30653.416 | E72: =Afstemning!E79 -> 29642.41 | F72: =Afstemning!F79 -> 29404.025 | G72: =Afstemning!G79 -> 29404.025 | H72: =A72 -> 31. Beskæftigelsesindsats | I72: =B72 -> Driftsramme
A73: 31. Beskæftigelsesindsats | B73: Tekniske korrektioner | C73: EUU | D73: =Afstemning!D80 -> -1550 | E73: =Afstemning!E80 -> 197 | F73: =Afstemning!F80 -> -2000 | G73: =Afstemning!G80 -> 426 | H73: =A73 -> 31. Beskæftigelsesindsats | I73: =B73 -> Tekniske korrektioner | J73: =D73/D71 -> -0.97610249 | K73: =E73/E71 -> 0.12405948 | L73: =F73/F71 -> -1.2594871 | M73: =G73/G71 -> 0.26827075
A74: 31. Beskæftigelsesindsats | B74: Afledt drift | C74: EUU | D74: =Afstemning!D81 -> 0 | E74: =Afstemning!E81 -> 0 | F74: =Afstemning!F81 -> 0 | G74: =Afstemning!G81 -> 0 | H74: =A74 -> 31. Beskæftigelsesindsats | I74: =B74 -> Afledt drift | J74: =D74/D71 -> 0 | K74: =E74/E71 -> 0 | L74: =F74/F71 -> 0 | M74: =G74/G71 -> 0
A75: 31. Beskæftigelsesindsats | B75: Budgetønsker | C75: EUU | D75: =Afstemning!D82 -> 0 | E75: =Afstemning!E82 -> 0 | F75: =Afstemning!F82 -> 0 | G75: =Afstemning!G82 -> 0 | H75: =A75 -> 31. Beskæftigelsesindsats | I75: =B75 -> Budgetønsker | J75: =D75/D71 -> 0 | K75: =E75/E71 -> 0 | L75: =F75/F71 -> 0 | M75: =G75/G71 -> 0
A76: 31. Beskæftigelsesindsats | B76: Finansieringsforslag | C76: EUU | D76: =Afstemning!D83 -> -50 | E76: =Afstemning!E83 -> -50 | F76: =Afstemning!F83 -> -50 | G76: =Afstemning!G83 -> -50 | H76: =A76 -> 31. Beskæftigelsesindsats | I76: =B76 -> Finansieringsforslag | J76: =D76/D71 -> -0.031487177 | K76: =E76/E71 -> -0.031487177 | L76: =F76/F71 -> -0.031487177 | M76: =G76/G71 -> -0.031487177
A77: 31. Beskæftigelsesindsats | B77: Vedtaget budget 2020 - 2023 | C77: EUU | D77: =SUM(D72:D76) -> 29053.416 | E77: =SUM(E72:E76) -> 29789.41 | F77: =SUM(F72:F76) -> 27354.025 | G77: =SUM(G72:G76) -> 29780.025 | H77: =A77 -> 31. Beskæftigelsesindsats | I77: =B77 -> Vedtaget budget 2020 - 2023
H78: =A78 -> 0 | I78: =B78 -> 0
H79: =A79 -> 0 | I79: =B79 -> 0
A80: 32. Specialiseret voksenområde | B80: Serviceramme ompr.sag | C80: ÆSS | D80: 377259.41 | E80: 371241.21 | F80: 365373.96 | G80: 365373.96 | H80: =A80 -> 32. Specialiseret voksenområde | I80: =B80 -> Serviceramme ompr.sag
A81: 32. Specialiseret voksenområde | B81: Driftsramme | C81: ÆSS | D81: =Afstemning!D88 -> 399968.17 | E81: =Afstemning!E88 -> 394114.04 | F81: =Afstemning!F88 -> 388246.79 | G81: =Afstemning!G88 -> 388246.79 | H81: =A81 -> 32. Specialiseret voksenområde | I81: =B81 -> Driftsramme
A82: 32. Specialiseret voksenområde | B82: Tekniske korrektioner | C82: ÆSS | D82: =Afstemning!D89 -> -1679 | E82: =Afstemning!E89 -> -118 | F82: =Afstemning!F89 -> 433 | G82: =Afstemning!G89 -> 419 | H82: =A82 -> 32. Specialiseret voksenområde | I82: =B82 -> Tekniske korrektioner | J82: =D82/D80 -> -0.0044505186 | K82: =E82/E80 -> -0.00031785264 | L82: =F82/F80 -> 0.0011850872 | M82: =G82/G80 -> 0.0011467703
A83: 32. Specialiseret voksenområde | B83: Afledt drift | C83: ÆSS | D83: =Afstemning!D90 -> 0 | E83: =Afstemning!E90 -> 0 | F83: =Afstemning!F90 -> 0 | G83: =Afstemning!G90 -> 0 | H83: =A83 -> 32. Specialiseret voksenområde | I83: =B83 -> Afledt drift | J83: =D83/D80 -> 0 | K83: =E83/E80 -> 0 | L83: =F83/F80 -> 0 | M83: =G83/G80 -> 0
A84: 32. Specialiseret voksenområde | B84: Budgetønsker | C84: ÆSS | D84: =Afstemning!D91 -> 11641 | E84: =Afstemning!E91 -> 21791 | F84: =Afstemning!F91 -> 20853 | G84: =Afstemning!G91 -> 14202 | H84: =A84 -> 32. Specialiseret voksenområde | I84: =B84 -> Budgetønsker | J84: =D84/D80 -> 0.030856752 | K84: =E84/E80 -> 0.058697686 | L84: =F84/F80 -> 0.057073032 | M84: =G84/G80 -> 0.038869765
A85: 32. Specialiseret voksenområde | B85: Finansieringsforslag | C85: ÆSS | D85: =Afstemning!D92 -> -6559 | E85: =Afstemning!E92 -> -6559 | F85: =Afstemning!F92 -> -6559 | G85: =Afstemning!G92 -> -6559 | H85: =A85 -> 32. Specialiseret voksenområde | I85: =B85 -> Finansieringsforslag | J85: =D85/D80 -> -0.017385915 | K85: =E85/E80 -> -0.017667758 | L85: =F85/F80 -> -0.017951471 | M85: =G85/G80 -> -0.017951471
A86: 32. Specialiseret voksenområde | B86: Vedtaget budget 2020 - 2023 | C86: ÆSS | D86: =SUM(D81:D85) -> 403371.17 | E86: =SUM(E81:E85) -> 409228.04 | F86: =SUM(F81:F85) -> 402973.79 | G86: =SUM(G81:G85) -> 396308.79 | H86: =A86 -> 32. Specialiseret voksenområde | I86: =B86 -> Vedtaget budget 2020 - 2023
H87: =A87 -> 0 | I87: =B87 -> 0
H88: =A88 -> 0 | I88: =B88 -> 0
A89: 33. Forsørgelsesydelser | B89: Serviceramme ompr.sag | C89: EUU | D89: 0 | E89: 0 | F89: 0 | G89: 0 | H89: =A89 -> 33. Forsørgelsesydelser | I89: =B89 -> Serviceramme ompr.sag
A90: 33. Forsørgelsesydelser | B90: Driftsramme | C90: EUU | D90: =Afstemning!D97 -> 721951.65 | E90: =Afstemning!E97 -> 737320.97 | F90: =Afstemning!F97 -> 733481.32 | G90: =Afstemning!G97 -> 733481.32 | H90: =A90 -> 33. Forsørgelsesydelser | I90: =B90 -> Driftsramme
A91: 33. Forsørgelsesydelser | B91: Tekniske korrektioner | C91: EUU | D91: =Afstemning!D98 -> 1573 | E91: =Afstemning!E98 -> 4157 | F91: =Afstemning!F98 -> 12277 | G91: =Afstemning!G98 -> 27929 | H91: =A91 -> 33. Forsørgelsesydelser | I91: =B91 -> Tekniske korrektioner
A92: 33. Forsørgelsesydelser | B92: Afledt drift | C92: EUU | D92: =Afstemning!D99 -> 0 | E92: =Afstemning!E99 -> 0 | F92: =Afstemning!F99 -> 0 | G92: =Afstemning!G99 -> 0 | H92: =A92 -> 33. Forsørgelsesydelser | I92: =B92 -> Afledt drift
A93: 33. Forsørgelsesydelser | B93: Budgetønsker | C93: EUU | D93: =Afstemning!D100 -> 0 | E93: =Afstemning!E100 -> 0 | F93: =Afstemning!F100 -> 0 | G93: =Afstemning!G100 -> 0 | H93: =A93 -> 33. Forsørgelsesydelser | I93: =B93 -> Budgetønsker
A94: 33. Forsørgelsesydelser | B94: Finansieringsforslag | C94: EUU | D94: =Afstemning!D101 -> 0 | E94: =Afstemning!E101 -> 0 | F94: =Afstemning!F101 -> 0 | G94: =Afstemning!G101 -> 0 | H94: =A94 -> 33. Forsørgelsesydelser | I94: =B94 -> Finansieringsforslag
A95: 33. Forsørgelsesydelser | B95: Vedtaget budget 2020 - 2023 | C95: EUU | D95: =SUM(D90:D94) -> 723524.65 | E95: =SUM(E90:E94) -> 741477.97 | F95: =SUM(F90:F94) -> 745758.32 | G95: =SUM(G90:G94) -> 761410.32 | H95: =A95 -> 33. Forsørgelsesydelser | I95: =B95 -> Vedtaget budget 2020 - 2023
H96: =A96 -> 0 | I96: =B96 -> 0
H97: =A97 -> 0 | I97: =B97 -> 0
A98: 34. Ældre | B98: Serviceramme ompr.sag | C98: ÆSS | D98: 534079.45 | E98: 551069.23 | F98: 558763.02 | G98: 558763.02 | H98: =A98 -> 34. Ældre | I98: =B98 -> Serviceramme ompr.sag
A99: 34. Ældre | B99: Driftsramme | C99: ÆSS | D99: =Afstemning!D106 -> 534245.83 | E99: =Afstemning!E106 -> 551200.69 | F99: =Afstemning!F106 -> 560216.22 | G99: =Afstemning!G106 -> 560216.22 | H99: =A99 -> 34. Ældre | I99: =B99 -> Driftsramme
A100: 34. Ældre | B100: Tekniske korrektioner | C100: ÆSS | D100: =Afstemning!D107 -> 11462 | E100: =Afstemning!E107 -> 10292 | F100: =Afstemning!F107 -> 15003 | G100: =Afstemning!G107 -> 20933 | H100: =A100 -> 34. Ældre | I100: =B100 -> Tekniske korrektioner | J100: =D100/D98 -> 0.021461226 | K100: =E100/E98 -> 0.018676419 | L100: =F100/F98 -> 0.026850381 | M100: =G100/G98 -> 0.037463109
A101: 34. Ældre | B101: Afledt drift | C101: ÆSS | D101: =Afstemning!D108 -> 0 | E101: =Afstemning!E108 -> 0 | F101: =Afstemning!F108 -> 0 | G101: =Afstemning!G108 -> 0 | H101: =A101 -> 34. Ældre | I101: =B101 -> Afledt drift | J101: =D101/D98 -> 0 | K101: =E101/E98 -> 0 | L101: =F101/F98 -> 0 | M101: =G101/G98 -> 0
A102: 34. Ældre | B102: Budgetønsker | C102: ÆSS | D102: =Afstemning!D109 -> 1790 | E102: =Afstemning!E109 -> 1790 | F102: =Afstemning!F109 -> 1790 | G102: =Afstemning!G109 -> 1946 | H102: =A102 -> 34. Ældre | I102: =B102 -> Budgetønsker | J102: =D102/D98 -> 0.0033515613 | K102: =E102/E98 -> 0.0032482307 | L102: =F102/F98 -> 0.0032035048 | M102: =G102/G98 -> 0.0034826929
A103: 34. Ældre | B103: Finansieringsforslag | C103: ÆSS | D103: =Afstemning!D110 -> -2223 | E103: =Afstemning!E110 -> -2210 | F103: =Afstemning!F110 -> -2210 | G103: =Afstemning!G110 -> -2210 | H103: =A103 -> 34. Ældre | I103: =B103 -> Finansieringsforslag | J103: =D103/D98 -> -0.0041623021 | K103: =E103/E98 -> -0.0040103854 | L103: =F103/F98 -> -0.0039551651 | M103: =G103/G98 -> -0.0039551651
A104: 34. Ældre | B104: Vedtaget budget 2020 - 2023 | C104: ÆSS | D104: =SUM(D99:D103) -> 545274.83 | E104: =SUM(E99:E103) -> 561072.69 | F104: =SUM(F99:F103) -> 574799.22 | G104: =SUM(G99:G103) -> 580885.22 | H104: =A104 -> 34. Ældre | I104: =B104 -> Vedtaget budget 2020 - 2023
H105: =A105 -> 0 | I105: =B105 -> 0
...

Sheet  Balance udvalg
B2: HUSK AT OPDAGERE PIVOT-TABELLER NEDFOR
G3: Serviceudg.
A4: AU og FF i kr. | G4: omp.ramme | H4: i pct. i 2027
A5: Rækkemærkater | B5: Sum af 2027 | C5: Sum af 2028 | D5: Sum af 2029 | E5: Sum af 2030
A6: BFU | B6: 21844 | C6: 32719 | D6: 30948 | E6: 16850 | G6: =' Balance akt.'!D125+' Balance akt.'!D134+' Balance akt.'!D143+' Balance akt.'!D152 -> 1250704 | H6: =B6/G6 -> 0.017465364
A7: Budgetønsker | B7: 33081 | C7: 46329 | D7: 44958 | E7: 30860
A8: Finansieringsforslag | B8: -11237 | C8: -13610 | D8: -14010 | E8: -14010
A9: EUU | B9: -4415 | C9: -2165 | D9: -2165 | E9: -2165 | G9: =' Balance akt.'!D116+' Balance akt.'!D89+' Balance akt.'!D71 -> 50138.438 | H9: =B9/G9 -> -0.088056194
A10: Budgetønsker | B10: 100 | C10: 100 | D10: 100 | E10: 100
A11: Finansieringsforslag | B11: -4515 | C11: -2265 | D11: -2265 | E11: -2265
A12: KIL | B12: -4303 | C12: 2136 | D12: 136 | E12: 136 | G12: =' Balance akt.'!D161 -> 106195.37 | H12: =B12/G12 -> -0.040519656
A13: Budgetønsker | B13: 485 | C13: 485 | D13: 485 | E13: 485
A14: Finansieringsforslag | B14: -4788 | C14: 1651 | D14: -349 | E14: -349
A15: MTU | B15: -19869 | C15: -2300 | D15: -2300 | E15: -2300 | G15: =' Balance akt.'!D179 -> 117905.95 | H15: =B15/G15 -> -0.16851567
A16: Budgetønsker | B16: 0 | C16: 0 | D16: 0 | E16: 0
A17: Finansieringsforslag | B17: -19869 | C17: -2300 | D17: -2300 | E17: -2300
A18: NMK | B18: 2700 | C18: 2700 | D18: 2700 | E18: 2700 | G18: =' Balance akt.'!D35 -> 13943.986 | H18: =B18/G18 -> 0.19363186
A19: Budgetønsker | B19: 2900 | C19: 2900 | D19: 2900 | E19: 2900
A20: Finansieringsforslag | B20: -200 | C20: -200 | D20: -200 | E20: -200
A21: PBU | B21: 48 | C21: 84 | D21: 84 | E21: 84 | G21: =' Balance akt.'!D62 -> 1227.825 | H21: =B21/G21 -> 0.039093519
A22: Budgetønsker | B22: 64 | C22: 100 | D22: 100 | E22: 100
A23: Finansieringsforslag | B23: -16 | C23: -16 | D23: -16 | E23: -16
A24: ÆSS | B24: 1649 | C24: 11812 | D24: 10874 | E24: 4379 | G24: =' Balance akt.'!D80+' Balance akt.'!D98+' Balance akt.'!D107 -> 993700.38 | H24: =B24/G24 -> 0.0016594539
A25: Budgetønsker | B25: 13431 | C25: 23581 | D25: 22643 | E25: 16148
A26: Finansieringsforslag | B26: -11782 | C26: -11769 | D26: -11769 | E26: -11769
A27: ØU | B27: -27516 | C27: -22474 | D27: -22374 | E27: -19249 | G27: =' Balance akt.'!D8+' Balance akt.'!D17+' Balance akt.'!D26+' Balance akt.'!D44+' Balance akt.'!D53+' Balance akt.'!D170 -> 707029.34 | H27: =B27/G27 -> -0.038917763
A28: Budgetønsker | B28: 8831 | C28: 9391 | D28: 9391 | E28: 9391
A29: Finansieringsforslag | B29: -36347 | C29: -31865 | D29: -31765 | E29: -28640
A30: I alt Hill.Km. | B30: -29862 | C30: 22512 | D30: 17903 | E30: 435 | G30: =G6+G9+G12+G15+G18+G21+G24+G27 -> 3240845.2 | H30: =B30/G30 -> -0.0092142629
A31: Budgetønsker | B31: 58892 | C31: 82886 | D31: 80577 | E31: 59984
A32: Finansieringsforslag | B32: -88754 | C32: -60374 | D32: -62674 | E32: -59549

Sheet Budgetforslag 2027-2030
A1: Budgetaftale 2027-2030
A3: Mio.kr. , netto, årets priser | B3: 2026 | C3: =B3+1 -> 2027 | D3: =C3+1 -> 2028 | E3: =D3+1 -> 2029 | F3: =E3+1 -> 2030
B4: Korrigeret Budget | C4: Budget | D4: Budget | E4: Budget | F4: Budget | I4: 27 | J4: 28 | K4: 29 | L4: 30
A5: DRIFTS OG ANLÆGSUDGIFTER:
A6: Skatter | B6: ='Vedtaget budget i 2026'!B10 -> -4299.018 | C6: ='Vedtaget budget i 2026'!C10+'Ændringer til vedtaget budget'!C16 -> -4691.291 | D6: ='Vedtaget budget i 2026'!D10+'Ændringer til vedtaget budget'!D16 -> -4751.489 | E6: ='Vedtaget budget i 2026'!E10+'Ændringer til vedtaget budget'!E16 -> -4838.381 | F6: ='Vedtaget budget i 2026'!F10+'Ændringer til vedtaget budget'!F16 -> -5052.403
A7: Refusion købsmoms | B7: ='Vedtaget budget i 2026'!B11 -> 0 | C7: =SUM('Vedtaget budget i 2026'!C11+'Ændringer til vedtaget budget'!C17) -> 0 | D7: =SUM('Vedtaget budget i 2026'!D11+'Ændringer til vedtaget budget'!D17) -> 0 | E7: =SUM('Vedtaget budget i 2026'!E11+'Ændringer til vedtaget budget'!E17) -> 0 | F7: =SUM('Vedtaget budget i 2026'!F11+'Ændringer til vedtaget budget'!F17) -> 0
A8: Tilskud og udligning | B8: ='Vedtaget budget i 2026'!B12 -> -153.116 | C8: ='Vedtaget budget i 2026'!C12+'Ændringer til vedtaget budget'!C18 -> 302.582 | D8: ='Vedtaget budget i 2026'!D12+'Ændringer til vedtaget budget'!D18 -> 351.09 | E8: ='Vedtaget budget i 2026'!E12+'Ændringer til vedtaget budget'!E18 -> 317.141 | F8: ='Vedtaget budget i 2026'!F12+'Ændringer til vedtaget budget'!F18 -> 371.494
A9: Driftsudgifter | B9: ='Vedtaget budget i 2026'!B13 -> 4225.081 | C9: ='Vedtaget budget i 2026'!C13+'Ændringer til vedtaget budget'!C8+'Ændringer til vedtaget budget'!C9+'Ændringer til vedtaget budget'!C10+'Ændringer til vedtaget budget'!C11 -> 3987.984 | D9: ='Vedtaget budget i 2026'!D13+'Ændringer til vedtaget budget'!D8+'Ændringer til vedtaget budget'!D9+'Ændringer til vedtaget budget'!D10+'Ændringer til vedtaget budget'!D11-0.001 -> 4053.425 | E9: ='Vedtaget budget i 2026'!E13+'Ændringer til vedtaget budget'!E8+'Ændringer til vedtaget budget'!E9+'Ændringer til vedtaget budget'!E10+'Ændringer til vedtaget budget'!E11 -> 4066.588 | F9: ='Vedtaget budget i 2026'!F13+'Ændringer til vedtaget budget'!F8+'Ændringer til vedtaget budget'!F9+'Ændringer til vedtaget budget'!F10+'Ændringer til vedtaget budget'!F11 -> 4060.196
A10: Renter | B10: ='Vedtaget budget i 2026'!B14 -> -2.141 | C10: ='Vedtaget budget i 2026'!C14+'Ændringer til vedtaget budget'!C21 -> -5.646 | D10: ='Vedtaget budget i 2026'!D14+'Ændringer til vedtaget budget'!D21 -> -5.596 | E10: ='Vedtaget budget i 2026'!E14+'Ændringer til vedtaget budget'!E21 -> -5.546 | F10: ='Vedtaget budget i 2026'!F14+'Ændringer til vedtaget budget'!F21 -> -5.546
A11: Resultat af ordinær drift | B11: ='Vedtaget budget i 2026'!B15 -> -229.194 | C11: =SUM(C6:C10) -> -406.371 | D11: =SUM(D6:D10) -> -352.57 | E11: =SUM(E6:E10) -> -460.198 | F11: =SUM(F6:F10) -> -626.259 | I11: =C11 -> -406.371 | J11: =D11 -> -352.57 | K11: =E11 -> -460.198 | L11: =F11 -> -626.259 | N11: Resultatet af den ordinære drift skal være minimum 100 mio. kr. pr. år.
A12: Anlægsudgifter (HK 0, 2-6) | B12: ='Vedtaget budget i 2026'!B16 -> 313.313 | C12: ='Ændringer til vedtaget budget'!C12+'Ændringer til vedtaget budget'!C14-C15 -> 189.20319 | D12: ='Ændringer til vedtaget budget'!D12+'Ændringer til vedtaget budget'!D14-D15 -> 705.58902 | E12: ='Ændringer til vedtaget budget'!E12+'Ændringer til vedtaget budget'!E14-E15 -> 313.55263 | F12: ='Ændringer til vedtaget budget'!F12+'Ændringer til vedtaget budget'!F14-F15 -> 230.3168 | I12: =C12 -> 189.20319 | N12: Vejledende anlægsramme fra KL på 189,367 mio. kr. udmeldt 7.2.2026.
A13: Anlægsindtægter (HK 0, 2-6) | C13: ='Ændringer til vedtaget budget'!C13+'Ændringer til vedtaget budget'!C15 -> -11.7 | D13: ='Ændringer til vedtaget budget'!D13+'Ændringer til vedtaget budget'!D15 -> -9.045 | E13: ='Ændringer til vedtaget budget'!E13+'Ændringer til vedtaget budget'!E15 -> -10.645 | F13: ='Ændringer til vedtaget budget'!F13+'Ændringer til vedtaget budget'!F15 -> 0
A14: Skattefinansieret område ialt | B14: ='Vedtaget budget i 2026'!B18+'Budgetforslag 2027-2030'!O19 -> 84.119 | C14: =SUM(C11:C13) -> -228.86781 | D14: =SUM(D11:D13) -> 343.97402 | E14: =SUM(E11:E13) -> -157.29037 | F14: =SUM(F11:F13) -> -395.9422
A15: Anlægsudgifter (HK 1 - brugerfinansieret og uden for anlægsloft) | C15: 0 | D15: 0 | E15: 0 | F15: 0
A16: Brugerfinansieret område ialt | C16: =SUM(C15) -> 0 | D16: =SUM(D15) -> 0 | E16: =SUM(E15) -> 0 | F16: =SUM(F15) -> 0
A17: Pris og lønskøn FF&AU | D17: =(D50+D51+D57)*D63 -> -1.6579418 | E17: =(E50+E51+E57)*E63 -> -4.4163898 | F17: =(F50+F51+F57)*F63 -> -8.3777782
A18: Pris og lønskøn AØ | D18: =D59*D64 -> 2.3253823 | E18: =E59*E64 -> 2.9885153 | F18: =F59*F64 -> 2.3286427
A19: Pris og lønskøn i alt | B19: ='Vedtaget budget i 2026'!B20 -> 0 | C19: ='Vedtaget budget i 2026'!C20+'Ændringer til vedtaget budget'!C7 -> 0 | D19: =prisfremskrivning!F39 -> 119.622 | E19: =prisfremskrivning!G39 -> 250.265 | F19: =prisfremskrivning!H39 -> 389.25
A20: Årets resultat, ekskl. HK 1 - brugerfinansieret anlæg | B20: ='Vedtaget budget i 2026'!B21 -> 84.119 | C20: =C14+C19 -> -228.86781 | D20: =D14+D19+D18+D17 -> 464.26346 | E20: =E14+E19+E18+E17 -> 91.546758 | F20: =F14+F19+F18+F17 -> -12.741337 | I20: =C20 -> -228.86781 | J20: =D20 -> 464.26346 | K20: =E20 -> 91.546758 | L20: =F20 -> -12.741337 | N20: Årets resultat skal være positiv
A22: KAPITALBEVÆGELSER:
A23: Årets resultat, inkl. HK 1 - brugerfinansieret anlæg | B23: ='Vedtaget budget i 2026'!B24+'Budgetforslag 2027-2030'!O23 -> 84.119 | C23: =C20+C15 -> -228.86781 | D23: =D20+D15 -> 464.26346 | E23: =E20+E15 -> 91.546758 | F23: =F20+F15 -> -12.741337
A24: Låneoptagelse | B24: ='Vedtaget budget i 2026'!B25+'Budgetforslag 2027-2030'!O24 -> -29.226 | C24: ='Vedtaget budget i 2026'!C25+'Ændringer til vedtaget budget'!C19 -> -2.6 | D24: ='Vedtaget budget i 2026'!D25+'Ændringer til vedtaget budget'!D19 -> -27.447 | E24: ='Vedtaget budget i 2026'!E25+'Ændringer til vedtaget budget'!E19 -> -15.024 | F24: ='Vedtaget budget i 2026'!F25+'Ændringer til vedtaget budget'!F19 -> -15.025 | I24: =+C25+C24 -> 31.682 | J24: =+D25+D24 -> 7.285 | K24: =+E25+E24 -> 20.461 | L24: =+F25+F24 -> 20.727 | N24: Kommunens langfristede gæld skal nedbringes.
A25: Afdrag på lån | B25: ='Vedtaget budget i 2026'!B26+'Budgetforslag 2027-2030'!O25 -> 35.369 | C25: ='Vedtaget budget i 2026'!C26+'Ændringer til vedtaget budget'!C20 -> 34.282 | D25: ='Vedtaget budget i 2026'!D26+'Ændringer til vedtaget budget'!D20 -> 34.732 | E25: ='Vedtaget budget i 2026'!E26+'Ændringer til vedtaget budget'!E20 -> 35.485 | F25: ='Vedtaget budget i 2026'!F26+'Ændringer til vedtaget budget'!F20 -> 35.752
A26: Finansforskydninger | B26: ='Vedtaget budget i 2026'!B27 -> 57.885 | C26: ='Vedtaget budget i 2026'!C27+'Ændringer til vedtaget budget'!C22 -> -12.713 | D26: ='Vedtaget budget i 2026'!D27+'Ændringer til vedtaget budget'!D22 -> -12.943 | E26: ='Vedtaget budget i 2026'!E27+'Ændringer til vedtaget budget'!E22 -> -10.409 | F26: ='Vedtaget budget i 2026'!F27+'Ændringer til vedtaget budget'!F22 -> -6.629
A27: Ændring af likviditet ('POSITIVT TAL er lig med forbrug af likvider) ** inkl. korrektioner vedr. likviditetstræk | B27: ='Vedtaget budget i 2026'!B28 -> 148.147 | C27: =SUM(C23:C26) -> -209.89881 | D27: =SUM(D23:D26) -> 458.60546 | E27: =SUM(E23:E26) -> 101.59876 | F27: =SUM(F23:F26) -> 1.3566635
A28: + = udgift/underskud - = indtægt/overskud
B30: forventet kasse ult. 2026 | C30: forventet kasse ult.2027 | D30: forventet kasse ult. 2028 | E30: forventet kasse ult. 2029 | F30: forventet kasse ult. 2030
A31: Likviditet ultimo juni 2026 (608,406 mio. kr.) | B31: =608.406-B27-B34 -> 458.959 | C31: =B31-C27 -> 668.85781 | D31: =C31-D27 -> 210.25236 | E31: =D31-E27 -> 108.6536 | F31: =E31-F27 -> 107.29693 | I31: =C31 -> 668.85781 | J31: =D31 -> 210.25236 | K31: =E31 -> 108.6536 | L31: =F31 -> 107.29693 | N31: Kommunens gennemsnitslikviditet skal løbende ligge på mindst 100 mio. kr.
A32: OBS - udgangspunkt for kassen
A34: Korrektion af kasse - fremrykket vedr. FBC effekt i 2026 | B34: =IF(Finansieringsforslag!N137="x",-Finansieringsforslag!H137,0)/1000 -> 1.3
A37: NØGLETAL:
A38: Skatteprocent | B38: 25.6 | C38: 25.6 | D38: 25.6 | E38: 25.6 | F38: 25.6
A39: Grundskyldspromille *) - Produktionsjord | B39: 5.85 | C39: 5.85 | D39: 5.85 | E39: 5.85 | F39: 5.85
A40: Grundskyldspromille *) - Øvrige ejendomme | B40: 6.6 | C40: 6.6 | D40: 6.6 | E40: 6.6 | F40: 6.6
A41: Langfristet gæld - skattefinans. | B41: ='Vedtaget budget i 2026'!B35 -> 635.425 | C41: =B41-C24-C25 -> 603.743 | D41: =C41-D24-D25 -> 596.458 | E41: =D41-E24-E25 -> 575.997 | F41: =E41-F24-F25 -> 555.27
A42: Servicerammen (med pl - dvs i løbende priser) overslagsår beregnet | B42: 3090.856 | C42: 3189.65 | D42: =C42*(1+C63) -> 3275.7705 | E42: =C42*(1+D63) -> 3360.9406 | F42: =C42*(1+E63) -> 3455.0469 | N42: Vejledende ramme KL 2.7.2026
A43: Udgifter indenfor servicerammen (med pl - dvs i løbende priser) | C43: 3234.673 | D43: 3355.823 | E43: 3497.184 | F43: 3609.43 | N43: opus pr. 24.08.2026
A44: + = udgift/underskud - = indtægt/overskud
A45: *) fra 2024 omlægges beskatning for boligejere fra afgiftspligtige grundværdier til beskatning direkte på grundværdien for ejendomsejere. Grundskyldspromillen fastsættes ved lov.
A47: Servicebuffer - afstemning til vejledende ramme (+ = over serviceramme) | C47: =(C43-C42) -> 45.023 | D47: =(D43-D42) -> 80.05245 | E47: =(E43-E42) -> 136.24342 | F47: =(F43-F42) -> 154.38308
A50: Serviceudgifter, Finansieringsforslag | C50: =Finansieringsforslag!H11/1000-C55-C57 -> -70.763 | D50: =Finansieringsforslag!I11/1000-D55-D57 -> -62.104 | E50: =Finansieringsforslag!J11/1000-E55-E57 -> -64.404 | F50: =Finansieringsforslag!K11/1000-F55-F57 -> -61.279
A51: Serviceudgifter, Aktivitetsudvidelser og afledt drift | C51: =Aktivitetsudvidelser!F12/1000+'Afledt drift'!E12/1000-C56 -> 25.74 | D51: =Aktivitetsudvidelser!G12/1000+'Afledt drift'!F12/1000-D56 -> 29.501 | E51: =Aktivitetsudvidelser!H12/1000+'Afledt drift'!G12/1000-E56 -> 9.596 | F51: =Aktivitetsudvidelser!I12/1000+'Afledt drift'!H12/1000-F56 -> -14.241
A53: Servicerammeoverholdelse subtotal | C53: =C47+C50+C51 -> -3.2329694e-13
A55: Finansieringsforslag - indberettet og indgår i direktionens budgetoplæg | C55: =SUM(Finansieringsforslag!H165:H167)/1000 -> -19.721 | D55: =SUM(Finansieringsforslag!I165:I167)/1000 -> 0 | E55: =SUM(Finansieringsforslag!J165:J167)/1000 -> 0 | F55: =SUM(Finansieringsforslag!K165:K167)/1000 -> 0
A56: Aktivitetsudvidelser - indberettet og indgår i direktionens budgetoplæg | C56: =SUM(Aktivitetsudvidelser!F179:F188)/1000 -> 31.745 | D56: =SUM(Aktivitetsudvidelser!G179:G188)/1000 -> 52.32 | E56: =SUM(Aktivitetsudvidelser!H179:H188)/1000 -> 71.677 | F56: =SUM(Aktivitetsudvidelser!I179:I188)/1000 -> 74.31
A57: Overførselsudgifter FF og AU | C57: =IF(Finansieringsforslag!$N$172="x",Finansieringsforslag!H172/1000,0) -> 1.73 | D57: =IF(Finansieringsforslag!$N$172="x",Finansieringsforslag!I172/1000,0) -> 1.73 | E57: =IF(Finansieringsforslag!$N$172="x",Finansieringsforslag!J172/1000,0) -> 1.73 | F57: =IF(Finansieringsforslag!$N$172="x",Finansieringsforslag!K172/1000,0) -> 1.73
A59: Anlægsønsker afkrydset | C59: =Anlægsønsker!D116/1000+Anlægsønsker!D117/1000 -> 23.304541 | D59: =Anlægsønsker!E116/1000+Anlægsønsker!E117/1000 -> 64.017794 | E59: =Anlægsønsker!F116/1000+Anlægsønsker!F117/1000 -> 54.358552 | F59: =Anlægsønsker!G116/1000+Anlægsønsker!G117/1000 -> 31.482
C61: 2026/2027 | D61: 2026/2028 | E61: 2026/2029 | F61: 2026/2030
A63: PL-skøn Drift - juni 2026 | C63: =(1.027)-1 -> 0.027 | D63: =(1.027*1.026)-1 -> 0.053702 | E63: =(1.027*1.026*1.028)-1 -> 0.083205656 | F63: =(1.027*1.026*1.028*1.028)-1 -> 0.11353541
A64: PL-skøn Anlæg - juni 2026 | C64: =(1.018)-1 -> 0.018 | D64: =(1.018*1.018)-1 -> 0.036324 | E64: =(1.018*1.018*1.018)-1 -> 0.054977832 | F64: =(1.018*1.018*1.018*1.018)-1 -> 0.073967433
I83: x

Sheet Finansieringsforslag
B2: FINANSIERINGSFORSLAG. FORSLAG DER ER MARKERET MED X I HØJRE KOLONNE INDGÅR I BUDGETFORSLAGET
B5: - = mindreudgift/merindtægt + = merudgift/mindreindtægt
B6: Finansieringsforslag til budget
B9: - = mindreudgift/merindtægt + = merudgift/mindreindtægt
B10: 1.000 kr. | D10: obs | E10: Akt. | F10: Service | H10: =+'Budgetforslag 2027-2030'!C3 -> 2027 | I10: =H10+1 -> 2028 | J10: =I10+1 -> 2029 | K10: =J10+1 -> 2030 | L10: Områdets | N10: Godkendte
B11: Finansieringsforslag | H11: =SUMIF($N$12:$N$175,"x",H12:H175) -> -88754 | I11: =SUMIF($N$12:$N$175,"x",I12:I175) -> -60374 | J11: =SUMIF($N$12:$N$175,"x",J12:J175) -> -62674 | K11: =SUMIF($N$12:$N$175,"x",K12:K175) -> -59549 | L11: budget | N11: korrektioner
B12: Akt. 11, Administrationen
B14: 11FF2027-001 Indkøbsprovenu | E14: 11 | F14: 100 | H14: -800 | I14: -800 | J14: -800 | K14: -800 | L14: 1206400 | N14: x
B15: NY11FF2027-001 Indkøbsprovenu | E15: 11 | F15: 100 | H15: -500 | N15: x
B16: 11FF2027-002 Ydelsesstøtte og info-aktiviteter | E16: 11 | F16: 100 | H16: -225 | I16: -225 | J16: -225 | K16: -225 | L16: =1244-198 -> 1046 | N16: x
B17: 11FF2027-003 Systemudgifter | E17: 11 | F17: 100 | H17: -1000 | I17: -1000 | J17: -1000 | K17: -1000 | L17: =1106 -> 1106 | N17: x
B18: 11FF2027-004 Automatisering | E18: 11 | F18: 100 | H18: -800 | I18: -800 | J18: -800 | K18: -800 | L18: relevante lønsummer | N18: x
B19: NY11FF2027-004 Automatisering | E19: 11 | F19: 100 | H19: -200 | I19: -200 | J19: -200 | K19: -200 | N19: x
B20: 11FF2027-005 Opkrævningsgebyrer | E20: 11 | F20: 100 | H20: -100 | I20: -100 | J20: -100 | K20: -100 | L20: -993 | N20: x
B21: 11FF2027-006 Tjenestemandspensioner | E21: 11 | F21: 100 | H21: -1400 | I21: -1400 | J21: -1400 | K21: -1400 | L21: 21560 | N21: x
B22: NY11FF2027-006 Tjenestemandspensioner | E22: 11 | F22: 100 | H22: -400 | N22: x
B23: 11FF2027-007 Justering af pulje til tiltag i forbindelse med forsikringspolitikken | E23: 11 | F23: 100 | H23: -221 | I23: -221 | J23: -221 | K23: -221 | L23: 1021 | N23: x
B24: NY11FF2027-007 – Forsikringspulje. | E24: 11 | F24: 100 | H24: -150 | I24: -150 | J24: -150 | K24: -150 | N24: x
B25: 11FF2027-008 Justering af pulje til reparation af skader på biler | E25: 11 | F25: 100 | H25: -150 | I25: -150 | J25: -150 | K25: -150 | L25: 1846 | N25: x
B26: NY11FF2027-008 – reparation af bilskader | E26: 11 | F26: 100 | H26: -25 | I26: -25 | J26: -25 | K26: -25 | N26: x
B27: 11FF2027-009 Tilpasning af budget til generelt kontorhold | E27: 11 | F27: 100 | H27: -50 | I27: -50 | J27: -50 | K27: -50 | L27: 180 | N27: x
B28: 11FF2027-010 Begravelseshjælp, befordringsgodtgørelse og lægeerklæringer | E28: 11 | F28: 100 | H28: =-100-40 -> -140 | I28: =-100-40 -> -140 | J28: =-100-40 -> -140 | K28: =-100-40 -> -140 | L28: =1082+143+175 -> 1400 | N28: x
B29: 11FF2027-011 Administrativ lønreduktion - residual til senere udmøntning | E29: 11 | F29: 100 | H29: -533 | I29: -533 | J29: -533 | K29: -533 | L29: 281448 | N29: x
B30: 11FF2027-011 Administrativ lønreduktion - rammebesparelse i Familiesektionen – reduktion af rådgivere. | E30: 11 | F30: 100 | H30: -650 | I30: -650 | J30: -650 | K30: -650
B31: 11FF2027-011 Administrativ lønreduktion - klimaplanens indsats med virksomheder og boligejere om energibesparelser. | E31: 11 | F31: 100 | H31: -770 | I31: -770 | J31: -770 | K31: -770
B32: 11FF2027-011 Administrativ lønreduktion - tværgående hygiejneindsats | E32: 11 | F32: 100 | H32: -300 | I32: -300 | J32: -300 | K32: -300 | N32: x
B33: NY FF flytning af projektledelsesressourcer fra drift til anlæg (Ejendomme og By og Miljø) | E33: 11 | F33: 100 | H33: -6355 | I33: -3425 | J33: -3325 | K33: -200 | N33: x
B34: NYUspecificeret Rammebesparelse på alle aktivtetsområder og arbejdspladser 0,25 pct (1/400 del) - ex. dagtilbud | E34: 11 | F34: 100 | H34: =-8096+820 -> -7276 | I34: =-8096+820 -> -7276 | J34: =-8096+820 -> -7276 | K34: =-8096+820 -> -7276 | N34: x
B36: Akt. 12, Ejendomme
B37: 12FF2027-001 Renovering af kommunale bygninger | E37: 12 | F37: 100 | H37: -1502 | I37: -1502 | J37: -1502 | K37: -1502 | L37: 7655 | N37: x
B38: 12FF2027-002 Husleje, grunde og bygninger | E38: 12 | F38: 100 | H38: -1100 | I38: -1100 | J38: -1100 | K38: -1100 | L38: 40391 | N38: x
B39: NY12FF2027-002 – Husleje – yderligere | E39: 12 | F39: 100 | H39: -200 | I39: -200 | J39: -200 | K39: -200 | N39: x
B40: 12FF2027-003 Øvrige ejendomsudgifter | E40: 12 | F40: 100 | H40: -100 | I40: -100 | J40: -100 | K40: -100 | L40: 1391 | N40: x
B41: NY12FF2027-003 – Øvrige ejendomsudgifter. | E41: 12 | F41: 100 | H41: -25 | I41: -25 | J41: -25 | K41: -25 | N41: x
B42: NY12FF2027-003 – Øvrige ejendomsudgifter Udbedring af brandforhold | E42: 12 | F42: 100 | H42: -200 | I42: -200 | J42: -200 | K42: -200 | N42: x
B43: NY12FF2027-003 – Øvrige ejendomsudgifter Forbrugsudgifter - varme | E43: 12 | F43: 100 | H43: -150 | I43: -150 | J43: -150 | K43: -150 | N43: x
B44: NY12FF2027-003 – Øvrige ejendomsudgifter forbrugsudgifter - el | E44: 12 | F44: 100 | H44: -100 | I44: -100 | J44: -100 | K44: -100 | N44: x
B45: NY12FF2027-003 – Øvrige ejendomsudgifter forbrugsudgifter - vand | E45: 12 | F45: 100 | H45: -50 | I45: -50 | J45: -50 | K45: -50 | N45: x
B46: NY12FF2027-003 – Øvrige ejendomsudgifter Indvendig vedligehold af ejendomme - yderligere reduktion | E46: 12 | F46: 100 | H46: -228 | I46: -228 | J46: -228 | K46: -228 | N46: x
B47: NY Midlertidige pavilloner på Skolen ved Skoven – konvertering fra drift til anlæg i 2027 | E47: 12 | F47: 100 | H47: -500 | I47: 0 | J47: 0 | K47: 0 | N47: x
B49: Akt. 13, Rengøring - Bestiller
B50: 13FF2027-001 Affald, følere og forskudt tid | E50: 13 | F50: 100 | H50: -260 | I50: -260 | J50: -260 | K50: -260 | L50: 2195
B51: NY13FF2027-001 Affald og forskudt tid | E51: 13 | F51: 100 | H51: -190 | I51: -190 | J51: -190 | K51: -190 | L51: 2195 | N51: x
B52: 13FF2027-002 Hovedrengøring, skoler efter sommerferien | E52: 13 | F52: 100 | H52: -201 | I52: -201 | J52: -201 | K52: -201 | L52: 1508
B53: 13FF2027-003 Batteriskift og måtter | E53: 13 | F53: 100 | H53: -100 | I53: -100 | J53: -100 | K53: -100 | L53: 344 | N53: x
B54: 13FF2027-004 Sundhedscentret | E54: 13 | F54: 100 | H54: -70 | I54: -70 | J54: -70 | K54: -70 | L54: 70 | N54: x
B56: Akt. 21, Natur, Miljø og Klima
B57: 21FF2027-001 Reduceret drift af grønne arealer og færre affaldsspande | E57: 21 | F57: 100 | H57: -200 | I57: -200 | J57: -200 | K57: -200 | L57: 2600 | N57: x
B59: Akt. 23, Kirkegårde
B60: 23FF2027-001 Fjernelse af bænke | E60: 23 | F60: 100 | H60: -50 | I60: -50 | J60: -50 | K60: -50 | L60: 3397
B61: NY23FF2027-001 Fjernelse af bænke | E61: 23 | F61: 100 | H61: -27 | I61: -27 | J61: -27 | K61: -27 | N61: x
B63: Akt. 27, Ejendomme - Grøn drift
B64: ingen forslag
B66: Akt. 28, By og Miljø
B67: 28FF2027-001 Reduktion af drift på kommuneplan | E67: 28 | F67: 100 | H67: -16 | I67: -16 | J67: -16 | K67: -16 | L67: 459 | N67: x
B69: Akt. 31, Beskæftigelsesindsats
B70: 31FF2027-001 Reduktion i lønudgifter til borgere i kommunale løntilskud | E70: 31 | F70: 100 | H70: -50 | I70: -50 | J70: -50 | K70: -50 | L70: 733 | N70: x
B73: Akt. 32, Specialiseret voksenområde
B74: 32FF2027-001 Personalereduktioner på tilbuddene på det specialiserede voksenområde | E74: 32 | F74: 100 | H74: -869 | I74: -869 | J74: -869 | K74: -869 | L74: 117500 | N74: x
B75: 32FF2027-002 Rammebesparelse på den socialfaglige myndighed | E75: 32 | F75: 100 | H75: -3790 | I75: -3790 | J75: -3790 | K75: -3790 | L75: 323935 | N75: x
B76: 32FF2027-003 Hjemtagelse af borgere på klubtilbud til kommunens tilbud (investeringsforslag) – forudsætter vedtagelsen af 32AU2027-001 ”Videreudvikling af klubtilbuddet Oasen samt udvidelse af åbningstid” | E76: 32 | F76: 100 | H76: -1400 | I76: -1400 | J76: -1400 | K76: -1400 | L76: 3403 | N76: x
B77: 32FF2027-004 Udmøntning af analyse af særligt dyre enkeltsager | E77: 32 | F77: 100 | H77: -500 | I77: -500 | J77: -500 | K77: -500 | L77: 84000 | N77: x
B79: Akt. 33, Forsørgelsesydelser
B80: ingen forslag
B82: Akt. 34, Ældre
B83: 34FF2027-001 UDGÅR
B84: 34FF2027-001 A Plejehjem - Rammebesparelse | E84: 34 | F84: 100 | H84: -3018 | I84: -3018 | J84: -3018 | K84: -3018 | L84: 260931
B85: 34FF2027-001 B Plejehjem - yderligere rammebesparelse- ses i sammenhæng med 34FF2027-001A Plejehjem - Rammebesparelse | E85: 34 | F85: 100 | H85: -3018 | I85: -3018 | J85: -3018 | K85: -3018 | L85: 260931
B86: 34FF2027-002 Nedlæggelse af tilbuddet om at lette demente borgeres overgang til plejehjem | E86: 34 | F86: 100 | H86: -223 | I86: -210 | J86: -210 | K86: -210 | L86: 223 | N86: x
B87: NY34FF2027-099 Ændret disponering af ældrelovspulje | E87: 34 | F87: 100 | H87: -2000 | I87: -2000 | J87: -2000 | K87: -2000 | N87: x
B89: Akt. 35 Sundhed
B90: 35FF2027-001 Sparet drift ved at tre pladser på Rehabiliteringsafdelingen overtages af Region Østdanmark | E90: 35 | F90: 100 | H90: -3000 | I90: -3000 | J90: -3000 | K90: -3000 | L90: 3000 | N90: x
B93: Akt. 38, Erhverv og Uddannelse
B94: 38FF2027-001 Bortfald af støtte til C4 bygningsdrift | E94: 38 | F94: 100 | H94: -123 | I94: -123 | J94: -123 | K94: -123 | L94: 123 | N94: x
B95: 38FF2027-002 Reduktion af digitaliseringspuljen | E95: 38 | F95: 100 | H95: -188 | I95: -188 | J95: -188 | K95: -188 | L95: 4638 | N95: x
B96: NY38FF2027-002 Yderligere reduktion af Digitaliseringspulje | E96: 38 | F96: 100 | H96: -750 | I96: -500 | J96: -500 | K96: -500 | N96: x
B97: 38FF2027-003 UDGÅR | E97: 38 | F97: 100 | H97: 0 | I97: 0 | J97: 0 | K97: 0 | N97: x
B98: 38FF2027-004 Rammebesparelse på UUH svarende til 1,5 % | E98: 38 | F98: 100 | H98: -104 | I98: -104 | J98: -104 | K98: -104 | L98: 6907 | N98: x
B99: 38FF2027-005 Rammebesparelse på STU svarende til 1,5 % | E99: 38 | F99: 100 | H99: -300 | I99: -300 | J99: -300 | K99: -300 | L99: 11246 | N99: x
B101: Akt. 41, Dagtilbud børn
B102: 41FF2027-001 UDGÅR | E102: 41 | F102: 100 | H102: 0 | I102: 0 | J102: 0 | K102: 0 | L102: 9952
B103: 41FF2027-002 Ændring af uddannelsesmæssig sammensætning | E103: 41 | F103: 100 | H103: -4327 | I103: -4327 | J103: -4327 | K103: -4327 | L103: 272987
B105: Akt. 42, Skoler
B106: 42FF2027-001 Reduktion af rammebeløb til almenundervisning, ledelse og adm. 1.-9. klasse – Scenarie A | E106: 42 | F106: 100 | H106: -8093 | I106: -8093 | J106: -8093 | K106: -8093 | L106: 215000
B107: 42FF2027-001 Reduktion af rammebeløb til almenundervisning, ledelse og adm. 1.-9. klasse – Scenarie B | E107: 42 | F107: 100 | H107: -6217.75 | I107: -6217.75 | J107: -6217.75 | K107: -6217.75 | L107: 215000
B108: 42FF2027-001 Reduktion af rammebeløb til almenundervisning, ledelse og adm. 1.-9. klasse – Scenarie C | E108: 42 | F108: 100 | H108: -4342.5 | I108: -4342.5 | J108: -4342.5 | K108: -4342.5 | L108: 215000
B109: NYFF2027-999 Reduktion af almen undervisning | E109: 42 | F109: 100 | H109: -1667 | I109: -2550 | J109: -2550 | K109: -2550 | N109: x
B110: NYFF2027-999 Reduktion af specialundervisning | E110: 42 | F110: 100 | H110: -4000 | I110: -4000 | J110: -4000 | K110: -4000 | N110: x
B111: 42FF2027-002 Besparelse som følge af at tilbyde andre skoletilbud til elever i behandlings- og specialundervisningstilbud, som ikke opnår trivsel og udvikler sig i deres specialiserede tilbud - skal ses sammen med 42AU2027-005 - EFFEKT på akt.omr. 42 | E111: 42 | F111: 100 | H111: -300 | I111: -700 | J111: -700 | K111: -700 | L111: 128200 | N111: x
B112: 42FF2027-002 Besparelse som følge af at tilbyde andre skoletilbud til elever i behandlings- og specialundervisningstilbud, som ikke opnår trivsel og udvikler sig i deres specialiserede tilbud - skal ses sammen med 42AU2027-005 - EFFEKT på akt.omr. 44 | E112: 44 | F112: 100 | H112: -300 | I112: -900 | J112: -900 | K112: -900 | L112: 18300 | N112: x
B113: 42FF2027-003 Tilpasning af den økonomiske ramme for Kompetencecenter Grønnevang | E113: 42 | F113: 100 | H113: -500 | I113: -500 | J113: -500 | K113: -500 | L113: 25300 | N113: x
B114: NY42FF2027-003 om KCG kan hæves med 500.000 kr., så den samlet er 1 mio. | E114: 42 | F114: 100 | H114: -500 | I114: -500 | J114: -500 | K114: -500 | N114: x
B115: 42FF2027-004 Tilpasning af den økonomiske ramme for Kompetencecenter Vest | E115: 42 | F115: 100 | H115: -1000 | I115: -1000 | J115: -1000 | K115: -1000 | L115: 23800 | N115: x
B116: 42FF2027-005 Rammebesparelse på takstfinansierede specialskoletilbud på 1,5 % | E116: 42 | F116: 100 | H116: -928 | I116: -928 | J116: -928 | K116: -928 | L116: 86900
B117: 42FF2027-006 Reduktion af kørselsudgifter | E117: 42 | F117: 100 | H117: -500 | I117: -500 | J117: -500 | K117: -500 | L117: 15100 | N117: x
B118: NY42FF2027-006 om kørsel kan hæves med 250.000 kr. til samlet 750.000 | E118: 42 | F118: 100 | H118: -250 | I118: -250 | J118: -250 | K118: -250 | N118: x
B121: Akt. 43, Kriminalpræventive- og boligsociale aktiviteter
B122: 43FF2027-001 Reduktion i Basen og SSP | E122: 43 | F122: 100 | H122: -72 | I122: -72 | J122: -72 | K122: -72 | L122: =4757 -> 4757
B123: 43FF2027-002 Reduktion i pulje til boligsociale aktiviter( ikke aftalebundne midler) | E123: 43 | F123: 100 | H123: -40 | I123: -40 | J123: -40 | K123: -40 | L123: 459
B126: Akt. 44 Familier
...

Sheet Aktivitetsudvidelser
B2: AKTIVITETSUDVIDELSER. ØNSKER DER ER MARKERET MED X I HØJRE KOLONNE INDGÅR I BUDGETFORSLAGET
B5: - = mindreudgift/merindtægt + = merudgift/mindreindtægt
B7: Aktivitetsudvidelser
B10: - = mindreudgift/merindtægt + = merudgift/mindreindtægt
B11: 1.000 kr. | C11: obs | D11: Akt. | E11: Service | F11: =+'Budgetforslag 2027-2030'!C3 -> 2027 | G11: =+F11+1 -> 2028 | H11: =+G11+1 -> 2029 | I11: =+H11+1 -> 2030 | J11: Områdets | L11: Godkendte | M11: Godkendt til
B12: Aktivitetsudvidelser | F12: =SUMIF($L14:$L189,"x",F14:F189)-SUMIF($L$175,"x",F175) -> 58892 | G12: =SUMIF($L14:$L189,"x",G14:G189)-SUMIF($L$175,"x",G175) -> 82886 | H12: =SUMIF($L14:$L189,"x",H14:H189)-SUMIF($L$175,"x",H175) -> 80577 | I12: =SUMIF($L14:$L189,"x",I14:I189)-SUMIF($L$175,"x",I175) -> 59984 | J12: budget | L12: korrektioner | M12: 1. behandling
B15: Akt. 11, Administration
B16: 11AU2027-001 Opfølgning på ILO-konvention nr. 94 i Hillerød Kommunes kontrakter | D16: 11 | E16: 100 | F16: 175 | G16: 175 | H16: 175 | I16: 175 | J16: 0 | L16: x
B17: 11AU2027-002 Omdannelse af Hillerød Hospital | D17: 11 | E17: 100 | F17: 1155 | G17: 1155 | H17: 1155 | I17: 1155 | J17: 8857
B18: 11AU2027-002 Omdannelse af Hillerød Hospital | D18: 28 | E18: 100 | F18: 200 | G18: 200 | H18: 200 | I18: 200 | J18: 1179
B19: 11AU2027-003 Projektledelse af opgaver knyttet til Arresø Treparten | D19: 11 | E19: 100 | F19: 257 | G19: 257 | H19: 257 | I19: 257 | J19: 17052
B20: 11AU2027-004 Strategi og handleplan for cirkularitet i kommunens bygninger | D20: 11 | E20: 100 | F20: 750 | G20: 750 | H20: 750 | I20: 0 | J20: 24439
B21: 11AU2027-005 Ekstra ressource til teknik – og vedligeholdelsesteam | D21: 11 | E21: 100 | F21: 800 | G21: 800 | H21: 800 | I21: 800 | J21: 24439
B22: 11AU2027-006 Øge procent fra 3% til 4% til lønsum fra anlægsprojekter | D22: 11 | E22: A | F22: 2500 | G22: 2500 | H22: 2500 | I22: 2500 | J22: 24439
B23: NY11AU2027-006 Øge procent fra 3% til 4% til lønsum fra anlægsprojekter - halv effekt | D23: 11 | E23: A | F23: 625 | G23: =G22/2 -> 1250 | H23: =H22/2 -> 1250 | I23: =I22/2 -> 1250 | J23: 24439
B24: 11AU2027-007 Beredskab – krav undersøgelse af tilstanden af sikringsrum | D24: 11 | E24: 100 | F24: 385 | G24: 385 | H24: 0 | I24: 0 | J24: 8469
B25: 11AU2027-007 Beredskab – krav undersøgelse af tilstanden af sikringsrum | D25: 28 | E25: 100 | F25: 215 | G25: 215 | H25: 0 | I25: 0 | J25: 0
B26: 11AU2027-008 Byggesagsbehandling – kortere sagsbehandlingstider | D26: 11 | E26: 100 | F26: 770 | G26: 770 | H26: 770 | I26: 770 | J26: 8469 | L26: x
B27: 11AU2027-008 Byggesagsbehandling – kortere sagsbehandlingstider - takstindtægt | D27: 28 | E27: 100 | F27: -100 | G27: -100 | H27: -100 | I27: -100 | J27: -1395 | L27: x
B28: 11AU2027-009 Grøn trepart - Realisering af Hillerød Kommunes Omlægningsplan | D28: 11 | E28: 100 | F28: 3080 | G28: 3080 | H28: 3080 | I28: 3080 | J28: 17716
B29: 11AU2027-009 Grøn trepart - Realisering af Hillerød Kommunes Omlægningsplan | D29: 21 | E29: 100 | F29: 2000 | G29: 2000 | H29: 2000 | I29: 2000 | J29: 13453
B30: NY11AU2027-009 Grøn trepart og Arresø Trepart - Realisering af Hillerød Kommunes Omlægningsplan | D30: 11 | E30: 100 | F30: 3080 | G30: 3080 | H30: 3080 | I30: 3080 | L30: x
B31: NY11AU2027-009 Grøn trepart og Arresø Trepart - Realisering af Hillerød Kommunes Omlægningsplan | D31: 21 | E31: 100 | F31: 2000 | G31: 2000 | H31: 2000 | I31: 2000 | L31: x
B32: NY11AU2027-009 Grøn trepart - Realisering af Hillerød Kommunes Omlægningsplan | D32: 11 | E32: 100 | F32: =F28*0.75 -> 2310 | G32: 3080 | H32: 3080 | I32: 3080 | J32: 17716
B33: NY11AU2027-009 Grøn trepart - Realisering af Hillerød Kommunes Omlægningsplan | D33: 21 | E33: 100 | F33: =F29*0.75 -> 1500 | G33: 2000 | H33: 2000 | I33: 2000 | J33: 13453
B34: 11AU2027-010 Resurser til lokalplanlægning | D34: 11 | E34: 100 | F34: 1540 | G34: 1540 | H34: 1540 | I34: 1540 | J34: 8857
B35: NY11AU2027-010 Øgede ressourcer til lokalplanlægning, herunder omdannelse af Hillerød Hospital og Hillerød Stadion | D35: 11 | E35: 100 | F35: =0.82*G35 -> 2460 | G35: 3000 | H35: 3000 | I35: 3000 | J35: 8857 | L35: x
B36: NY11AU2027-010 Øgede ressourcer til lokalplanlægning, herunder omdannelse af Hillerød Hospital og Hillerød Stadion | D36: 28 | E36: 100 | F36: =0.82*G36 -> 164 | G36: 200 | H36: 200 | I36: 200 | L36: x
B37: 11AU2027-011 Drikkevandsforsyning – reduktion af venteliste | D37: 11 | E37: 100 | F37: 770 | G37: 770 | H37: 770 | I37: 770 | J37: 17716 | L37: x
B38: 11AU2027-011 Drikkevandsforsyning – reduktion af venteliste | D38: 21 | E38: 100 | F38: 500 | G38: 500 | H38: 500 | I38: 500 | J38: 1899 | L38: x
B39: 11AU2027-012 Indførelse af social ansvarlighedsmærkning | D39: 11 | E39: 100 | F39: 330 | G39: 330 | H39: 330 | I39: 330 | J39: 13910
B40: 11AU2027-013 Natur på kommunale arealer | D40: 11 | E40: 100 | F40: 385 | G40: 385 | H40: 385 | I40: 385 | J40: 17716
B41: 11AU2027-013 Natur på kommunale arealer indtægter | D41: 12 | E41: 100 | G41: 302 | H41: 302 | I41: 302
B42: 11AU2027-014 Øget sortiment af hjælpemidler og åbningstid i Kvikkassen | D42: 11 | E42: 100 | F42: 700 | G42: 700 | H42: 0 | I42: 0 | J42: 16286
B43: 11AU2027-015 Programledelse og ekstern finansiering til større byggeprojekter | D43: 11 | E43: 100 | F43: 790 | G43: 790 | H43: 790 | I43: 790 | J43: 6678 | L43: x
B44: 11AU2027-016 Midler til foreningen Jordnær, ekstern rådgiver | D44: 11 | E44: 100 | F44: 150 | G44: 0 | H44: 0 | I44: 0 | J44: 0
B45: 11AU2027-017 Dyrevelfærd, scenarie A udelukker Scenarie B Cafeladen | D45: 11 | E45: 100 | F45: 130 | G45: 130 | H45: 130 | I45: 130
B46: 11AU2027-017 Dyrevelfærd, scenarie A udelukker Scenarie B Det specialiserede voksenområde | D46: 32 | E46: 100 | F46: 108 | G46: 108 | H46: 108 | I46: 108
B47: 11AU2027-017 Dyrevelfærd, scenarie A udelukker Scenarie B Ældre | D47: 34 | E47: 100 | F47: 57 | G47: 57 | H47: 57 | I47: 57
B48: 11AU2027-017 Dyrevelfærd, scenarie A udelukker Scenarie B Dagtilbud | D48: 41 | E48: 100 | F48: 556 | G48: 556 | H48: 556 | I48: 556
B49: 11AU2027-017 Dyrevelfærd, scenarie A udelukker Scenarie B Skoler | D49: 42 | E49: 100 | F49: 47 | G49: 47 | H49: 47 | I49: 47
B50: 11AU2027-017 Dyrevelfærd, scenarie A udelukker Scenarie B Familie og Sundhed | D50: 44 | E50: 100 | F50: 5 | G50: 5 | H50: 5 | I50: 5
B51: 11AU2027-017 Dyrevelfærd, scenarie B udelukker Scenarie A Cafeladen | D51: 11 | E51: 100 | F51: 199 | G51: 199 | H51: 199 | I51: 199
B52: 11AU2027-017 Dyrevelfærd, scenarie B udelukker Scenarie A Det specialiserede voksenområde | D52: 32 | E52: 100 | F52: 145 | G52: 145 | H52: 145 | I52: 145
B53: 11AU2027-017 Dyrevelfærd, scenarie B udelukker Scenarie A Ældre | D53: 34 | E53: 100 | F53: 90 | G53: 90 | H53: 90 | I53: 90
B54: 11AU2027-017 Dyrevelfærd, scenarie B udelukker Scenarie A Dagtilbud | D54: 41 | E54: 100 | F54: 826 | G54: 826 | H54: 826 | I54: 826
B55: 11AU2027-017 Dyrevelfærd, scenarie B udelukker Scenarie A Skoler | D55: 42 | E55: 100 | F55: 78 | G55: 78 | H55: 78 | I55: 78
B56: 11AU2027-017 Dyrevelfærd, scenarie B udelukker Scenarie A Familie og Sundhed | D56: 44 | E56: 100 | F56: 8 | G56: 8 | H56: 8 | I56: 8
B57: 11AU2027-018 Fortsættelse af Friby-ordningen | D57: 11 | E57: 100 | G57: 365 | H57: 325
B59: Akt. 12, Ejendomme
B60: 12AU2027-001 Snerydning på kunstgræsbanerne i Skævinge og Brødeskov | D60: 12 | E60: 100 | F60: 40 | G60: 40 | H60: 40 | I60: 40 | J60: 8225 | L60: x
B61: 12AU2027-002 Ny kunst-klimalegeplads ved Hillerød bibliotek og Kulturaksen – drifts- og vedligeholdelsesudgifter | D61: 12 | E61: 100 | F61: 0 | G61: 20 | H61: 20 | I61: 20 | J61: 8225 | L61: x
B62: 12AU2027-003 Fejning institutioner | D62: 12 | E62: 100 | F62: 230 | G62: 230 | H62: 230 | I62: 230 | J62: 8225
B63: 12AU2027-004 Arealer der skal holdes byg- og salgbare | D63: 12 | E63: 100 | F63: 150 | G63: 100 | H63: 100 | I63: 100 | J63: 8225
B64: 12AU2027-005 Vagtordning på Hillerød Bibliotekerne | D64: 12 | E64: 100 | F64: 240 | G64: 240 | H64: 240 | I64: 240 | J64: 0 | L64: x
B65: 12AU2027-006 Genindførelse af vagt på Rådhuset om onsdagen | D65: 12 | E65: 100 | F65: 133 | G65: 133 | H65: 133 | I65: 133 | J65: 554
B67: Akt. 13, Rengøring - Bestiller
B68: 13AU2027-001 Øget rengøring i GrønnegadeCentret | D68: 13 | E68: 100 | F68: 90 | G68: 90 | H68: 90 | I68: 90 | J68: 140
B69: 13AU2027-002 Øget rengøring Kulturaksen | D69: 13 | E69: 100 | F69: 345 | G69: 345 | H69: 345 | I69: 345 | J69: =1214+327+166 -> 1707
B70: 13AU2027-003 Øget rengøring på skoler | D70: 13 | E70: 100 | F70: 975 | G70: 975 | H70: 975 | I70: 975 | J70: 21985
B71: 13AU2027-004 Åbning af haller i ferieperioder Forslag 1 udelukker Forslag 2 | D71: 13 | E71: 100 | F71: 163 | G71: 163 | H71: 163 | I71: 163
B72: 13AU2027-004 Åbning af haller i ferieperioder Forslag 1 udelukker Forslag 2 | D72: 12 | E72: 100
B73: 13AU2027-004 Åbning af haller i ferieperioder Forslag 1 udelukker Forslag 2 | D73: 11 | E73: 100 | F73: 21 | G73: 21 | H73: 21 | I73: 21
B74: 13AU2027-004 Åbning af haller i ferieperioder Forslag 2 udelukker Forslag 1 | D74: 13 | E74: 100 | F74: 307 | G74: 307 | H74: 307 | I74: 307
B75: 13AU2027-004 Åbning af haller i ferieperioder Forslag 2 udelukker Forslag 1 | D75: 12 | E75: 100
B76: 13AU2027-004 Åbning af haller i ferieperioder Forslag 2 udelukker Forslag 1 | D76: 11 | E76: 100 | F76: 21 | G76: 21 | H76: 21 | I76: 21
B77: NY13AU2027-004 Åbning af haller i ferieperioder Forslag 3, ramme | D77: 13 | E77: 100 | F77: 100 | G77: 100 | H77: 100 | I77: 100 | L77: x
B78: NY13AU2027-004 Åbning af haller i ferieperioder Forslag 3, ramme | D78: 12 | E78: 100 | L78: x
B79: NY13AU2027-004 Åbning af haller i ferieperioder Forslag 3, ramme | D79: 11 | E79: 100 | F79: 21 | G79: 21 | H79: 21 | I79: 21 | L79: x
B81: Akt. 21, Natur, Miljø og Klima
B82: 21AU2027-001 Spildevand - ny lovgivning | D82: 21 | E82: 100 | F82: 400 | G82: 400 | H82: 400 | I82: 400 | J82: 13453 | L82: x
B83: 21AU2027-001 Spildevand - ny lovgivning | D83: 11 | E83: 100 | F83: 385 | G83: 385 | H83: 385 | I83: 385 | J83: 17716 | L83: x
B84: 21AU2027-002 Implementering af ny spildevandsplan | D84: 21 | E84: 100 | F84: 400 | G84: 400 | H84: 400 | I84: 400 | J84: 13453
B85: 21AU2027-002 Implementering af ny spildevandsplan | D85: 11 | E85: 100 | F85: 385 | G85: 385 | H85: 385 | I85: 385 | J85: 17716
B86: 21AU2027-003 Spildevand - reduktion af sagsbehandlingstid | D86: 21 | E86: 100 | F86: 500 | G86: 500 | H86: 0 | I86: 0 | J86: 13453
B87: 21AU2027-004 Natur på kommunale arealer Udgår/Erstattes af 11AU2027-013 | D87: 21 | E87: 100
B90: Akt. 23, Kirkegårde
B91: ingen forslag
B93: Akt. 27, Ejendomme - Grøn drift
B94: ingen forslag
B97: Akt. 28, By og Miljø
B98: ingen forslag
B101: Akt. 32, Specialierseret voksenområde
B102: 32AU2027-001 Videreudvikling af klubtilbuddet Oasen samt udvidelse af åbningstid (investeringsforslag). Forudsætning for vedtagelse af 32FF2027-003 – ”Hjemtagelse af borgere på klubtilbud til kommunens tilbud” | D102: 32 | E102: 100 | F102: 900 | G102: 900 | H102: 900 | I102: 900 | J102: 3403 | L102: x
B104: Akt 31, Beskæftigelsesindsats
B105: AMU
B107: Akt. 33, Forsørgelsesydelser
B108: ingen forslag
B111: Akt. 34, Ældre
B112: 34AU2027-001 Styrket vejlederindsats som svar på fremtidens rekrutteringsudfordringer - udgået | D112: 34 | E112: 100 | J112: 28084
B113: 34AU2027-001 A - Styrket vejlederindsats som svar på fremtidens rekrutteringsudfordringer scenarie 1 - Anbefalet | D113: 34 | E113: 100 | F113: 2346 | G113: 2346 | H113: 2346 | I113: 2346 | J113: 28084
B114: 34AU2027-001 B - Styrket vejlederindsats som svar på fremtidens rekrutteringsudfordringer | D114: 34 | E114: 100 | F114: 1866 | G114: 1866 | H114: 1866 | I114: 1866 | J114: 28084
B115: 34AU2027-001 C - Styrket vejlederindsats som svar på fremtidens rekrutteringsudfordringer - Hjemmeplejen | D115: 34 | E115: 100 | F115: 1135 | G115: 1135 | H115: 1135 | I115: 1135 | J115: 28084 | L115: x
B116: 34AU2027-002 Demenshandleplan | D116: 34 | E116: 100 | F116: 568 | G116: 568 | H116: 568 | I116: 568
B117: 34AU2027-003 Skævinge Aktivitetscenter - fast årligt tilskud | D117: 34 | E117: 100 | F117: 40 | G117: 40 | H117: 40 | I117: 40 | J117: 0 | L117: x
B118: 34AU2027-004 Hjælpemiddeldepot | D118: 34 | E118: 100 | F118: 615 | G118: 615 | H118: 615 | I118: 771 | J118: 4560 | L118: x
B120: Akt. 35, Sundhed,
B121: 35AU2027-001 Øget aktivitet på træningsområdet | D121: 35 | E121: 100 | F121: 1400 | G121: 1400 | H121: 1400 | I121: 1400 | J121: 45658
B123: Akt. 38, Erhverv og Uddannelse
B124: 38AU2027-001 ”Unge i praksis” - et uddannelses- og erhvervsrettet forløb for elever i 7. klasse | D124: 38 | E124: 100 | F124: 100 | G124: 100 | H124: 100 | I124: 100 | J124: 6907 | L124: x
...

Sheet Anlægsønsker
A2: ANLÆG
A4: - = mindreudgift/merindtægt + = merudgift/mindreindtægt
A6: Anlægskorrektioner til budget
A7: =NOW() -> 46283.025
A9: - = mindreudgift/merindtægt + = merudgift/mindreindtægt
A10: i 1000 kr. | D10: =+'Budgetforslag 2027-2030'!C3 -> 2027 | E10: =+D10+1 -> 2028 | F10: =+E10+1 -> 2029 | G10: =+F10+1 -> 2030
A11: Vedtaget anlægsbudget, oktober 2025 | D11: ='Vedtaget budget i 2026'!C16*1000 -> 541546 | E11: ='Vedtaget budget i 2026'!D16*1000 -> 278807 | F11: ='Vedtaget budget i 2026'!E16*1000 -> 242382 | G11: ='Vedtaget budget i 2026'!F16*1000 -> 0
A14: Forslag til anlægsbudget 2026-2029 - Bruttoanlægsudgifter | C14: A | D14: =SUMIFS(D20:D115,$I20:$I115,"x",$C20:$C115,"A") -> 164998.64 | E14: =SUMIFS(E20:E115,$I20:$I115,"x",$C20:$C115,"A") -> 636026.22 | F14: =SUMIFS(F20:F115,$I20:$I115,"x",$C20:$C115,"A") -> 259049.08 | G14: =SUMIFS(G20:G115,$I20:$I115,"x",$C20:$C115,"A") -> 198834.8 | I14: Godkendte | J14: Godkendt til
A15: Forslag til anlægsbudget 2026-2029 - Bruttoanlægsindtægter | C15: I | D15: =SUMIFS(D20:D115,$I20:$I115,"x",$C20:$C115,"I") -> -10800 | E15: =SUMIFS(E20:E115,$I20:$I115,"x",$C20:$C115,"I") -> -3500 | F15: =SUMIFS(F20:F115,$I20:$I115,"x",$C20:$C115,"I") -> -10500 | G15: =SUMIFS(G20:G115,$I20:$I115,"x",$C20:$C115,"I") -> 0 | I15: korrektioner
A17: ANLÆG DER ER MARKERET MED X I HØJRE KOLONNE INDGÅR I DEN VEDTAGNE ANLÆGSPLAN
J18: 1. behandling
A19: Kolonne1 | B19: Kolonne2 | C19: Kolonne4 | D19: Kolonne6 | E19: Kolonne7 | F19: Kolonne8 | G19: Kolonne9 | H19: Kolonne10 | I19: Kolonne11 | J19: Kolonne12 | K19: Kolonne13 | L19: Kolonne132 | M19: Kolonne133 | N19: Kolonne134 | O19: Kolonne135 | P19: Kolonne136 | Q19: Kolonne137 | R19: Kolonne138 | S19: Kolonne139
A21: Jordforsyning
A22: XA-0000000203 | B22: Generationernes Kvarter, byggemodning | C22: A | D22: 1516 | E22: 14153 | F22: 0 | G22: 0
A23: XA-0000000203 | B23: Generationernes Kvarter, byggemodning | C23: A | D23: =1516-1000 -> 516 | E23: =14153+1000 -> 15153 | F23: 0 | G23: 0 | I23: x | M23: Profil i direktionens forslag
A24: XA-0000000208 | B24: Ullerød Nord - Infrastruktur og byggemodning | C24: A | D24: 885 | E24: 0 | F24: 0 | G24: 0 | I24: x
A25: XA-0000000238 | B25: Favrholm Syd, arkæologiske udgravninger | C25: A | D25: 1067 | E25: 0 | F25: 0 | G25: 0 | I25: x
A26: XA-0000000238 | B26: Favrholm Syd, arkæologiske udgravninger | C26: I | D26: 0 | E26: 0 | F26: -10500 | G26: 0 | I26: x
A27: XA-0000000242 | B27: Salg af Petras Hus, Hulvejen 31 | C27: A | D27: 125 | E27: 0 | F27: 0 | G27: 0 | I27: x
A28: XA-0000000242 | B28: Salg af Petras Hus, Hulvejen 31 | C28: I | D28: -4400 | E28: 0 | F28: 0 | G28: 0 | I28: x
A29: XA-0000000303 | B29: Favrholm, byggemodning til erhverv, Favrholm alle | C29: A | D29: 6138 | E29: 0 | F29: 0 | G29: 0
A30: XA-0000000303 | B30: Favrholm, byggemodning til erhverv, Favrholm alle | C30: A | D30: =6138-5000 -> 1138 | E30: =0+5000 -> 5000 | F30: 0 | G30: 0 | I30: x | M30: Profil i direktionens forslag
A31: Faste ejendomme
A32: XA-0000001048 | B32: Favrholm, Generationernes Kvartershus | C32: A | D32: 723 | E32: 17403.573 | F32: 29156.783 | G32: 87651.305 | I32: x
A33: XA-0000001054 | B33: Vedligeholdelse af bygninger | C33: A | D33: 152 | E33: 0 | F33: 0 | G33: 0 | I33: x | M33: Flyttet fra drift til anlæg
A34: XA-0000001057 | B34: Energibesparende foranstaltninger 2027 | C34: A | D34: 7923 | E34: 17924 | F34: 12924 | G34: 12925
A35: XA-0000001057 | B35: Energibesparende foranstaltninger 2027 | C35: A | D35: =7923-7423 -> 500 | E35: =17924+7423 -> 25347 | F35: 12924 | G35: 12925 | I35: x | M35: Profil i direktionens forslag
A36: XA-0000001061 | B36: Genopretning af bygninger 2028 | C36: A | D36: 0 | E36: 3198 | F36: 3200 | G36: 3199 | I36: x
A37: XA-0000001064 | B37: Returvandstemperatur, tiltag for at mindske strafafgift | C37: A | D37: 0 | E37: 781 | F37: 0 | G37: 0 | I37: x
A38: XA-0000001068 | B38: Tilgængelighedsindsats 2026-2029 | C38: A | D38: 199 | E38: 818 | F38: 508 | G38: 0 | I38: x
A39: XA-0000001302 | B39: Trollesbro, udskiftning af tag | C39: A | D39: 7161 | E39: 10029 | F39: 0 | G39: 0
A40: XA-0000001302 | B40: Trollesbro, udskiftning af tag | C40: A | D40: =7161-6861 -> 300 | E40: =10029+6862 -> 16891 | F40: 0 | G40: 0 | I40: x | M40: Profil i direktionens forslag
A41: Fritidsfaciliteter
A42: XA-0000003132 | B42: Kunstgræsbane i Hillerød Øst | C42: A | D42: 0 | E42: 0 | F42: 232.893 | G42: 114.437 | I42: x
A43: XA-0000003134 | B43: Hillerød Stadion, løbelys og minibane | C43: A | D43: 0 | E43: 0 | F43: 913.27 | G43: 0 | I43: x
A44: XA-0000003136 | B44: Hillerød Svømmehal rep. inkl. hydraulik | C44: A | D44: 9153.035 | E44: 0 | F44: 0 | G44: 0 | I44: x
A45: XA-0000003139 | B45: Renovering af Hillerød Stadion K1 | C45: A | D45: 2697 | E45: 0 | F45: 0 | G45: 0 | I45: x
A46: Vandløbsvæsen
A47: XA-0000007108 | B47: Kritiske vandløbsstrækninger, opretning 2027-2029 | C47: A | D47: 610.202 | E47: 406.802 | F47: 406.801 | G47: 0 | I47: x
A48: Kommunale veje | J48: x
A49: XA-0000022200 | B49: Infrastruktur i Favrholm | C49: A | D49: 12215 | E49: 14973 | F49: 0 | G49: 0
A50: XA-0000022200 | B50: Infrastruktur i Favrholm | C50: A | D50: =12215-10000 -> 2215 | E50: =14973+10000 -> 24973 | F50: 0 | G50: 0 | I50: x | M50: Profil i direktionens forslag
A51: XA-0000022202 | B51: Favrholm, to signalkryds på Overdrevsvejen | C51: A | D51: 0 | E51: 0 | F51: 3071.352 | G51: 0 | I51: x
A52: XA-0000022213 | B52: Favrholm, Pøleå sti til Milnersvej | C52: A | D52: 11436.391 | E52: 0 | F52: 0 | G52: 0
A53: XA-0000022213 | B53: Favrholm, Pøleå sti til Milnersvej | C53: A | D53: =11436.391-11000 -> 436.391 | E53: =0+11000 -> 11000 | F53: 0 | G53: 0 | I53: x | M53: Profil i direktionens forslag
A54: XA-0000022219 | B54: Cykelinfrastruktur, pulje | C54: A | D54: 7490.192 | E54: 0 | F54: 0 | G54: 0
A55: XA-0000022219 | B55: Cykelinfrastruktur, pulje | C55: A | D55: =7490.192-7000 -> 490.192 | E55: =0+7000 -> 7000 | F55: 0 | G55: 0 | I55: x | M55: Profil i direktionens forslag
A56: XA-0000022220 | B56: Cykelinfrastruktur, Frederiksværksgade/Slotsgade | C56: A | D56: 110 | E56: 0 | F56: 0 | G56: 0 | I56: x
A57: XA-0000022221 | B57: Cykelinfrastruktur, Brødeskovvej | C57: A | D57: 11204 | E57: 0 | F57: 0 | G57: 0
A58: XA-0000022221 | B58: Cykelinfrastruktur, Brødeskovvej | C58: A | D58: =11204-5000 -> 6204 | E58: =0+5000 -> 5000 | F58: 0 | G58: 0 | I58: x | M58: Profil i direktionens forslag
A59: XA-0000022227 | B59: Cykelsti Peder Oxes Alle, Kjeldsvangkilen | C59: A | D59: 6648 | E59: 3025.951 | F59: 0 | G59: 0 | I59: x
A60: XA-0000022227 | B60: Cykelsti Peder Oxes Alle, Kjeldsvangkilen | C60: I | D60: -3300 | E60: -2100 | F60: 0 | G60: 0 | I60: x
A61: XA-0000022228 | B61: Cykelløsninger i åbent land | C61: A | D61: 0 | E61: 500 | F61: 0 | G61: 0 | I61: x
A62: XA-0000022229 | B62: Cykellandeveje | C62: A | D62: 1002.948 | E62: 0 | F62: 0 | G62: 0
A63: XA-0000022229 | B63: Cykellandeveje | C63: A | D63: =1002.948-1000 -> 2.948 | E63: =0+1000 -> 1000 | F63: 0 | G63: 0 | I63: x | M63: Profil i direktionens forslag
A64: XA-0000022230 | B64: Cykelsti langs Frederiksværksgade | C64: A | D64: 2969 | E64: 2942 | F64: 0 | G64: 0 | I64: x
A65: XA-0000022231 | B65: Stil til Enebakken | C65: A | D65: 702.063 | E65: 0 | F65: 0 | G65: 0 | I65: x
A66: XA-0000022343 | B66: Markedspladsen, busparkering og trafikafvikling | C66: A | D66: 0 | E66: 0 | F66: 3808.68 | G66: 3641.113 | I66: x
A67: XA-0000022345 | B67: Øget fremkommelighed på det overordnede vejnet | C67: A | D67: 2338 | E67: 0 | F67: 0 | G67: 0
A68: XA-0000022345 | B68: Øget fremkommelighed på det overordnede vejnet | C68: A | D68: =2338-2000 -> 338 | E68: =0+2000 -> 2000 | F68: 0 | G68: 0 | I68: x | M68: Profil i direktionens forslag
A69: XA-0000022372 | B69: Brødeskovvej, cykelstirabat | C69: A | D69: 691.602 | E69: 2688 | F69: 0 | G69: 0 | I69: x
A70: XA-0000022374 | B70: Vejbelysning, energirenovering 2024-2026 | C70: A | D70: 29 | E70: 2141.81 | F70: 2141.81 | G70: 0 | I70: x
A71: XA-0000022377 | B71: Vejafvanding, renovering af stikledninger og brønd | C71: A | D71: 3051.012 | E71: 3052 | F71: 3051.012 | G71: 0
A72: XA-0000022377 | B72: Vejafvanding, renovering af stikledninger og brønd | C72: A | D72: =3051.012-2500 -> 551.012 | E72: =3052+2500 -> 5552 | F72: 3051.012 | G72: 0 | I72: x | M72: Profil i direktionens forslag
A73: XA-0000022378 | B73: Mobilitetsplan mod trængsel | C73: A | D73: 517 | E73: 0 | F73: 0 | G73: 0 | I73: x
A74: XA-0000022379 | B74: Busvendeplads på Guldhalevej | C74: A | D74: 2797 | E74: 0 | F74: 0 | G74: 0
A75: XA-0000022379 | B75: Busvendeplads på Guldhalevej | C75: A | D75: =2797-2000 -> 797 | E75: =0+2000 -> 2000 | F75: 0 | G75: 0 | I75: x | M75: Profil i direktionens forslag
A76: XA-0000022380 | B76: Byrumsmarkører Helsingørsgade | C76: A | D76: 283.637 | E76: 0 | F76: 0 | G76: 0 | I76: x
A77: XA-0000022382 | B77: 4. spor på Peder Oxes alle | C77: A | D77: 2507.37 | E77: 0 | F77: 0 | G77: 0 | I77: x
A78: XA-0000022390 | B78: Asfaltrenovering 2027 | C78: A | D78: 17569 | E78: 0 | F78: 0 | G78: 0 | I78: x | M78: Flyttet fra drift til anlæg
A79: Folkeskolen m.m. | J79: x
A80: XA-0000030161 | B80: Frederiksborg Byskole, etape 2, klassefløjen | C80: A | D80: 8465 | E80: 50000 | F80: 0 | G80: 0
A81: XA-0000030161 | B81: Frederiksborg Byskole, etape 2, klassefløjen | C81: A | D81: =8465-8000 -> 465 | E81: =50000+8000 -> 58000 | F81: 0 | G81: 0 | I81: x | M81: Profil i direktionens forslag
A82: XA-0000030166 | B82: Grønnevang Skole, 0.-5. klasse | C82: A | D82: 52586 | E82: 228107 | F82: 110854 | G82: 27375
A83: XA-0000030166 | B83: Grønnevang Skole, 0.-5. klasse | C83: A | D83: =52586-50000 -> 2586 | E83: =228107+50000 -> 278107 | F83: 110854 | G83: 27375 | I83: x | M83: Profil i direktionens forslag
A84: XA-0000030166 | B84: Grønnevang Skole, 0.-5. klasse | C84: A | D84: 10950 | E84: 10950 | F84: 10950 | G84: 10950 | I84: =IF(Finansieringsforslag!N169="x","x"," ") -> x | M84: KODET ift. kryds på FF-arket
A85: XA-0000030168 | B85: Hillerødsholmskolen, afd. Gadevang, kapacitetsudvidelse | C85: A | D85: 0 | E85: 0 | F85: 762.752 | G85: 0 | I85: x
A86: XA-0000030170 | B86: Grønnevang skole, afd. Nødebo | C86: A | D86: 2824 | E86: 26788 | F86: 5509 | G86: 0 | I86: x | M86: ny titel
A87: XA-0000030174 | B87: Hillerød Vest Skolen, afd. Ålholm, kapacitetsudvidelse | C87: A | D87: 63306.459 | E87: 22082.206 | F87: 3914.448 | G87: 0 | I87: x
A88: XA-0000030175 | B88: Hillerødsholmskolen, kapacitetsudvidelse | C88: A | D88: 10047.035 | E88: 29873.473 | F88: 40821.52 | G88: 39811.921 | I88: x
A89: XA-0000030176 | B89: Sophienborgskolen, kapacitetsudvidelse | C89: A | D89: 86 | E89: 26175.647 | F89: 13156.864 | G89: 12365.255 | I89: x
A90: XA-0000030179 | B90: Grønnevang skole, genhusning | C90: A | D90: 10170.039 | E90: 0 | F90: 9832.393 | G90: 0
A91: XA-0000030179 | B91: Grønnevang skole, genhusning | C91: A | D91: =10170.039-9170 -> 1000.039 | E91: =0+9170 -> 9170 | F91: 9832.393 | G91: 0 | I91: x | M91: Profil i direktionens forslag
A92: XA-0000030802 | B92: Skolen ved Skoven, midlertidig kapacitet | C92: A | D92: 2938.638 | E92: 0 | F92: 0 | G92: 601.768
A93: XA-0000030802 | B93: Skolen ved Skoven, midlertidig kapacitet | C93: A | D93: =2938.638-2500 -> 438.638 | E93: =0+2500 -> 2500 | F93: 0 | G93: 601.768 | I93: x | M93: Profil i direktionens forslag
A94: XA-0000030802 | B94: Skolen ved Skoven, midlertidig kapacitet | C94: A | D94: 500 | E94: 0 | F94: 0 | G94: 0 | I94: =IF(Finansieringsforslag!N47="x","x"," ") -> x | M94: KODET ift. kryds på FF-arket
A95: Dagtilbud til børn og unge
A96: XA-0000051430 | B96: Børnehuset Troldehøjen, udbygning | C96: A | D96: 3864.615 | E96: 0 | F96: 0 | G96: 0
A97: XA-0000051430 | B97: Børnehuset Troldehøjen, udbygning | C97: A | D97: =3864.615-3500 -> 364.615 | E97: =0+3500 -> 3500 | F97: 0 | G97: 0 | I97: x | M97: Profil i direktionens forslag
A98: XA-0000051437 | B98: Daginstitutioner, pulje til funktionsopgradering | C98: A | D98: 199 | E98: 817 | F98: 508.502 | G98: 0 | I98: x
A99: Tilbud til børn og unge med særlige behov
A100: XA-0000052105 | B100: Hillerød Dagbehandlingsskole, sammenlægning | C100: A | D100: 5866.884 | E100: 0 | F100: 0 | G100: 0
A101: XA-0000052105 | B101: Hillerød Dagbehandlingsskole, sammenlægning | C101: A | D101: =5866.884-5500 -> 366.884 | E101: =0+5500 -> 5500 | F101: 0 | G101: 0 | I101: x | M101: Profil i direktionens forslag
A102: XA-0000052107 | B102: Børnehuset Buen, renovering af tag mv | C102: A | D102: 3051.012 | E102: 0 | F102: 0 | G102: 0
A103: XA-0000052107 | B103: Børnehuset Buen, renovering af tag mv | C103: A | D103: =3051.012-2851 -> 200.012 | E103: =0+2851 -> 2851 | F103: 0 | G103: 0 | I103: x | M103: Profil i direktionens forslag
A104: Administrativ organisation
A105: XA-0000065106 | B105: Bevaringsværdige bygninger, før 1940 | C105: A | D105: 508.502 | E105: 0 | F105: 0 | G105: 0 | I105: x
A106: XA-0000065164 | B106: Planlægning af byudvikling i Favrholm | C106: A | D106: 408.206 | E106: 259.763 | F106: 0 | G106: 0 | I106: x
A107: XA-0000065206 | B107: Digitaliseringspulje - skærmbesøg i ældreplejen | C107: A | D107: 260 | E107: 406 | F107: 0 | G107: 0 | I107: x
A108: XA-0000065211 | B108: Digitaliseringspulje 2027 | C108: A | D108: 2000 | E108: 0 | F108: 0 | G108: 0 | I108: x
...

Sheet Afledt drift
A2: AFLEDT DRIFT SOM FØLGE AF VEDTAGNE ANLÆGSØNSKER UDEN FOR BUDGET RAMMEN.
A5: - = mindreudgift/merindtægt + = merudgift/mindreindtægt
A7: Afledt drift uden for rammen til budget
A8: =NOW() -> 46283.025
A10: - = mindreudgift/merindtægt + = merudgift/mindreindtægt
A11: 1.000 kr. | C11: Akt. | D11: Service | E11: =+Aktivitetsudvidelser!F11 -> 2027 | F11: =+E11+1 -> 2028 | G11: =+F11+1 -> 2029 | H11: =+G11+1 -> 2030 | J11: Godkendte | K11: Godkendt til
A12: Afledt drift udenfor rammen | E12: =SUMIF(J13:J76,"x",E13:E76) -> -1407 | F12: =SUMIF(J13:J76,"x",F13:F76) -> -1065 | G12: =SUMIF(J13:J76,"x",G13:G76) -> 696 | H12: =SUMIF(J13:J76,"x",H13:H76) -> 85 | J12: korrektioner | K12: 1. behandling
A14: Akt. 11, Administration
A15: Afledt drift på anlægsønsker | C15: 11 | D15: 100 | E15: =SUMIFS(Anlægsønsker!D$13:D$374,Anlægsønsker!$I$13:$I$374,"x",Anlægsønsker!$C$13:$C$374,"11") -> 106 | F15: =SUMIFS(Anlægsønsker!E$13:E$374,Anlægsønsker!$I$13:$I$374,"x",Anlægsønsker!$C$13:$C$374,"11") -> 296 | G15: =SUMIFS(Anlægsønsker!F$13:F$374,Anlægsønsker!$I$13:$I$374,"x",Anlægsønsker!$C$13:$C$374,"11") -> 296 | H15: =SUMIFS(Anlægsønsker!G$13:G$374,Anlægsønsker!$I$13:$I$374,"x",Anlægsønsker!$C$13:$C$374,"11") -> 106 | J15: x | K15: x
A17: Akt. 12, Ejendomme
A18: Afledt drift på anlægsønsker | C18: 12 | D18: 100 | E18: =SUMIFS(Anlægsønsker!D$13:D$374,Anlægsønsker!$I$13:$I$374,"x",Anlægsønsker!$C$13:$C$374,"12") -> -1541 | F18: =SUMIFS(Anlægsønsker!E$13:E$374,Anlægsønsker!$I$13:$I$374,"x",Anlægsønsker!$C$13:$C$374,"12") -> -1181 | G18: =SUMIFS(Anlægsønsker!F$13:F$374,Anlægsønsker!$I$13:$I$374,"x",Anlægsønsker!$C$13:$C$374,"12") -> 112 | H18: =SUMIFS(Anlægsønsker!G$13:G$374,Anlægsønsker!$I$13:$I$374,"x",Anlægsønsker!$C$13:$C$374,"12") -> -298 | J18: x | K18: x
A20: Akt. 13 Rengøring, bestiller
A21: Afledt drift på anlægsønsker | C21: 13 | D21: 100 | E21: =SUMIFS(Anlægsønsker!D$13:D$374,Anlægsønsker!$I$13:$I$374,"x",Anlægsønsker!$C$13:$C$374,"13") -> -277 | F21: =SUMIFS(Anlægsønsker!E$13:E$374,Anlægsønsker!$I$13:$I$374,"x",Anlægsønsker!$C$13:$C$374,"13") -> -325 | G21: =SUMIFS(Anlægsønsker!F$13:F$374,Anlægsønsker!$I$13:$I$374,"x",Anlægsønsker!$C$13:$C$374,"13") -> -133 | H21: =SUMIFS(Anlægsønsker!G$13:G$374,Anlægsønsker!$I$13:$I$374,"x",Anlægsønsker!$C$13:$C$374,"13") -> -120 | J21: x | K21: x
A23: Akt. 27 Ejendomme - Grøn drift
A24: Afledt drift på anlægsønsker | C24: 27 | D24: 100 | E24: =SUMIFS(Anlægsønsker!D$13:D$374,Anlægsønsker!$I$13:$I$374,"x",Anlægsønsker!$C$13:$C$374,"27") -> 0 | F24: =SUMIFS(Anlægsønsker!E$13:E$374,Anlægsønsker!$I$13:$I$374,"x",Anlægsønsker!$C$13:$C$374,"27") -> 0 | G24: =SUMIFS(Anlægsønsker!F$13:F$374,Anlægsønsker!$I$13:$I$374,"x",Anlægsønsker!$C$13:$C$374,"27") -> 0 | H24: =SUMIFS(Anlægsønsker!G$13:G$374,Anlægsønsker!$I$13:$I$374,"x",Anlægsønsker!$C$13:$C$374,"27") -> 0 | J24: x | K24: x
A26: Akt. 21. Natur, Miljø og Klima
A27: Afledt drift på anlægsønsker | C27: 21 | D27: 100 | E27: =SUMIFS(Anlægsønsker!D$13:D$374,Anlægsønsker!$I$13:$I$374,"x",Anlægsønsker!$C$13:$C$374,"21") -> 0 | F27: =SUMIFS(Anlægsønsker!E$13:E$374,Anlægsønsker!$I$13:$I$374,"x",Anlægsønsker!$C$13:$C$374,"21") -> 0 | G27: =SUMIFS(Anlægsønsker!F$13:F$374,Anlægsønsker!$I$13:$I$374,"x",Anlægsønsker!$C$13:$C$374,"21") -> 0 | H27: =SUMIFS(Anlægsønsker!G$13:G$374,Anlægsønsker!$I$13:$I$374,"x",Anlægsønsker!$C$13:$C$374,"21") -> 0 | J27: x
A29: Akt. 23. Kirkegårde
A30: Afledt drift på anlægsønsker | C30: 23 | D30: 100 | E30: =SUMIFS(Anlægsønsker!D$13:D$374,Anlægsønsker!$I$13:$I$374,"x",Anlægsønsker!$C$13:$C$374,"23") -> 0 | F30: =SUMIFS(Anlægsønsker!E$13:E$374,Anlægsønsker!$I$13:$I$374,"x",Anlægsønsker!$C$13:$C$374,"23") -> 0 | G30: =SUMIFS(Anlægsønsker!F$13:F$374,Anlægsønsker!$I$13:$I$374,"x",Anlægsønsker!$C$13:$C$374,"23") -> 0 | H30: =SUMIFS(Anlægsønsker!G$13:G$374,Anlægsønsker!$I$13:$I$374,"x",Anlægsønsker!$C$13:$C$374,"23") -> 0 | J30: x
A32: Akt. 28. By og Miljø
A33: Afledt drift på anlægsønsker | C33: 28 | D33: 100 | E33: =SUMIFS(Anlægsønsker!D$13:D$374,Anlægsønsker!$I$13:$I$374,"x",Anlægsønsker!$C$13:$C$374,"28") -> 0 | F33: =SUMIFS(Anlægsønsker!E$13:E$374,Anlægsønsker!$I$13:$I$374,"x",Anlægsønsker!$C$13:$C$374,"28") -> 0 | G33: =SUMIFS(Anlægsønsker!F$13:F$374,Anlægsønsker!$I$13:$I$374,"x",Anlægsønsker!$C$13:$C$374,"28") -> 0 | H33: =SUMIFS(Anlægsønsker!G$13:G$374,Anlægsønsker!$I$13:$I$374,"x",Anlægsønsker!$C$13:$C$374,"28") -> 0 | J33: x | K33: x
A35: Akt. 30. Ungdommens Uddannelsesvejledning
A36: Afledt drift på anlægsønsker | C36: 30 | D36: 100 | E36: =SUMIFS(Anlægsønsker!D$13:D$374,Anlægsønsker!$I$13:$I$374,"x",Anlægsønsker!$C$13:$C$374,"30") -> 0 | F36: =SUMIFS(Anlægsønsker!E$13:E$374,Anlægsønsker!$I$13:$I$374,"x",Anlægsønsker!$C$13:$C$374,"30") -> 0 | G36: =SUMIFS(Anlægsønsker!F$13:F$374,Anlægsønsker!$I$13:$I$374,"x",Anlægsønsker!$C$13:$C$374,"30") -> 0 | H36: =SUMIFS(Anlægsønsker!G$13:G$374,Anlægsønsker!$I$13:$I$374,"x",Anlægsønsker!$C$13:$C$374,"30") -> 0 | J36: x | K36: x
A38: Akt. 31. Beskæftigelsesindsats
C39: 31 | D39: 200 | E39: =SUMIFS(Anlægsønsker!D$13:D$374,Anlægsønsker!$I$13:$I$374,"x",Anlægsønsker!$C$13:$C$374,"31") -> 0 | F39: =SUMIFS(Anlægsønsker!E$13:E$374,Anlægsønsker!$I$13:$I$374,"x",Anlægsønsker!$C$13:$C$374,"31") -> 0 | G39: =SUMIFS(Anlægsønsker!F$13:F$374,Anlægsønsker!$I$13:$I$374,"x",Anlægsønsker!$C$13:$C$374,"31") -> 0 | H39: =SUMIFS(Anlægsønsker!G$13:G$374,Anlægsønsker!$I$13:$I$374,"x",Anlægsønsker!$C$13:$C$374,"31") -> 0 | J39: x | K39: x
A41: Akt. 33. Forsørgelsesydelser
A42: Afledt drift på anlægsønsker | C42: 33 | D42: 100 | E42: =SUMIFS(Anlægsønsker!D$13:D$374,Anlægsønsker!$I$13:$I$374,"x",Anlægsønsker!$C$13:$C$374,"33") -> 0 | F42: =SUMIFS(Anlægsønsker!E$13:E$374,Anlægsønsker!$I$13:$I$374,"x",Anlægsønsker!$C$13:$C$374,"33") -> 0 | G42: =SUMIFS(Anlægsønsker!F$13:F$374,Anlægsønsker!$I$13:$I$374,"x",Anlægsønsker!$C$13:$C$374,"33") -> 0 | H42: =SUMIFS(Anlægsønsker!G$13:G$374,Anlægsønsker!$I$13:$I$374,"x",Anlægsønsker!$C$13:$C$374,"33") -> 0 | J42: x | K42: x
A44: Akt. 32. Specialiseret voksenområde
A45: Afledt drift på anlægsønsker | C45: 32 | D45: 100 | E45: =SUMIFS(Anlægsønsker!D$13:D$374,Anlægsønsker!$I$13:$I$374,"x",Anlægsønsker!$C$13:$C$374,"32") -> 0 | F45: =SUMIFS(Anlægsønsker!E$13:E$374,Anlægsønsker!$I$13:$I$374,"x",Anlægsønsker!$C$13:$C$374,"32") -> 0 | G45: =SUMIFS(Anlægsønsker!F$13:F$374,Anlægsønsker!$I$13:$I$374,"x",Anlægsønsker!$C$13:$C$374,"32") -> 0 | H45: =SUMIFS(Anlægsønsker!G$13:G$374,Anlægsønsker!$I$13:$I$374,"x",Anlægsønsker!$C$13:$C$374,"32") -> 0 | J45: x | K45: x
A47: Akt. 34. Ældreområdet
A48: Afledt drift på anlægsønsker | C48: 34 | D48: 100 | E48: =SUMIFS(Anlægsønsker!D$13:D$374,Anlægsønsker!$I$13:$I$374,"x",Anlægsønsker!$C$13:$C$374,"34") -> 0 | F48: =SUMIFS(Anlægsønsker!E$13:E$374,Anlægsønsker!$I$13:$I$374,"x",Anlægsønsker!$C$13:$C$374,"34") -> 0 | G48: =SUMIFS(Anlægsønsker!F$13:F$374,Anlægsønsker!$I$13:$I$374,"x",Anlægsønsker!$C$13:$C$374,"34") -> 0 | H48: =SUMIFS(Anlægsønsker!G$13:G$374,Anlægsønsker!$I$13:$I$374,"x",Anlægsønsker!$C$13:$C$374,"34") -> 0 | J48: x | K48: x
A50: Akt. 35. Sundhedsområdet
A51: Afledt drift på anlægsønsker | C51: 35 | D51: 100 | E51: =SUMIFS(Anlægsønsker!D$13:D$374,Anlægsønsker!$I$13:$I$374,"x",Anlægsønsker!$C$13:$C$374,"35") -> 0 | F51: =SUMIFS(Anlægsønsker!E$13:E$374,Anlægsønsker!$I$13:$I$374,"x",Anlægsønsker!$C$13:$C$374,"35") -> 0 | G51: =SUMIFS(Anlægsønsker!F$13:F$374,Anlægsønsker!$I$13:$I$374,"x",Anlægsønsker!$C$13:$C$374,"35") -> 0 | H51: =SUMIFS(Anlægsønsker!G$13:G$374,Anlægsønsker!$I$13:$I$374,"x",Anlægsønsker!$C$13:$C$374,"35") -> 0 | J51: x | K51: x
A53: Akt. 38, Erhverv og Uddannelse
A54: Afledt drift på anlægsønsker | C54: 36 | D54: 100 | E54: =SUMIFS(Anlægsønsker!D$13:D$374,Anlægsønsker!$I$13:$I$374,"x",Anlægsønsker!$C$13:$C$374,"38") -> 0 | F54: =SUMIFS(Anlægsønsker!E$13:E$374,Anlægsønsker!$I$13:$I$374,"x",Anlægsønsker!$C$13:$C$374,"38") -> 0 | G54: =SUMIFS(Anlægsønsker!F$13:F$374,Anlægsønsker!$I$13:$I$374,"x",Anlægsønsker!$C$13:$C$374,"38") -> 0 | H54: =SUMIFS(Anlægsønsker!G$13:G$374,Anlægsønsker!$I$13:$I$374,"x",Anlægsønsker!$C$13:$C$374,"38") -> 0 | J54: x
A56: Akt. 41. Dagtilbud børn
A57: Afledt drift på anlægsønsker | C57: 41 | D57: 100 | E57: =SUMIFS(Anlægsønsker!D$13:D$374,Anlægsønsker!$I$13:$I$374,"x",Anlægsønsker!$C$13:$C$374,"41") -> 29 | F57: =SUMIFS(Anlægsønsker!E$13:E$374,Anlægsønsker!$I$13:$I$374,"x",Anlægsønsker!$C$13:$C$374,"41") -> 29 | G57: =SUMIFS(Anlægsønsker!F$13:F$374,Anlægsønsker!$I$13:$I$374,"x",Anlægsønsker!$C$13:$C$374,"41") -> 29 | H57: =SUMIFS(Anlægsønsker!G$13:G$374,Anlægsønsker!$I$13:$I$374,"x",Anlægsønsker!$C$13:$C$374,"41") -> 0 | J57: x | K57: x
A59: Akt. 42. Skoler
A60: Afledt drift på anlægsønsker | C60: 42 | D60: 100 | E60: =SUMIFS(Anlægsønsker!D$13:D$374,Anlægsønsker!$I$13:$I$374,"x",Anlægsønsker!$C$13:$C$374,"42") -> 141 | F60: =SUMIFS(Anlægsønsker!E$13:E$374,Anlægsønsker!$I$13:$I$374,"x",Anlægsønsker!$C$13:$C$374,"42") -> 141 | G60: =SUMIFS(Anlægsønsker!F$13:F$374,Anlægsønsker!$I$13:$I$374,"x",Anlægsønsker!$C$13:$C$374,"42") -> 147 | H60: =SUMIFS(Anlægsønsker!G$13:G$374,Anlægsønsker!$I$13:$I$374,"x",Anlægsønsker!$C$13:$C$374,"42") -> 152 | J60: x | K60: x
A62: Akt. 43, Kriminalpræventive- og boligsociale aktiviteter
A63: Afledt drift på anlægsønsker | C63: 43 | D63: 100 | E63: =SUMIFS(Anlægsønsker!D$13:D$374,Anlægsønsker!$I$13:$I$374,"x",Anlægsønsker!$C$13:$C$374,"43") -> 0 | F63: =SUMIFS(Anlægsønsker!E$13:E$374,Anlægsønsker!$I$13:$I$374,"x",Anlægsønsker!$C$13:$C$374,"43") -> 0 | G63: =SUMIFS(Anlægsønsker!F$13:F$374,Anlægsønsker!$I$13:$I$374,"x",Anlægsønsker!$C$13:$C$374,"43") -> 0 | H63: =SUMIFS(Anlægsønsker!G$13:G$374,Anlægsønsker!$I$13:$I$374,"x",Anlægsønsker!$C$13:$C$374,"43") -> 0 | J63: x | K63: x
A65: Akt. 44. Familier
A66: Afledt drift på anlægsønsker | C66: 44 | D66: 100 | E66: =SUMIFS(Anlægsønsker!D$13:D$374,Anlægsønsker!$I$13:$I$374,"x",Anlægsønsker!$C$13:$C$374,"44") -> 0 | F66: =SUMIFS(Anlægsønsker!E$13:E$374,Anlægsønsker!$I$13:$I$374,"x",Anlægsønsker!$C$13:$C$374,"44") -> 0 | G66: =SUMIFS(Anlægsønsker!F$13:F$374,Anlægsønsker!$I$13:$I$374,"x",Anlægsønsker!$C$13:$C$374,"44") -> 0 | H66: =SUMIFS(Anlægsønsker!G$13:G$374,Anlægsønsker!$I$13:$I$374,"x",Anlægsønsker!$C$13:$C$374,"44") -> 0 | J66: x | K66: x
A68: Akt. 45. Kultur, Idræt og Lokalsamfund
A69: Afledt drift på anlægsønsker | C69: 45 | D69: 100 | E69: =SUMIFS(Anlægsønsker!D$13:D$374,Anlægsønsker!$I$13:$I$374,"x",Anlægsønsker!$C$13:$C$374,"45") -> 35 | F69: =SUMIFS(Anlægsønsker!E$13:E$374,Anlægsønsker!$I$13:$I$374,"x",Anlægsønsker!$C$13:$C$374,"45") -> 35 | G69: =SUMIFS(Anlægsønsker!F$13:F$374,Anlægsønsker!$I$13:$I$374,"x",Anlægsønsker!$C$13:$C$374,"45") -> 35 | H69: =SUMIFS(Anlægsønsker!G$13:G$374,Anlægsønsker!$I$13:$I$374,"x",Anlægsønsker!$C$13:$C$374,"45") -> 35 | J69: x | K69: x
A71: Akt. 46. Folkeoplysning
A72: Afledt drift på anlægsønsker | C72: 46 | D72: 100 | E72: =SUMIFS(Anlægsønsker!D$13:D$374,Anlægsønsker!$I$13:$I$374,"x",Anlægsønsker!$C$13:$C$374,"46") -> 0 | F72: =SUMIFS(Anlægsønsker!E$13:E$374,Anlægsønsker!$I$13:$I$374,"x",Anlægsønsker!$C$13:$C$374,"46") -> 0 | G72: =SUMIFS(Anlægsønsker!F$13:F$374,Anlægsønsker!$I$13:$I$374,"x",Anlægsønsker!$C$13:$C$374,"46") -> 0 | H72: =SUMIFS(Anlægsønsker!G$13:G$374,Anlægsønsker!$I$13:$I$374,"x",Anlægsønsker!$C$13:$C$374,"46") -> 0 | J72: x | K72: x
A74: Akt. 50, Trafik og Mobilitet
A75: Afledt drift på anlægsønsker | C75: 47 | D75: 100 | E75: =SUMIFS(Anlægsønsker!D$13:D$374,Anlægsønsker!$I$13:$I$374,"x",Anlægsønsker!$C$13:$C$374,"50") -> 100 | F75: =SUMIFS(Anlægsønsker!E$13:E$374,Anlægsønsker!$I$13:$I$374,"x",Anlægsønsker!$C$13:$C$374,"50") -> -60 | G75: =SUMIFS(Anlægsønsker!F$13:F$374,Anlægsønsker!$I$13:$I$374,"x",Anlægsønsker!$C$13:$C$374,"50") -> 210 | H75: =SUMIFS(Anlægsønsker!G$13:G$374,Anlægsønsker!$I$13:$I$374,"x",Anlægsønsker!$C$13:$C$374,"50") -> 210 | J75: x

Sheet Tekniske korrektioner
A2: TEKNISKE KORREKTIONER - KORREKTIONER MARKERET MED X I HØJRE KOLONNE INDGÅR I BUDGETFORSLAGET
A5: - = mindreudgift/merindtægt + = merudgift/mindreindtægt
A7: Tekniske korrektioner til budget
A8: =NOW() -> 46283.025
A10: - = mindreudgift/merindtægt + = merudgift/mindreindtægt
A11: 1.000 kr. | C11: Akt. | F11: 2027 | G11: =F11+1 -> 2028 | H11: =G11+1 -> 2029 | I11: =H11+1 -> 2030 | K11: Godkendte
A12: Tekniske korrektioner | E12: =SUMIF(K13:K316,"x",E13:E316) -> 0 | F12: =SUMIF(K13:K376,"x",F13:F376) -> -270662 | G12: =SUMIF(K13:K376,"x",G13:G376) -> -254505 | H12: =SUMIF(K13:K376,"x",H13:H376) -> -243911 | I12: =SUMIF(K13:K376,"x",I13:I376) -> -232224 | K12: korrektioner
A14: Akt. 11, Administration
A15: Letbetaling NY11AU2024-004 | C15: 11 | F15: -6 | G15: -6 | H15: -6 | I15: -6 | K15: x | L15: 11.11.2025 cstr
A16: Budgetopfølgning 3-2025 Arbejdskade Erhvervssikring | C16: 11 | F16: 300 | G16: 300 | H16: 300 | I16: 300 | K16: x | L16: 24.11.2025 llia
A17: Budgetopfølgning 3-2025 Ældre og Sundhed | C17: 11 | F17: 22 | G17: 22 | H17: 22 | I17: 22 | K17: x | L17: 24.11.2025 betni
A18: Budgetopfølgning 3-2025 Familiesektionen | C18: 11 | F18: -27 | G18: -27 | H18: -27 | I18: -27 | K18: x | L18: 24.11.2025 peos
A19: Budgetopfølgning 3-2025 Trafik, Vej og Park | C19: 11 | F19: 272 | G19: 272 | H19: 272 | I19: 272 | K19: x | L19: 24.11.2025 like
A20: Budgetopfølgning 3-2025 Natur, Miljø og Klima | C20: 11 | F20: 62 | G20: 62 | H20: 62 | I20: 62 | K20: x | L20: 24.11.2025 like
A21: Tilpasning af valgbudget, Kommunalvalg og EU-valg budget ud i 2030, budget til Folketingsvalg ind i 2030 | C21: 11 | I21: =-3039+1316 -> -1723 | K21: x | L21: 08.12.2025 llia
A22: Udgift til rådhus PC'er hvert 5. år. ( 2029) budget ud i 2030 | C22: 11 | I22: -5712 | K22: x | L22: 08.12.2025 llia
A23: Forskydning af udgifter til IT-udstyr byråd | C23: 11 | H23: -283 | I23: -40 | K23: x | L23: 08.12.2025 llia
A24: Afledt drift, Hillerødshomskolen, kapacitetsudvidelse | B24: NY50AØ2022-222-B | C24: 11 | I24: -488 | K24: x | L24: 17.12.2025 kira
A25: Afledt drift, Grønnevang Skole, genhusning | B25: 50AØ2025-221 | C25: 11 | I25: -252 | K25: x | L25: 17.12.2025 kira
A26: Afledt drift, Tilgængelighedsindsats 2026-2029 | B26: 50AØ2026-082 | C26: 11 | I26: -15 | K26: x | L26: 17.12.2025 kira
A27: Afledt drift, Daginstitutioner, pulje til funktionsopgradering | B27: 50AØ2026-220 | C27: 11 | I27: -15 | K27: x | L27: 17.12.2025 kira
A28: Afledt drift, Hillerød Vest Skolen, afd. Ålholm, kapacitetsudvidelse | B28: 50AØ2026-221 | C28: 11 | I28: -92 | K28: x | L28: 17.12.2025 kira
A29: Vejafvanding - renov stikled brønd | B29: 50AØ2026-140 | C29: 11 | I29: -325 | K29: x | L29: 22.12.25 Linea
A30: Sundhedsplejen lederløn var lagt på akt.omr .11, men hører til på akt.omr. 44 | C30: 11 | F30: -44 | G30: -44 | H30: -44 | I30: -44 | K30: x | L30: 20.01.2026 peos
A31: Afledt drift, Farvholm Stationskvarter | B31: 11AU2021-008 | C31: 11 | F31: -900 | G31: -900 | H31: -900 | I31: -900 | K31: x | L31: 30.01.2025 like
A32: Indkøbsbesparelse vedr inde- og udelegetøj fra akt. 42 skoler til akt. 11 | C32: 11 | F32: 6 | G32: 6 | H32: 6 | I32: 6 | K32: x | L32: 11.03.2026 llia
A33: Virkningen af nyt PL skøn fra KL. 13/3 2026 | C33: 11 | F33: 1069 | G33: 1055 | H33: 1021 | I33: 1050 | K33: x | L33: 16.03.2026 betni
A34: Videreførsel af budget til tilkøb til OPUS kontrakt. fortsættelse af budgetprincip | C34: 11 | F34: 125 | G34: 125 | H34: 125 | I34: 125 | K34: x | L34: 15.04.2026 llia
A35: Virkningen af korrrigeret PL skøn fra KL. - i G.1-1 | C35: 11 | F35: -132 | G35: -130 | H35: -130 | I35: -130 | K35: x | L35: 06.05.2026 betni
A36: OK24 Pulje opskrivning til OK26 prisniveau | C36: 11 | F36: 114 | G36: 114 | H36: 114 | I36: 114 | K36: x | L36: 07.05.2026 llia
A37: Budgetopfølgning 1-2026 Merudgift et fagudvalg mere end forudsat i budgettet | C37: 11 | F37: 430 | G37: 430 | H37: 430 | I37: 430 | K37: x | L37: 22.05.2026 llia
A38: Budgetopfølgning 1-2026 Merudgift til et §17 stk 4 udvalg fra 1. marts 2026 til 31. maj 2027 | C38: 11 | F38: 75 | K38: x | L38: 22.05.2026 llia
A39: Budgetopfølgning 1-2026 Støttesagsgebyr, Skoleparken udskudt til 2027 | C39: 11 | F39: -71 | K39: x | L39: 22.05.2026 llia
A40: Budgetopfølgning 1-2026 Støttesagsgebyr, Ved Torvet udskudt til 2028 | C40: 11 | G40: -357 | K40: x | L40: 22.05.2026 llia
A41: Budgetopfølgning 1-2026 Administrationsbidrag til lønmodtagernes feriemidler | C41: 11 | F41: 95 | G41: 95 | H41: 95 | I41: 95 | K41: x | L41: 22.05.2026 llia
A42: Udmøntning af 11FF2026-008 Automatisering - gevinster fra akt. 34 | C42: 11 | F42: 155 | G42: 155 | H42: 155 | I42: 155 | K42: x | L42: 22.05.2026 llia
A43: Udmøntning fra digitaliseringspuljen akt. 38 - godkendt af DIR 12.5.2026 Test digital signaturløsning | C43: 11 | F43: 17 | G43: 15 | K43: x | L43: 19.05.2026 llia
A44: Budgetopfølgning 1-2026 Cafeladen | C44: 11 | F44: 260 | G44: 260 | H44: 260 | I44: 260 | K44: x | L44: 21.05.2025 kira
A45: Hygiejnesygeplejersker til akt.omr. 11 fra akt.omr. 35 | C45: 11 | F45: 300 | G45: 420 | H45: 420 | I45: 420 | K45: x | L45: 26.05.2026 peos
A46: Mere beredskab - risikobaseret dimensionering - ØU 20.5 | C46: 11 | F46: =273+689+1185 -> 2147 | G46: =441+689+1185 -> 2315 | H46: =476+689+1185 -> 2350 | I46: =498+689+1185 -> 2372 | K46: x | L46: 28.05.2025 like
A47: Indkøbsbesparelse vedr udbud af ortoser og skinner fra akt. 34 | C47: 11 | F47: 192 | G47: 192 | H47: 192 | I47: 192 | K47: x | L47: 29.05.2026 llia
A48: OK 26 - puljer og deltid | C48: 11 | K48: x | L48: 03.06.2026 betni - pillet ud igen d. 30.06.2026
A49: Afledt drift, Skolen ved Skoven | C49: 11 | F49: 85 | G49: 0 | H49: 0 | I49: 85 | K49: x | L49: 03.06.2026 kira
A50: BOF-2-2026 Budget omplacering - Affaldstilsynsgebyr indtægter | C50: 11 | F50: 665 | G50: 664 | H50: 664 | I50: 664 | K50: x | L50: 14.08.2026 Like
A51: Virkningen af nyt PL skøn fra KL 25/6 2026 | C51: 11 | F51: -4368 | G51: -4319 | H51: -4177 | I51: -4304 | K51: x | L51: 26.06.2026
A52: OK 26 - individuelle puljer | C52: 11 | F52: 4953 | G52: 6593 | H52: 6593 | I52: 6593 | K52: x | L52: 02.07.2026 betni
A53: Afrundingskørsel til hele tusinder | C53: 11 | F53: -12 | G53: -11 | H53: -12 | I53: -13 | K53: x | L53: 03.07.2026 betni
A54: Indkøbsbesparelse vedr udbud af hobby-og beskæftigelsesartikler fra akt 32, 38,41,42,44,45 | C54: 11 | F54: 171 | G54: 171 | H54: 171 | I54: 171 | K54: x | L54: 03.07.2026 llia
A55: Indkøbsbesparelse vedr FollowMe licenser fra akt. 32,34,35, 44, 45 | C55: 11 | F55: =105-71 -> 34 | G55: =105-71 -> 34 | H55: =105-71 -> 34 | I55: =105-71 -> 34 | K55: x | L55: 03.07.2026 llia
A56: Budgettilpasning vedr. seniorpensionsenhed samt admbidrag til Udbetaling Danmark jf. KLs budgetvejledning | C56: 11 | F56: -774 | G56: -288 | H56: -310 | I56: -484 | K56: x | L56: 07.07.2026 llia
A57: Indkøbsbesparelse vedr udbud af storkøkkenudstyr fra akt. 12, 32,41,42 | C57: 11 | F57: 64 | G57: 64 | H57: 64 | I57: 64 | L57: xx.08.2026 llia
A58: Tilretning endelig budget til FBBR jf. beredskabskommissionens beslutning i juni - model 1 udgår | C58: 11 | F58: -1185 | G58: -1185 | H58: -1185 | I58: -1185 | K58: x | L58: 4.8.2026 bry ( Like )
A59: Bidrag til fælles IT servicecenter, finansieret af digitaliseringspulje, ØU 20.maj 2026 | C59: 11 | F59: 127 | K59: x | L59: 11.08.2026 llia
A60: Budgettilpasning ny OPUS aftale | C60: 11 | F60: 1143 | G60: 1143 | H60: 1143 | I60: 1143 | K60: x | L60: 17.08.2026 llia
A61: Fortsættelse af budgetprincip tilkøb til OPUS | C61: 11 | F61: 30 | G61: 60 | H61: 90 | I61: 120 | K61: x | L61: 17.08.2026 llia
A62: Lov - og cirkulæreprogram pkt. 19 lov om arbejdskadesikring (regulering af niveau fra LCP 2026 pkt. 23) | C62: 11 | H62: 21 | I62: 21 | K62: x | L62: 13.08.2026 llia
A63: Budgetopfølgning 2-2026 Merudgift til §17 stk. 4 udvalg 1.juni 2026 til 30. juni 2027 | C63: 11 | F63: 90 | K63: x | L63: 13.08.2026 llia
A64: Budgetopfølgning 2-2026 Mindreindtægter for sundhedskort | C64: 11 | F64: 270 | G64: 270 | H64: 270 | I64: 270 | K64: x | L64: 13.08.2026 llia
A65: Budgetopfølgning 2-2026 Pulje til udmøntning af lokalløn | C65: 11 | F65: -623 | G65: -623 | H65: -623 | I65: -623 | K65: x | L65: 13.08.2026 llia
A66: Indkøbsbesparelse udbud sportsartikler fra akt 42 | C66: 11 | F66: 109 | G66: 109 | H66: 109 | I66: 109 | K66: x | L66: 25.08.2026 llia
A67: BOF 1-2026 PPR administration overføres til akt. 11 fra akt 42 | C67: 11 | F67: 674 | G67: 674 | H67: 674 | I67: 674 | K67: x | L67: 14.08.2026 cstr
A68: LCP punkt 27 ændring af lov om miljøbeskyttelse, lov om vand-forsyning, lov om betalingsregler for spildevandsforsyningsselskaber m.v. og vand-sektorloven | C68: 11 | F68: 123 | G68: 109 | H68: 74 | I68: 74 | K68: x | L68: 14.08.2026 Like
A69: LCP punkt 31 Genbesøg af vandområdeplanerne for planperiode 2021 - 2027 | C69: 11 | F69: 321 | G69: 0 | H69: 0 | I69: 0 | K69: x | L69: 14.08.2026 Like
A70: Midler fra digitaliseringspuljen fra akt. 38 support til skærmbesøg og fælles servicecenter, godkendt af direktion 18.8.26 | C70: 11 | F70: =410+96 -> 506 | G70: 64 | K70: x | L70: 19.08.2026 llia
A71: KB 26.08.2026 Sti fra golfbanen til Favrholm St. | C71: 11 | F71: 385 | G71: 385 | H71: 0 | I71: 0 | K71: x | L71: 20.08.2026 Like
A73: Akt. 12, Ejendomme:
A74: Budgetopfølgning 3-2025 | C74: 12 | H74: 2285 | K74: x | L74: 24.11.2025 kira
A75: Afledt drift Sophienborgskolen, pavilloner | B75: 50AØ2023-224 | C75: 12 | H75: 670 | I75: 670 | K75: x | L75: 17.12.2025 kira
A76: Afledt drift, Hillerødshomskolen, kapacitetsudvidelse 0,5% | B76: NY50AØ2022-222-B | C76: 12 | I76: -81 | K76: x | L76: 17.12.2025 kira
A77: Afledt drift, Hillerødsholmskolen afd. Gadevang, kapacitet | B77: 50AØ2023-227 | C77: 12 | I77: -266 | K77: x | L77: 17.12.2025 kira
A78: Afledt drift, Sophienborgskolen, kapacitetsudvidelse | B78: NY50AØ2022-222-B | C78: 12 | H78: -386 | I78: -386 | K78: x | L78: 17.12.2025 kira
A79: Afledt drift, Grønnevang Skole, genhusning 0,5% | B79: 50AØ2025-221 | C79: 12 | I79: -42 | K79: x | L79: 17.12.2025 kira
A80: Afledt drift, Hillerød Vest Skolen, afd. Ålholm, kapacitetsudvidelse 0,5% | B80: 50AØ2026-221 | C80: 12 | I80: -16 | K80: x | L80: 17.12.2025 kira
A81: Virkningen af nyt PL skøn fra KL. 13/3 2026 | C81: 12 | F81: -4301 | G81: -4314 | H81: -4350 | I81: -4322 | K81: x | L81: 16.03.2025 betni
A82: Tulstrup Børnehus, renovering flyttes fra drift til anlæg, KB 25.03.2026 pkt. 29 | C82: 12 | F82: -3500 | G82: 0 | H82: 0 | I82: 0 | K82: x | L82: 09.04.2026 kira
A83: Virkningen af korrrigeret PL skøn fra KL. - i G.1-1 | C83: 12 | F83: -9 | G83: -9 | H83: -9 | I83: -9 | K83: x | L83: 06.05.2026 betni
A84: Budgetopfølgning 1-2026 | C84: 12 | F84: -5786 | G84: 214 | H84: 214 | I84: 214 | K84: x | L84: 21.05.2025 kira
A85: OK 26 - puljer og deltid | C85: 12 | K85: x | L85: 03.06.2026 betni - pillet ud igen d. 30.06.2026
A86: Afledt drift, Skolen ved Skoven | C86: 12 | F86: 625 | G86: 834 | H86: 834 | I86: 209 | K86: x | L86: 03.06.2026 kira
A87: Virkningen af nyt PL skøn fra KL 25/6 2026 | C87: 12 | F87: 2365 | G87: 2376 | H87: 2380 | I87: 2376 | K87: x | L87: 26.06.2026
A88: OK 26 - individuelle puljer | C88: 12 | F88: 359 | G88: 475 | H88: 475 | I88: 475 | K88: x | L88: 02.07.2026 betni
A89: Afrundingskørsel til hele tusinder | C89: 12 | F89: -53 | G89: -60 | H89: -82 | I89: -82 | K89: x | L89: 03.07.2026 betni
A90: Indkøbsbesparelse vedr udbud af storkøkkenudstyr til akt. 11 | C90: 12 | F90: -16 | G90: -16 | H90: -16 | I90: -16 | L90: xx.08.2026 llia
A91: Nulstil PL forskel mellem udgifter og indtægter | C91: 12 | F91: 0 | G91: 48 | H91: 52 | I91: 52 | K91: x | L91: 16.07.2026 kira
A92: Sundhedsreform - estimat for Regionens betaling for brugsret til sundhedscenterpladser | C92: 12 | F92: =-2860-1160 -> -4020 | G92: =-2860-1160 -> -4020 | H92: =-2860-1160 -> -4020 | I92: =-2860-1160 -> -4020 | K92: x | L92: 20.08.2026 kira | M92: foreløbigt skøn
A93: Budgetopfølgning 2-2026 | C93: 12 | F93: 1975 | G93: 1975 | H93: 1975 | I93: 1975 | K93: x | L93: 13.08.2026 kira
A94: Tulstrup Børnehus, genhusning | C94: 12 | F94: 102 | G94: 51 | H94: 0 | I94: 0 | K94: x | L94: 20.08.2026 kira
A96: Akt. 13, Rengøring - Bestiller
A97: Budgetopfølgning 3-2025 | C97: 13 | F97: 28 | G97: 28 | H97: 28 | I97: 28 | K97: x | L97: 24.11.2025 kira
A98: Afledt drift Sophienborgskolen, pavilloner | B98: 50AØ2023-224 | C98: 13 | H98: 58 | I98: 58 | K98: x | L98: 17.12.2025 kira
A99: Afledt drift, Sophienborgskolen, kapacitetsudvidelse | B99: NY50AØ2022-222-B | C99: 13 | H99: -174 | I99: -174 | K99: x | L99: 17.12.2025 kira
A100: Afledt drift, Hillerødsholmskolen afd. Gadevang, kapacitet | B100: 50AØ2024-229 | C100: 13 | I100: -55 | K100: x | L100: 17.12.2025 kira
A101: Virkningen af nyt PL skøn fra KL. 13/3 2026 | C101: 13 | F101: 166 | G101: 166 | H101: 166 | I101: 166 | K101: x | L101: 16.03.2026 betni
A102: Virkningen af korrrigeret PL skøn fra KL. - i G.1-1 | C102: 13 | F102: -19 | G102: -19 | H102: -19 | I102: -19 | K102: x | L102: 06.05.2026 betni
A103: Budgetopfølgning 1-2026 | C103: 13 | F103: 100 | G103: 100 | H103: 100 | I103: 100 | K103: x | L103: 21.05.2025 kira
A104: OK 26 - puljer og deltid | C104: 13 | K104: x | L104: 03.06.2026 betni - pillet ud igen d. 30.06.2026
A105: Afledt drift, Skolen ved Skoven | C105: 13 | F105: 186 | G105: 221 | H105: 221 | I105: 115 | K105: x | L105: 03.06.2026 kira
A106: Virkningen af nyt PL skøn fra KL 25/6 2026 | C106: 13 | F106: -637 | G106: -637 | H106: -638 | I106: -638 | K106: x | L106: 26.06.2026
A107: OK 26 - individuelle puljer | C107: 13 | F107: 895 | G107: 1153 | H107: 1153 | I107: 1153 | K107: x | L107: 02.07.2026 betni
A108: Afrundingskørsel til hele tusinder | C108: 13 | F108: 6 | G108: 9 | H108: 6 | I108: 7 | K108: x | L108: 03.07.2026 betni
...

Sheet Korrektioner vedr. finansiering
A2: SKAT, TILSKUD OG UDLIGNING SAMT FINANSPOSTER. DE ANFØRTE BELØB ER ÆNDRINGER TIL OPRINDELIGT BUDGET
A4: - = mindreudgift/merindtægt + = merudgift/mindreindtægt
A6: korrektioner vedrørende Finansiering mm
A7: =NOW() -> 46283.025
A9: - = mindreudgift/merindtægt + = merudgift/mindreindtægt
A10: 1.000 kr. | C10: 2010 | D10: =+'Budgetforslag 2027-2030'!C3 -> 2027 | E10: =D10+1 -> 2028 | F10: =E10+1 -> 2029 | G10: =F10+1 -> 2030
D11: =('Vedtaget budget i 2026'!C10+'Vedtaget budget i 2026'!C12+'Vedtaget budget i 2026'!C14+'Vedtaget budget i 2026'!C25+'Vedtaget budget i 2026'!C26+'Vedtaget budget i 2026'!C27+'Vedtaget budget i 2026'!C11)*1000 -> -4474933 | E11: =('Vedtaget budget i 2026'!D10+'Vedtaget budget i 2026'!D12+'Vedtaget budget i 2026'!D14+'Vedtaget budget i 2026'!D25+'Vedtaget budget i 2026'!D26+'Vedtaget budget i 2026'!D27)*1000 -> -4662764 | F11: =('Vedtaget budget i 2026'!E10+'Vedtaget budget i 2026'!E12+'Vedtaget budget i 2026'!E14+'Vedtaget budget i 2026'!E25+'Vedtaget budget i 2026'!E26+'Vedtaget budget i 2026'!E27)*1000 -> -4821193 | G11: =('Vedtaget budget i 2026'!F10+'Vedtaget budget i 2026'!F12+'Vedtaget budget i 2026'!F14+'Vedtaget budget i 2026'!F25+'Vedtaget budget i 2026'!F26+'Vedtaget budget i 2026'!F27)*1000 -> -4821193
A13: Skatter | C13: =SUM(C14:C20) -> 0 | D13: =SUM(D14:D25) -> -125937 | E13: =SUM(E14:E25) -> 860 | F13: =SUM(F14:F25) -> -24818 | G13: =SUM(G14:G25) -> -238840
A15: justering af skatteindtægter vedr. pl stigning fra 2029 til 2030 - artskonto 69080001 | G15: =prisfremskrivning!K7*1000*-1 -> -149089 | I15: drift
A16: justering af skatteindtægter vedr. pl stigning fra 2029 til 2030 - artskonto 69080001 | G16: -5381 | I16: anlæg
A17: justering af skatteindtægter vedr. pl stigning fra 2029 til 2030 - artskonto 69080001 | G17: 6525 | I17: nyt pl. Juni
A18: V. 7.7.2026 - bry | D18: -127308 | E18: -217591 | F18: -119375 | G18: -191560
A19: v. 12.08.2026 | D19: -2061 | E19: -2061 | F19: -2061 | G19: -2061
A20: v. 12.08.2026 - omplacering til tilskud | B20: Komp.tilsk. vedr. nettotab sfa. ændring i dæk.afgift | D20: 3432 | E20: 0 | F20: 0 | G20: 0
A22: Rettelse indkomstskat - septemberkørsel | E22: 120397 | F22: 107944 | G22: 118965
A23: Rettelse efterregulering af 2025 - komp. for selvbudgettering | E23: 100115
A24: Rettelse af selskabsskat - septemberkørsel | F24: -11326 | G24: -16239
A26: Refusion af købsmoms | D26: =SUM(D28:D29) -> 0 | E26: =SUM(E28:E29) -> 0 | F26: =SUM(F28:F29) -> 0 | G26: =SUM(G28:G29) -> 0
A30: Tilskud og udligning | C30: =SUM(C31:C41) -> 0 | D30: =SUM(D32:D41) -> 222053 | E30: =SUM(E32:E41) -> 272746 | F30: =SUM(F32:F41) -> 336263 | G30: =SUM(G32:G41) -> 390616
A32: V. 7.7.2026 - bry | D32: 225485 | E32: 456797 | F32: 419942 | G32: 477132
A33: v. 12.08.2026 | D33: 0 | E33: -2149 | F33: 0 | G33: 0
A34: v. 12.08.2026 - omplacering fra skat | B34: Komp.tilsk. vedr. nettotab sfa. ændring i dæk.afgift | D34: -3432 | E34: 0 | F34: 0 | G34: 0
A35: Rettelse til udligning | D35: 0 | E35: -149 | F35: 0 | G35: 0
A37: Rettelse udligning, septemer kørsel | E37: -58689 | F37: -49929 | G37: -59642
A38: Rettelse statstilskud - september kørsel | E38: -70938 | F38: -37213 | G38: -31821
A39: Rettelse efterregulering af 2025 - komp. for selvbudgettering | E39: -52126
A40: Rettelse selskabsskatter- september kørsel | F40: 3463 | G40: 4947
A42: Låneoptagelse | C42: =SUM(C43:C48) -> 0 | D42: =SUM(D43:D48) -> 11922 | E42: =SUM(E43:E48) -> -12925 | F42: =SUM(F43:F48) -> -502 | G42: =SUM(G43:G48) -> -503
A44: Tilretning af låneoptagelse vedr. ESCO projekter | D44: -501 | E44: -502 | F44: -502 | G44: -503
A45: BOF 2 - 2026 Tilretning af låneoptagelse vedr. ESCO projekter | D45: 5000 | E45: -5000 | F45: 0 | G45: 0
A46: Udskyde energibesparende foranstaltninger flytter også låneoptagelse | D46: 7423 | E46: -7423
A49: Renter | C49: =SUM(C50:C56) -> 0 | D49: =SUM(D50:D56) -> -8987 | E49: =SUM(E50:E56) -> -8987 | F49: =SUM(F50:F56) -> -8987 | G49: =SUM(G50:G56) -> -8987
A51: Budgetopfølgning 1 - 2026 | D51: -6635 | E51: -6635 | F51: -6635 | G51: -6635
A52: BOF 2 2026 - tilretning af garatiprovision | D52: -2352 | E52: -2352 | F52: -2352 | G52: -2352
A57: Afdrag | C57: =SUM(C58:C62) -> 0 | D57: =SUM(D58:D62) -> 2132 | E57: =SUM(E58:E62) -> 2082 | F57: =SUM(F58:F62) -> 2335 | G57: =SUM(G58:G62) -> 2602
A59: Budgetopfølgning 1 - 2026 | D59: 2132 | E59: 2082 | F59: 2335 | G59: 2602
A63: Finansforskydninger | C63: =SUM(C64:C70) -> 0 | D63: =SUM(D64:D70) -> -1636 | E63: =SUM(E64:E70) -> -2665 | F63: =SUM(F64:F70) -> 168 | G63: =SUM(G64:G70) -> 3948
A65: Budgetopfølgning 3 - 2025 | D65: -267 | E65: -1296 | F65: -220 | G65: -220
A66: Deponering vedr. Generationernes Kvartershus - ind i 2030 | D66: 0 | E66: 0 | F66: 0 | G66: 69982
A67: Budgetopfølgning 1 - 2026 | D67: -1369 | E67: -1369 | F67: 388 | G67: 4168
A68: Deponering vedr. Generationernes Kvartershus - ud af 2030 | D68: 0 | E68: 0 | F68: 0 | G68: -69982
A71: Nye korrektioner i alt | C71: =C63+C57+C49+C42+C30+C13 -> 0 | D71: =D63+D57+D49+D42+D30+D13+D26 -> 99547 | E71: =E63+E57+E49+E42+E30+E13+E26 -> 251111 | F71: =F63+F57+F49+F42+F30+F13+F26 -> 304459 | G71: =G63+G57+G49+G42+G30+G13+G26 -> 148836

Sheet Vedtaget budget i 2026
A2: OPRINDELIGT BUDGET
A4: GRUNDLAG FOR BUDGETFORSLAG
C6: 2027-2030 SKAL IKKE ÆNDRES EFTER BUDGTEVEDTAGELSEN
A7: Mill.kr. , netto, 2026 priser | B7: 2026 | C7: =+'Budgetforslag 2027-2030'!C3 -> 2027 | D7: =+C7+1 -> 2028 | E7: =+D7+1 -> 2029 | F7: =+E7+1 -> 2030
B8: 24.08.2026 | C8: Budget
A9: DRIFTS OG ANLÆGSUDGIFTER:
A10: Skatter | B10: -4299.018 | C10: =-4565.354 -> -4565.354 | D10: -4752.349 | E10: -4813.563 | F10: -4813.563
A11: Refusion købsmoms | B11: 0
A12: Tilskud og udligning | B12: =793.962-947.078 -> -153.116 | C12: 80.529 | D12: 78.344 | E12: -19.122 | F12: -19.122
A13: Driftsudgifter | B13: =5327.409-1102.328 -> 4225.081 | C13: 4289.915 | D13: 4286.484 | E13: 4291.9 | F13: 4291.9
A14: Renter | B14: =10.444-12.585 -> -2.141 | C14: 3.341 | D14: 3.391 | E14: 3.441 | F14: 3.441
A15: Resultat af ordinær drift | B15: =SUM(B10:B14) -> -229.194 | C15: =SUM(C10:C14) -> -191.569 | D15: =SUM(D10:D14) -> -384.13 | E15: =SUM(E10:E14) -> -537.344 | F15: =SUM(F10:F14) -> -537.344
A16: Anlægsudgifter (HK 0, 2-6) | B16: =355.084-41.771 -> 313.313 | C16: 541.546 | D16: 278.807 | E16: 242.382 | F16: 0
A17: Anlægsudgifter (HK 1 - brugerfinansieret og uden for anlægsloft) | B17: 0 | C17: 0
A18: Skattefinansieret område ialt | B18: =B15+B16 -> 84.119 | C18: =C15+C16 -> 349.977 | D18: =D15+D16+D17 -> -105.323 | E18: =E15+E16+E17 -> -294.962 | F18: =F15+F16+F17 -> -537.344
A20: Pris- og lønskøn | B20: 0 | C20: 0 | D20: 156.46 | E20: 316.883 | F20: 465.971
A21: Årets resultat ialt | B21: =B18 -> 84.119 | C21: =C18+C20 -> 349.977 | D21: =D18+D20 -> 51.137 | E21: =E18+E20 -> 21.921 | F21: =F18+F20 -> -71.373
A23: KAPITALBEVÆGELSER:
A24: Årets resultat | B24: =+B21+B17 -> 84.119 | C24: =+C21+C17 -> 349.977 | D24: =+D21+D17 -> 51.137 | E24: =+E21+E17 -> 21.921 | F24: =+F21+F17 -> -71.373
A25: Låneoptagelse | B25: -29.226 | C25: -14.522 | D25: -14.522 | E25: -14.522 | F25: -14.522
A26: Afdrag på lån | B26: 35.369 | C26: 32.15 | D26: 32.65 | E26: 33.15 | F26: 33.15
A27: Øvrige balanceforskydning | B27: 57.885 | C27: -11.077 | D27: -10.278 | E27: -10.577 | F27: -10.577
A28: Ændring af likviditet | B28: =SUM(B24:B27) -> 148.147 | C28: =SUM(C24:C27) -> 356.528 | D28: =SUM(D24:D27) -> 58.987 | E28: =SUM(E24:E27) -> 29.972 | F28: =SUM(F24:F27) -> -63.322
A30: Kassebeholdning (ultimo)
A32: NØGLETAL: | H32: Gennemsnitslikvititet | J32: Ligger på: G:Budget/Fælles/Likviditetsrapporter
A33: Skatteprocent | B33: 25.6 | H33: Ultimo 31/12 2025 | J33: 521440
A34: Grundskyldspromille | B34: 20.65 | H34: Ultimo 31/3 2026 | J34: 565094
A35: Langfristet gæld, dranst 9, HF 9.55 | B35: =641.568-B25-B26 -> 635.425 | C35: =B35-C25-C26 -> 617.797 | D35: =C35-D25-D26 -> 599.669 | E35: =D35-E25-E26 -> 581.041 | F35: =E35-F25-F26 -> 562.413 | H35: Ultimo 30/6 2026 | J35: 608406
H36: Ultimo 30/9 2026
A37: Realvækst i driftsudgifter | H37: Ultimo 30/9 2020
H38: Ultimo 31/12 2026
A39: + = udgift/underskud - = indtægt/overskud

Sheet Ændringer til vedtaget budget
A1: Resultat af virkningen af ændringsforslag
C4: =+'Budgetforslag 2027-2030'!C3 -> 2027 | D4: =+C4+1 -> 2028 | E4: =+D4+1 -> 2029 | F4: =+E4+1 -> 2030
A5: Kassebeholdningen vedtaget i 2026 | C5: ='Vedtaget budget i 2026'!C30 -> 0 | D5: ='Vedtaget budget i 2026'!D30 -> 0 | E5: ='Vedtaget budget i 2026'!E30 -> 0 | F5: ='Vedtaget budget i 2026'!F30 -> 0
A7: Sum af prisfremskrivningen | C7: =prisfremskrivning!E39 -> 0 | D7: =+prisfremskrivning!F39-'Vedtaget budget i 2026'!D20 -> -36.838 | E7: =+prisfremskrivning!G39-'Vedtaget budget i 2026'!E20 -> -66.618 | F7: =+prisfremskrivning!H39-'Vedtaget budget i 2026'!F20 -> -76.721
A8: Sum af tekniske korrektioner på driften | C8: ='Tekniske korrektioner'!F12/1000+'Tekniske korrektioner'!E12/1000+I8 -> -270.662 | D8: ='Tekniske korrektioner'!G12/1000 -> -254.505 | E8: ='Tekniske korrektioner'!H12/1000 -> -243.911 | F8: ='Tekniske korrektioner'!I12/1000 -> -232.224
A9: Sum af aktivitetsudvidelser på driften | C9: =Aktivitetsudvidelser!F12/1000 -> 58.892 | D9: =Aktivitetsudvidelser!G12/1000 -> 82.886 | E9: =Aktivitetsudvidelser!H12/1000 -> 80.577 | F9: =Aktivitetsudvidelser!I12/1000 -> 59.984
A10: Sum af finansieringsforslag på driften | C10: =Finansieringsforslag!H11/1000 -> -88.754 | D10: =Finansieringsforslag!I11/1000 -> -60.374 | E10: =Finansieringsforslag!J11/1000 -> -62.674 | F10: =Finansieringsforslag!K11/1000 -> -59.549
A11: Sum af afledt drift | C11: ='Afledt drift'!E12/1000 -> -1.407 | D11: ='Afledt drift'!F12/1000 -> -1.065 | E11: ='Afledt drift'!G12/1000 -> 0.696 | F11: ='Afledt drift'!H12/1000 -> 0.085
A12: Sum af anlægsbudget 2025-2028 incl. Budgetkorrektioner | B12: Udgifter | C12: =(Anlægsønsker!D14)/1000 -> 164.99864 | D12: =(Anlægsønsker!E14)/1000 -> 636.02622 | E12: =(Anlægsønsker!F14)/1000 -> 259.04908 | F12: =(Anlægsønsker!G14)/1000 -> 198.8348
A13: Sum af anlægsbudget 2025-2028 incl. Budgetkorrektioner | B13: Indtægter | C13: =Anlægsønsker!D15/1000 -> -10.8 | D13: =Anlægsønsker!E15/1000 -> -3.5 | E13: =Anlægsønsker!F15/1000 -> -10.5 | F13: =Anlægsønsker!G15/1000 -> 0
A14: Sum af anlægsønsker 2025-2028 | B14: Udgifter | C14: =Anlægsønsker!D116/1000 -> 24.204541 | D14: =Anlægsønsker!E116/1000 -> 69.562794 | E14: =Anlægsønsker!F116/1000 -> 54.503552 | F14: =Anlægsønsker!G116/1000 -> 31.482
A15: Sum af anlægsønsker 2025-2028 | B15: Indtægter | C15: =Anlægsønsker!D117/1000 -> -0.9 | D15: =Anlægsønsker!E117/1000 -> -5.545 | E15: =Anlægsønsker!F117/1000 -> -0.145 | F15: =Anlægsønsker!G117/1000 -> 0
A16: Sum af skatter | C16: ='Korrektioner vedr. finansiering'!D13/1000 -> -125.937 | D16: ='Korrektioner vedr. finansiering'!E13/1000 -> 0.86 | E16: ='Korrektioner vedr. finansiering'!F13/1000 -> -24.818 | F16: ='Korrektioner vedr. finansiering'!G13/1000 -> -238.84
A17: Sum af refusion købsmoms | C17: ='Korrektioner vedr. finansiering'!D26/1000 -> 0 | D17: ='Korrektioner vedr. finansiering'!E26/1000 -> 0 | E17: ='Korrektioner vedr. finansiering'!F26/1000 -> 0 | F17: ='Korrektioner vedr. finansiering'!G26/1000 -> 0
A18: Sum af tilskud og udligning | C18: ='Korrektioner vedr. finansiering'!D30/1000 -> 222.053 | D18: ='Korrektioner vedr. finansiering'!E30/1000 -> 272.746 | E18: ='Korrektioner vedr. finansiering'!F30/1000 -> 336.263 | F18: ='Korrektioner vedr. finansiering'!G30/1000 -> 390.616
A19: Sum af lån | C19: ='Korrektioner vedr. finansiering'!D42/1000 -> 11.922 | D19: ='Korrektioner vedr. finansiering'!E42/1000 -> -12.925 | E19: ='Korrektioner vedr. finansiering'!F42/1000 -> -0.502 | F19: ='Korrektioner vedr. finansiering'!G42/1000 -> -0.503
A20: Sum af afdrag | C20: ='Korrektioner vedr. finansiering'!D57/1000 -> 2.132 | D20: ='Korrektioner vedr. finansiering'!E57/1000 -> 2.082 | E20: ='Korrektioner vedr. finansiering'!F57/1000 -> 2.335 | F20: ='Korrektioner vedr. finansiering'!G57/1000 -> 2.602
A21: Sum af renter | C21: ='Korrektioner vedr. finansiering'!D49/1000 -> -8.987 | D21: ='Korrektioner vedr. finansiering'!E49/1000 -> -8.987 | E21: ='Korrektioner vedr. finansiering'!F49/1000 -> -8.987 | F21: ='Korrektioner vedr. finansiering'!G49/1000 -> -8.987
A22: Sum af finansforskydninger | C22: ='Korrektioner vedr. finansiering'!D63/1000 -> -1.636 | D22: ='Korrektioner vedr. finansiering'!E63/1000 -> -2.665 | E22: ='Korrektioner vedr. finansiering'!F63/1000 -> 0.168 | F22: ='Korrektioner vedr. finansiering'!G63/1000 -> 3.948
A24: Sum af ændringerne | C24: =SUM(C7:C22) -> -24.880815 | D24: =SUM(D7:D22) -> 677.75902 | E24: =SUM(E7:E22) -> 315.43663 | F24: =SUM(F7:F22) -> 70.727799
A26: Akkumuleret kassepåvirkning | C26: =C24 -> -24.880815 | D26: =D24+C26 -> 652.8782 | E26: =D26+E24 -> 968.31484 | F26: =E26+F24 -> 1039.0426
A28: Ny kassebeholdning | C28: =C5+C26 -> -24.880815 | D28: =D26+D5 -> 652.8782 | E28: =E26+E5 -> 968.31484 | F28: =F26+F5 -> 1039.0426

Sheet prisfremskrivning
A2: Prisfremskrivningen for budgetårene.
E5: =+E42 -> 2027 | F5: =+E5+1 -> 2028 | G5: =+F5+1 -> 2029 | H5: =+G5+1 -> 2030
D7: PL-skøn fra ved budgetgrundlag 12.11.2025 | E7: 0 | F7: =(G44+H44)/1000 -> 156.46 | G7: =(I44+J44)/1000 -> 316.882 | H7: =(K44+L44)/1000 -> 465.971 | K7: =H7-G7 -> 149.089 | L7: kun drift
D8: Pl-regulering ifm afstemning af ramme | E8: 0 | F8: =IF(G45>0,(G45+H45)/1000-SUM($F$7:F7),0) -> 0.338 | G8: =IF(I45>0,(I45+J45)/1000-SUM($G$7:G7),0) -> 0.019 | H8: =IF(K45>0,(K45+L45)/1000-SUM($H$7:H7),0) -> 5.42 | K8: =H8-G8 -> 5.401 | L8: nu med anlæg
D9: Pl-regulering ifm afstemning af ramme | E9: 0 | F9: =IF(G46>0,(G46+H46)/1000-SUM($F$7:F8),0) -> -0.002014 | G9: =IF(I46>0,(I46+J46)/1000-SUM($G$7:G8),0) -> -0.079235 | H9: =IF(K46>0,(K46+L46)/1000-SUM($H$7:H8),0) -> 5.204459 | K9: =SUM(K8)-K7 -> -143.688 | L9: Forskellen er lig med PL effekt på anlæg
D10: Pl-regulering ifm afstemning af ramme | E10: 0 | F10: =IF(G47>0,(G47+H47)/1000-SUM($F$7:F9),0) -> 1.4e-05 | G10: =IF(I47>0,(I47+J47)/1000-SUM($G$7:G9),0) -> 0.000235 | H10: =IF(K47>0,(K47+L47)/1000-SUM($H$7:H9),0) -> -0.029459
D11: Pl-regulering ifm afstemning af ramme | E11: 0 | F11: =IF(G48>0,(G48+H48)/1000-SUM($F$7:F10),0) -> -26.556 | G11: =IF(I48>0,(I48+J48)/1000-SUM($G$7:G10),0) -> -41.067 | H11: =IF(K48>0,(K48+L48)/1000-SUM($H$7:H10),0) -> -54.918
D12: Pl-regulering ifm afstemning af ramme | E12: 0 | F12: =IF(G49>0,(G49+H49)/1000-SUM($F$7:F11),0) -> -0.018396 | G12: =IF(I49>0,(I49+J49)/1000-SUM($G$7:G11),0) -> -0.025167 | H12: =IF(K49>0,(K49+L49)/1000-SUM($H$7:H11),0) -> -0.072758 | K12: =H12-G12 -> -0.047591
D13: Pl-regulering ifm afstemning af ramme | E13: 0 | F13: =IF(G50>0,(G50+H50)/1000-SUM($F$7:F12),0) -> -0.343604 | G13: =IF(I50>0,(I50+J50)/1000-SUM($G$7:G12),0) -> -1.163833 | H13: =IF(K50>0,(K50+L50)/1000-SUM($H$7:H12),0) -> 3.314758 | K13: =H13-G13 -> 4.478591
D14: Pl-regulering ifm afstemning af ramme | E14: 0 | F14: =IF(G51>0,(G51+H51)/1000-SUM($F$7:F13),0) -> 0.099 | G14: =IF(I51>0,(I51+J51)/1000-SUM($G$7:G13),0) -> -0.056 | H14: =IF(K51>0,(K51+L51)/1000-SUM($H$7:H13),0) -> -0.528 | K14: =H14-G14 -> -0.472
D15: Pl-regulering ifm afstemning af ramme | E15: 0 | F15: =IF(G52>0,(G52+H52)/1000-SUM($F$7:F14),0) -> -10.88415 | G15: =IF(I52>0,(I52+J52)/1000-SUM($G$7:G14),0) -> -16.947051 | H15: =IF(K52>0,(K52+L52)/1000-SUM($H$7:H14),0) -> -23.471961 | K15: =H15-G15 -> -6.52491
D16: Pl-regulering ifm afstemning af ramme | E16: 0 | F16: =IF(G53>0,(G53+H53)/1000-SUM($F$7:F15),0) -> -6.51685 | G16: =IF(I53>0,(I53+J53)/1000-SUM($G$7:G15),0) -> -13.875949 | H16: =IF(K53>0,(K53+L53)/1000-SUM($H$7:H15),0) -> -20.941039
D17: Pl-regulering ifm afstemning af ramme | E17: 0 | F17: =IF(G54>0,(G54+H54)/1000-SUM($F$7:F16),0) -> 0.089169 | G17: =IF(I54>0,(I54+J54)/1000-SUM($G$7:G16),0) -> 0.194185 | H17: =IF(K54>0,(K54+L54)/1000-SUM($H$7:H16),0) -> -1.969729
D18: Pl-regulering ifm afstemning af ramme | E18: 0 | F18: =IF(G55>0,(G55+H55)/1000-SUM($F$7:F17),0) -> -0.206169 | G18: =IF(I55>0,(I55+J55)/1000-SUM($G$7:G17),0) -> -0.459185 | H18: =IF(K55>0,(K55+L55)/1000-SUM($H$7:H17),0) -> -0.750271
D19: Pl-regulering ifm afstemning af ramme | E19: 0 | F19: =IF(G56>0,(G56+H56)/1000-SUM($F$7:F18),0) -> 4.574 | G19: =IF(I56>0,(I56+J56)/1000-SUM($G$7:G18),0) -> 5.651 | H19: =IF(K56>0,(K56+L56)/1000-SUM($H$7:H18),0) -> 8.216
D20: Pl-regulering ifm afstemning af ramme | E20: 0 | F20: =IF(G57>0,(G57+H57)/1000-SUM($F$7:F19),0) -> 0.028 | G20: =IF(I57>0,(I57+J57)/1000-SUM($G$7:G19),0) -> -0.004 | H20: =IF(K57>0,(K57+L57)/1000-SUM($H$7:H19),0) -> 0
D21: Pl-regulering ifm afstemning af ramme | E21: 0 | F21: =IF(G58>0,(G58+H58)/1000-SUM($F$7:F20),0) -> 2.561 | G21: =IF(I58>0,(I58+J58)/1000-SUM($G$7:G20),0) -> 1.196 | H21: =IF(K58>0,(K58+L58)/1000-SUM($H$7:H20),0) -> 3.805
D22: Pl-regulering ifm afstemning af ramme | E22: 0 | F22: =IF(G59>0,(G59+H59)/1000-SUM($F$7:F21),0) -> 0 | G22: =IF(I59>0,(I59+J59)/1000-SUM($G$7:G21),0) -> 0 | H22: =IF(K59>0,(K59+L59)/1000-SUM($H$7:H21),0) -> 0
D23: Pl-regulering ifm afstemning af ramme | E23: 0 | F23: =IF(G60>0,(G60+H60)/1000-SUM($F$7:F22),0) -> 0 | G23: =IF(I60>0,(I60+J60)/1000-SUM($G$7:G22),0) -> 0 | H23: =IF(K60>0,(K60+L60)/1000-SUM($H$7:H22),0) -> 0
D24: Pl-regulering ifm afstemning af ramme | E24: 0 | F24: =IF(G61>0,(G61+H61)/1000-SUM($F$7:F23),0) -> 0 | G24: =IF(I61>0,(I61+J61)/1000-SUM($G$7:G23),0) -> 0 | H24: =IF(K61>0,(K61+L61)/1000-SUM($H$7:H23),0) -> 0
D25: Pl-regulering ifm afstemning af ramme | E25: 0 | F25: =IF(G62>0,(G62+H62)/1000-SUM($F$7:F24),0) -> 0 | G25: =IF(I62>0,(I62+J62)/1000-SUM($G$7:G24),0) -> 0 | H25: =IF(K62>0,(K62+L62)/1000-SUM($H$7:H24),0) -> 0
D26: Pl-regulering ifm afstemning af ramme | E26: 0 | F26: =IF(G63>0,(G63+H63)/1000-SUM($F$7:F25),0) -> 0 | G26: =IF(I63>0,(I63+J63)/1000-SUM($G$7:G25),0) -> 0 | H26: =IF(K63>0,(K63+L63)/1000-SUM($H$7:H25),0) -> 0
D27: Pl-regulering ifm afstemning af ramme | E27: 0 | F27: =IF(G64>0,(G64+H64)/1000-SUM($F$7:F26),0) -> 0 | G27: =IF(I64>0,(I64+J64)/1000-SUM($G$7:G26),0) -> 0 | H27: =IF(K64>0,(K64+L64)/1000-SUM($H$7:H26),0) -> 0
... D35: Pl-regulering ifm afstemning af ramme | E35: 0 | F35: =IF(G72>0,(G72+H72)/1000-SUM($F$7:F34),0) -> 0 | G35: =IF(I72>0,(I72+J72)/1000-SUM($G$7:G34),0) -> 0 | H35: =IF(K72>0,(K72+L72)/1000-SUM($H$7:H34),0) -> 0
D36: Pl-regulering ifm afstemning af ramme | E36: 0 | F36: =IF(G73>0,(G73+H73)/1000-SUM($F$7:F35),0) -> 0 | G36: =IF(I73>0,(I73+J73)/1000-SUM($G$7:G35),0) -> 0 | H36: =IF(K73>0,(K73+L73)/1000-SUM($H$7:H35),0) -> 0 | I36: =SUM(F35:F36) -> 0 | J36: =SUM(G35:G36) -> 0 | K36: =SUM(H35:H36) -> 0
E37: 0
D39: Ændring | E39: =SUM(E6:E38) -> 0 | F39: =SUM(F6:F38) -> 119.622 | G39: =SUM(G6:G38) -> 250.265 | H39: =SUM(H6:H38) -> 389.25
D42: BUDGETTET ER I 2027-PRIS | E42: =+Aktivitetsudvidelser!F11 -> 2027 | G42: =E42+1 -> 2028 | I42: =G42+1 -> 2029 | K42: =I42+1 -> 2030
A43: Dato | E43: SKAL ALTID VÆRE NUL
A44: 18.11.2025 | B44: kontrol af hovedoversigt | D44: PRIS-/LØN-STIGNINGER 00-06 | E44: 0 | F44: 0 | G44: 180595 | H44: -24135 | I44: 363193 | J44: -46311 | K44: 536818 | L44: -70847
A45: 28.11.2025 | B45: kontrol af hovedoversigt | D45: PRIS-/LØN-STIGNINGER 00-06 | E45: 0 | F45: 0 | G45: 180929 | H45: -24131 | I45: 363334 | J45: -46433 | K45: 542227 | L45: -70836
A46: 22.12.2025 | B46: kontrol af hovedoversigt | D46: PRIS-/LØN-STIGNINGER 00-06 | E46: 0 | F46: 0 | G46: 180964.07 | H46: -24168.079 | I46: 363329.95 | J46: -46508.182 | K46: 548143.69 | L46: -71548.228
A47: 05.01.2026 | B47: kontrol af hovedoversigt | D47: PRIS-/LØN-STIGNINGER 00-06 | E47: 0 | F47: 0 | G47: 180964 | H47: -24168 | I47: 363330 | J47: -46508 | K47: 548114 | L47: -71548
A48: 18.03.2026 | B48: kontrol af hovedoversigt | D48: PRIS-/LØN-STIGNINGER 00-06 | E48: 0 | F48: 0 | G48: 147521 | H48: -17281 | I48: 310002 | J48: -34247 | K48: 474615 | L48: -52967
A49: 06.05.2026 | B49: kontrol af hovedoversigt | D49: PRIS-/LØN-STIGNINGER 00-06 | E49: 0 | F49: 0 | G49: 145418.05 | H49: -15196.446 | I49: 305747.4 | J49: -30017.569 | K49: 468105.55 | L49: -46530.305
A50: 27.05.2026 | B50: kontrol af hovedoversigt | D50: PRIS-/LØN-STIGNINGER 00-06 | E50: 0 | F50: 0 | G50: 145081 | H50: -15203 | I50: 304578 | J50: -30012 | K50: 471411 | L50: -46521
A51: 24.06.2026 | B51: kontrol af hovedoversigt | D51: PRIS-/LØN-STIGNINGER 00-06 | E51: 0 | F51: 0 | G51: 145148 | H51: -15171 | I51: 304454 | J51: -29944 | K51: 470778 | L51: -46416
A52: 46199 | B52: kontrol af hovedoversigt | D52: PRIS-/LØN-STIGNINGER 00-06 | E52: 0 | F52: 0 | G52: 133572.41 | H52: -14479.558 | I52: 285912.86 | J52: -28349.907 | K52: 444655.03 | L52: -43764.989
A53: 08.07.2026 | B53: kontrol af hovedoversigt | D53: PRIS-/LØN-STIGNINGER 00-06 | E53: 0 | F53: 0 | G53: 127023 | H53: -14447 | I53: 271969 | J53: -28282 | K53: 423609 | L53: -43660
A54: 23.07.2026 | B54: kontrol af hovedoversigt | D54: PRIS-/LØN-STIGNINGER 00-06 | E54: 0 | F54: 0 | G54: 127043.12 | H54: -14377.948 | I54: 272017.28 | J54: -28136.092 | K54: 420829.1 | L54: -42849.834
A55: 10.08.2026 | B55: kontrol af hovedoversigt | D55: PRIS-/LØN-STIGNINGER 00-06 | E55: 0 | F55: 0 | G55: 126956 | H55: -14497 | I55: 271800 | J55: -28378 | K55: 420446 | L55: -43217
A56: 19.08.2026 | B56: kontrol af hovedoversigt | D56: PRIS-/LØN-STIGNINGER 00-06 | E56: 0 | F56: 0 | G56: 131877 | H56: -14844 | I56: 278157 | J56: -29084 | K56: 429547 | L56: -44102
A57: 21.08.2026 | B57: kontrol af hovedoversigt | D57: PRIS-/LØN-STIGNINGER 00-06 | E57: 0 | F57: 0 | G57: 131905 | H57: -14844 | I57: 278153 | J57: -29084 | K57: 429547 | L57: -44102
A58: 24.08.2026 | B58: kontrol af hovedoversigt | D58: PRIS-/LØN-STIGNINGER 00-06 | E58: 0 | F58: 0 | G58: 134466 | H58: -14844 | I58: 279349 | J58: -29084 | K58: 433352 | L58: -44102
B59: kontrol af hovedoversigt | D59: PRIS-/LØN-STIGNINGER 00-06 | E59: 0 | F59: 0 | G59: 0 | H59: 0 | I59: 0 | J59: 0 | K59: 0 | L59: 0
B60: kontrol af hovedoversigt | D60: PRIS-/LØN-STIGNINGER 00-06 | E60: 0 | F60: 0 | G60: 0 | H60: 0 | I60: 0 | J60: 0 | K60: 0 | L60: 0
B61: kontrol af hovedoversigt | D61: PRIS-/LØN-STIGNINGER 00-06 | E61: 0 | F61: 0 | G61: 0 | H61: 0 | I61: 0 | J61: 0 | K61: 0 | L61: 0
B62: kontrol af hovedoversigt | D62: PRIS-/LØN-STIGNINGER 00-06 | E62: 0 | F62: 0 | G62: 0 | H62: 0 | I62: 0 | J62: 0 | K62: 0 | L62: 0
B63: kontrol af hovedoversigt | D63: PRIS-/LØN-STIGNINGER 00-06 | E63: 0 | F63: 0 | G63: 0 | H63: 0 | I63: 0 | J63: 0 | K63: 0 | L63: 0
B64: kontrol af hovedoversigt | D64: PRIS-/LØN-STIGNINGER 00-06 | E64: 0 | F64: 0 | G64: 0 | H64: 0 | I64: 0 | J64: 0 | K64: 0 | L64: 0
B65: kontrol af hovedoversigt | D65: PRIS-/LØN-STIGNINGER 00-06 | E65: 0 | F65: 0 | G65: 0 | H65: 0 | I65: 0 | J65: 0 | K65: 0 | L65: 0
B66: kontrol af hovedoversigt | D66: PRIS-/LØN-STIGNINGER 00-09 | E66: 0 | F66: 0 | G66: 0 | H66: 0 | I66: 0 | J66: 0 | K66: 0 | L66: 0
B67: kontrol af hovedoversigt | D67: PRIS-/LØN-STIGNINGER 00-06 | E67: 0 | F67: 0 | G67: 0 | H67: 0 | I67: 0 | J67: 0 | K67: 0 | L67: 0
B68: kontrol af hovedoversigt | D68: PRIS-/LØN-STIGNINGER 00-06 | E68: 0 | F68: 0 | G68: 0 | H68: 0 | I68: 0 | J68: 0 | K68: 0 | L68: 0
B69: kontrol af hovedoversigt | D69: PRIS-/LØN-STIGNINGER 00-06 | E69: 0 | F69: 0 | G69: 0 | H69: 0 | I69: 0 | J69: 0 | K69: 0 | L69: 0
B70: kontrol af hovedoversigt | D70: PRIS-/LØN-STIGNINGER 00-06 | E70: 0 | F70: 0 | G70: 0 | H70: 0 | I70: 0 | J70: 0 | K70: 0 | L70: 0
... B73: kontrol af hovedoversigt | D73: PRIS-/LØN-STIGNINGER 00-06 | E73: 0 | F73: 0 | G73: 0 | H73: 0 | I73: 0 | J73: 0 | K73: 0 | L73: 0
D74: PRIS-/LØN-STIGNINGER 00-06 | E74: 0 | F74: 0 | G74: 0 | H74: 0 | I74: 0 | J74: 0 | K74: 0 | L74: 0

Sheet Afstemning
D7: =+Aktivitetsudvidelser!F11 -> 2027 | E7: =+D7+1 -> 2028 | F7: =+E7+1 -> 2029 | G7: =+F7+1 -> 2030
A8: 11. Administration
B9: Oprindelig budget 2027-2030 | D9: 475923.87 | E9: 465291.4 | F9: 473371.39 | G9: 473371.39
C10: Tekniske korrektioner | D10: =SUMIFS('Tekniske korrektioner'!F$13:F$288,'Tekniske korrektioner'!$K$13:$K$288,"x",'Tekniske korrektioner'!$C$13:$C$288,"11")+SUMIFS('Tekniske korrektioner'!E$13:E$288,'Tekniske korrektioner'!$K$13:$K$288,"x",'Tekniske korrektioner'!$C$13:$C$288,"11") -> 7185 | E10: =SUMIFS('Tekniske korrektioner'!G$13:G$288,'Tekniske korrektioner'!$K$13:$K$288,"x",'Tekniske korrektioner'!$C$13:$C$288,"11") -> 8224 | F10: =SUMIFS('Tekniske korrektioner'!H$13:H$288,'Tekniske korrektioner'!$K$13:$K$288,"x",'Tekniske korrektioner'!$C$13:$C$288,"11") -> 7970 | G10: =SUMIFS('Tekniske korrektioner'!I$13:I$288,'Tekniske korrektioner'!$K$13:$K$288,"x",'Tekniske korrektioner'!$C$13:$C$288,"11") -> -545
C11: Afledt drift | D11: =SUMIFS('Afledt drift'!E$13:E$78,'Afledt drift'!$J$13:$J$78,"x",'Afledt drift'!$C$13:$C$78,"11") -> 106 | E11: =SUMIFS('Afledt drift'!F$13:F$78,'Afledt drift'!$J$13:$J$78,"x",'Afledt drift'!$C$13:$C$78,"11") -> 296 | F11: =SUMIFS('Afledt drift'!G$13:G$78,'Afledt drift'!$J$13:$J$78,"x",'Afledt drift'!$C$13:$C$78,"11") -> 296 | G11: =SUMIFS('Afledt drift'!H$13:H$78,'Afledt drift'!$J$13:$J$78,"x",'Afledt drift'!$C$13:$C$78,"11") -> 106 | J11: =(D14-J14) -> -12073.128 | K11: =(E14-K14) -> -7511.6 | L11: =(F14-L14) -> -7411.614 | M11: =(G14-M14) -> -4477.614 | O11: Difference
C12: Budgetønsker | D12: =SUMIFS(Aktivitetsudvidelser!F$14:F$197,Aktivitetsudvidelser!$L$14:$L$197,"x",Aktivitetsudvidelser!$D$14:$D$197,"11") -> 8451 | E12: =SUMIFS(Aktivitetsudvidelser!G$14:G$197,Aktivitetsudvidelser!$L$14:$L$197,"x",Aktivitetsudvidelser!$D$14:$D$197,"11") -> 8991 | F12: =SUMIFS(Aktivitetsudvidelser!H$14:H$197,Aktivitetsudvidelser!$L$14:$L$197,"x",Aktivitetsudvidelser!$D$14:$D$197,"11") -> 8991 | G12: =SUMIFS(Aktivitetsudvidelser!I$14:I$197,Aktivitetsudvidelser!$L$14:$L$197,"x",Aktivitetsudvidelser!$D$14:$D$197,"11") -> 8991
C13: Finansieringsforslag | D13: =SUMIFS(Finansieringsforslag!H$12:H$165,Finansieringsforslag!$N$12:$N$165,"x",Finansieringsforslag!$E$12:$E$165,"11") -> -20625 | E13: =SUMIFS(Finansieringsforslag!$I$12:$I$165,Finansieringsforslag!$N$12:$N$165,"x",Finansieringsforslag!$E$12:$E$165,"11") -> -16795 | F13: =SUMIFS(Finansieringsforslag!$J$12:$J$165,Finansieringsforslag!$N$12:$N$165,"x",Finansieringsforslag!$E$12:$E$165,"11") -> -16695 | G13: =SUMIFS(Finansieringsforslag!$K$12:$K$165,Finansieringsforslag!$N$12:$N$165,"x",Finansieringsforslag!$E$12:$E$165,"11") -> -13570
B14: Vedtaget budget 2027 - 2030 | D14: =SUM(D9:D13) -> 471040.87 | E14: =SUM(E9:E13) -> 466007.4 | F14: =SUM(F9:F13) -> 473933.39 | G14: =SUM(G9:G13) -> 468353.39 | J14: 483114 | K14: 473519 | L14: 481345 | M14: 472831 | N14: OPUS | O14: 24.08.2026
A17: 12. Ejendomme
B18: =B9 -> Oprindelig budget 2027-2030 | D18: 169925.58 | E18: 169385.23 | F18: 167437.85 | G18: 167437.85
C19: Tekniske korrektioner | D19: =SUMIFS('Tekniske korrektioner'!F$13:F$288,'Tekniske korrektioner'!$K$13:$K$288,"x",'Tekniske korrektioner'!$C$13:$C$288,"12")+SUMIFS('Tekniske korrektioner'!E$13:E$288,'Tekniske korrektioner'!$K$13:$K$288,"x",'Tekniske korrektioner'!$C$13:$C$288,"12") -> -12243 | E19: =SUMIFS('Tekniske korrektioner'!G$13:G$288,'Tekniske korrektioner'!$K$13:$K$288,"x",'Tekniske korrektioner'!$C$13:$C$288,"12") -> -2430 | F19: =SUMIFS('Tekniske korrektioner'!H$13:H$288,'Tekniske korrektioner'!$K$13:$K$288,"x",'Tekniske korrektioner'!$C$13:$C$288,"12") -> 38 | G19: =SUMIFS('Tekniske korrektioner'!I$13:I$288,'Tekniske korrektioner'!$K$13:$K$288,"x",'Tekniske korrektioner'!$C$13:$C$288,"12") -> -3253
C20: Afledt drift | D20: =SUMIFS('Afledt drift'!E$13:E$78,'Afledt drift'!$J$13:$J$78,"x",'Afledt drift'!$C$13:$C$78,"12") -> -1541 | E20: =SUMIFS('Afledt drift'!F$13:F$78,'Afledt drift'!$J$13:$J$78,"x",'Afledt drift'!$C$13:$C$78,"12") -> -1181 | F20: =SUMIFS('Afledt drift'!G$13:G$78,'Afledt drift'!$J$13:$J$78,"x",'Afledt drift'!$C$13:$C$78,"12") -> 112 | G20: =SUMIFS('Afledt drift'!H$13:H$78,'Afledt drift'!$J$13:$J$78,"x",'Afledt drift'!$C$13:$C$78,"12") -> -298 | J20: =D23-J23 -> -16367.415 | K20: =E23-K23 -> -15485.769 | L20: =F23-L23 -> -14193.153 | M20: =G23-M23 -> -14603.153 | O20: Difference
C21: Budgetønsker | D21: =SUMIFS(Aktivitetsudvidelser!F$14:F$197,Aktivitetsudvidelser!$L$14:$L$197,"x",Aktivitetsudvidelser!$D$14:$D$197,"12") -> 280 | E21: =SUMIFS(Aktivitetsudvidelser!G$14:G$197,Aktivitetsudvidelser!$L$14:$L$197,"x",Aktivitetsudvidelser!$D$14:$D$197,"12") -> 300 | F21: =SUMIFS(Aktivitetsudvidelser!H$14:H$197,Aktivitetsudvidelser!$L$14:$L$197,"x",Aktivitetsudvidelser!$D$14:$D$197,"12") -> 300 | G21: =SUMIFS(Aktivitetsudvidelser!I$14:I$197,Aktivitetsudvidelser!$L$14:$L$197,"x",Aktivitetsudvidelser!$D$14:$D$197,"12") -> 300
C22: Finansieringsforslag | D22: =SUMIFS(Finansieringsforslag!H$12:H$175,Finansieringsforslag!$N$12:$N$175,"x",Finansieringsforslag!$E$12:$E$175,"12") -> -15257 | E22: =SUMIFS(Finansieringsforslag!I$12:I$175,Finansieringsforslag!$N$12:$N$175,"x",Finansieringsforslag!$E$12:$E$175,"12") -> -14605 | F22: =SUMIFS(Finansieringsforslag!J$12:J$175,Finansieringsforslag!$N$12:$N$175,"x",Finansieringsforslag!$E$12:$E$175,"12") -> -14605 | G22: =SUMIFS(Finansieringsforslag!K$12:K$175,Finansieringsforslag!$N$12:$N$175,"x",Finansieringsforslag!$E$12:$E$175,"12") -> -14605
B23: =B14 -> Vedtaget budget 2027 - 2030 | D23: =SUM(D18:D22) -> 141164.58 | E23: =SUM(E18:E22) -> 151469.23 | F23: =SUM(F18:F22) -> 153282.85 | G23: =SUM(G18:G22) -> 149581.85 | J23: 157532 | K23: 166955 | L23: 167476 | M23: 164185 | N23: OPUS | O23: =O14 -> 24.08.2026
A26: 13. Rengøring - Bestiller
B27: =B9 -> Oprindelig budget 2027-2030 | D27: 53966.778 | E27: 53994.782 | F27: 54048.282 | G27: 54048.282
C28: Tekniske korrektioner | D28: =SUMIFS('Tekniske korrektioner'!F$13:F$288,'Tekniske korrektioner'!$K$13:$K$288,"x",'Tekniske korrektioner'!$C$13:$C$288,"13")+SUMIFS('Tekniske korrektioner'!E$13:E$288,'Tekniske korrektioner'!$K$13:$K$288,"x",'Tekniske korrektioner'!$C$13:$C$288,"13") -> 872 | E28: =SUMIFS('Tekniske korrektioner'!G$13:G$288,'Tekniske korrektioner'!$K$13:$K$288,"x",'Tekniske korrektioner'!$C$13:$C$288,"13") -> 1088 | F28: =SUMIFS('Tekniske korrektioner'!H$13:H$288,'Tekniske korrektioner'!$K$13:$K$288,"x",'Tekniske korrektioner'!$C$13:$C$288,"13") -> 891 | G28: =SUMIFS('Tekniske korrektioner'!I$13:I$288,'Tekniske korrektioner'!$K$13:$K$288,"x",'Tekniske korrektioner'!$C$13:$C$288,"13") -> 731
C29: Afledt drift | D29: =SUMIFS('Afledt drift'!E$13:E$78,'Afledt drift'!$J$13:$J$78,"x",'Afledt drift'!$C$13:$C$78,"13") -> -277 | E29: =SUMIFS('Afledt drift'!F$13:F$78,'Afledt drift'!$J$13:$J$78,"x",'Afledt drift'!$C$13:$C$78,"13") -> -325 | F29: =SUMIFS('Afledt drift'!G$13:G$78,'Afledt drift'!$J$13:$J$78,"x",'Afledt drift'!$C$13:$C$78,"13") -> -133 | G29: =SUMIFS('Afledt drift'!H$13:H$78,'Afledt drift'!$J$13:$J$78,"x",'Afledt drift'!$C$13:$C$78,"13") -> -120 | J29: =D32-J32 -> -534.222 | K29: =E32-K32 -> -580.218 | L29: =F32-L32 -> -389.718 | M29: =G32-M32 -> -378.718 | O29: Difference
C30: Budgetønsker | D30: =SUMIFS(Aktivitetsudvidelser!F$14:F$197,Aktivitetsudvidelser!$L$14:$L$197,"x",Aktivitetsudvidelser!$D$14:$D$197,"13") -> 100 | E30: =SUMIFS(Aktivitetsudvidelser!G$14:G$197,Aktivitetsudvidelser!$L$14:$L$197,"x",Aktivitetsudvidelser!$D$14:$D$197,"13") -> 100 | F30: =SUMIFS(Aktivitetsudvidelser!H$14:H$197,Aktivitetsudvidelser!$L$14:$L$197,"x",Aktivitetsudvidelser!$D$14:$D$197,"13") -> 100 | G30: =SUMIFS(Aktivitetsudvidelser!I$14:I$197,Aktivitetsudvidelser!$L$14:$L$197,"x",Aktivitetsudvidelser!$D$14:$D$197,"13") -> 100
C31: Finansieringsforslag | D31: =SUMIFS(Finansieringsforslag!H$12:H$165,Finansieringsforslag!$N$12:$N$165,"x",Finansieringsforslag!$E$12:$E$165,"13") -> -360 | E31: =SUMIFS(Finansieringsforslag!$I$12:$I$165,Finansieringsforslag!$N$12:$N$165,"x",Finansieringsforslag!$E$12:$E$165,"13") -> -360 | F31: =SUMIFS(Finansieringsforslag!$J$12:$J$165,Finansieringsforslag!$N$12:$N$165,"x",Finansieringsforslag!$E$12:$E$165,"13") -> -360 | G31: =SUMIFS(Finansieringsforslag!$K$12:$K$165,Finansieringsforslag!$N$12:$N$165,"x",Finansieringsforslag!$E$12:$E$165,"13") -> -360
B32: =B14 -> Vedtaget budget 2027 - 2030 | D32: =SUM(D27:D31) -> 54301.778 | E32: =SUM(E27:E31) -> 54497.782 | F32: =SUM(F27:F31) -> 54546.282 | G32: =SUM(G27:G31) -> 54399.282 | J32: 54836 | K32: 55078 | L32: 54936 | M32: 54778 | N32: OPUS | O32: =O14 -> 24.08.2026
A35: 21. Natur, Miljø og Klima
B36: =B9 -> Oprindelig budget 2027-2030 | D36: 13943.986 | E36: 13791.991 | F36: 13791.989 | G36: 13791.989
C37: Tekniske korrektioner | D37: =SUMIFS('Tekniske korrektioner'!F$13:F$288,'Tekniske korrektioner'!$K$13:$K$288,"x",'Tekniske korrektioner'!$C$13:$C$288,"21") -> -972 | E37: =SUMIFS('Tekniske korrektioner'!G$13:G$288,'Tekniske korrektioner'!$K$13:$K$288,"x",'Tekniske korrektioner'!$C$13:$C$288,"21") -> -972 | F37: =SUMIFS('Tekniske korrektioner'!H$13:H$288,'Tekniske korrektioner'!$K$13:$K$288,"x",'Tekniske korrektioner'!$C$13:$C$288,"21") -> -971 | G37: =SUMIFS('Tekniske korrektioner'!I$13:I$288,'Tekniske korrektioner'!$K$13:$K$288,"x",'Tekniske korrektioner'!$C$13:$C$288,"21") -> -971
C38: Afledt drift | D38: =SUMIFS('Afledt drift'!E$13:E$78,'Afledt drift'!$J$13:$J$78,"x",'Afledt drift'!$C$13:$C$78,"21") -> 0 | E38: =SUMIFS('Afledt drift'!F$13:F$78,'Afledt drift'!$J$13:$J$78,"x",'Afledt drift'!$C$13:$C$78,"21") -> 0 | F38: =SUMIFS('Afledt drift'!G$13:G$78,'Afledt drift'!$J$13:$J$78,"x",'Afledt drift'!$C$13:$C$78,"21") -> 0 | G38: =SUMIFS('Afledt drift'!H$13:H$78,'Afledt drift'!$J$13:$J$78,"x",'Afledt drift'!$C$13:$C$78,"21") -> 0 | J38: =D41-J41 -> 2698.986 | K38: =E41-K41 -> 2698.991 | L38: =F41-L41 -> 2698.989 | M38: =G41-M41 -> 2698.989 | O38: Difference
C39: Budgetønsker | D39: =SUMIFS(Aktivitetsudvidelser!F$14:F$197,Aktivitetsudvidelser!$L$14:$L$197,"x",Aktivitetsudvidelser!$D$14:$D$197,"21") -> 2900 | E39: =SUMIFS(Aktivitetsudvidelser!G$14:G$197,Aktivitetsudvidelser!$L$14:$L$197,"x",Aktivitetsudvidelser!$D$14:$D$197,"21") -> 2900 | F39: =SUMIFS(Aktivitetsudvidelser!H$14:H$197,Aktivitetsudvidelser!$L$14:$L$197,"x",Aktivitetsudvidelser!$D$14:$D$197,"21") -> 2900 | G39: =SUMIFS(Aktivitetsudvidelser!I$14:I$197,Aktivitetsudvidelser!$L$14:$L$197,"x",Aktivitetsudvidelser!$D$14:$D$197,"21") -> 2900
C40: Finansieringsforslag | D40: =SUMIFS(Finansieringsforslag!H$12:H$165,Finansieringsforslag!$N$12:$N$165,"x",Finansieringsforslag!$E$12:$E$165,"21") -> -200 | E40: =SUMIFS(Finansieringsforslag!$I$12:$I$165,Finansieringsforslag!$N$12:$N$165,"x",Finansieringsforslag!$E$12:$E$165,"21") -> -200 | F40: =SUMIFS(Finansieringsforslag!$J$12:$J$165,Finansieringsforslag!$N$12:$N$165,"x",Finansieringsforslag!$E$12:$E$165,"21") -> -200 | G40: =SUMIFS(Finansieringsforslag!$K$12:$K$165,Finansieringsforslag!$N$12:$N$165,"x",Finansieringsforslag!$E$12:$E$165,"21") -> -200
B41: =B14 -> Vedtaget budget 2027 - 2030 | D41: =SUM(D35:D40) -> 15671.986 | E41: =SUM(E35:E40) -> 15519.991 | F41: =SUM(F35:F40) -> 15520.989 | G41: =SUM(G35:G40) -> 15520.989 | J41: 12973 | K41: 12821 | L41: 12822 | M41: 12822 | N41: OPUS | O41: =O14 -> 24.08.2026
A44: 23. Kirkegårde
B45: =B9 -> Oprindelig budget 2027-2030 | D45: 3356.696 | E45: 3358.715 | F45: 3358.715 | G45: 3358.715
C46: Tekniske korrektioner | D46: =SUMIFS('Tekniske korrektioner'!F$13:F$288,'Tekniske korrektioner'!$K$13:$K$288,"x",'Tekniske korrektioner'!$C$13:$C$288,"23")+SUMIFS('Tekniske korrektioner'!E$13:E$288,'Tekniske korrektioner'!$K$13:$K$288,"x",'Tekniske korrektioner'!$C$13:$C$288,"23") -> -287 | E46: =SUMIFS('Tekniske korrektioner'!G$13:G$288,'Tekniske korrektioner'!$K$13:$K$288,"x",'Tekniske korrektioner'!$C$13:$C$288,"23") -> -240 | F46: =SUMIFS('Tekniske korrektioner'!H$13:H$288,'Tekniske korrektioner'!$K$13:$K$288,"x",'Tekniske korrektioner'!$C$13:$C$288,"23") -> -240 | G46: =SUMIFS('Tekniske korrektioner'!I$13:I$288,'Tekniske korrektioner'!$K$13:$K$288,"x",'Tekniske korrektioner'!$C$13:$C$288,"23") -> -240
C47: Afledt drift | D47: =SUMIFS('Afledt drift'!E$13:E$78,'Afledt drift'!$J$13:$J$78,"x",'Afledt drift'!$C$13:$C$78,"23") -> 0 | E47: =SUMIFS('Afledt drift'!F$13:F$78,'Afledt drift'!$J$13:$J$78,"x",'Afledt drift'!$C$13:$C$78,"23") -> 0 | F47: =SUMIFS('Afledt drift'!G$13:G$78,'Afledt drift'!$J$13:$J$78,"x",'Afledt drift'!$C$13:$C$78,"23") -> 0 | G47: =SUMIFS('Afledt drift'!H$13:H$78,'Afledt drift'!$J$13:$J$78,"x",'Afledt drift'!$C$13:$C$78,"23") -> 0 | J47: =D50-J50 -> -24.304 | K47: =E50-K50 -> -25.285 | L47: =F50-L50 -> -25.285 | M47: =G50-M50 -> -25.285 | O47: Difference
C48: Budgetønsker | D48: =SUMIFS(Aktivitetsudvidelser!F$14:F$197,Aktivitetsudvidelser!$L$14:$L$197,"x",Aktivitetsudvidelser!$D$14:$D$197,"23") -> 0 | E48: =SUMIFS(Aktivitetsudvidelser!G$14:G$197,Aktivitetsudvidelser!$L$14:$L$197,"x",Aktivitetsudvidelser!$D$14:$D$197,"23") -> 0 | F48: =SUMIFS(Aktivitetsudvidelser!H$14:H$197,Aktivitetsudvidelser!$L$14:$L$197,"x",Aktivitetsudvidelser!$D$14:$D$197,"23") -> 0 | G48: =SUMIFS(Aktivitetsudvidelser!I$14:I$197,Aktivitetsudvidelser!$L$14:$L$197,"x",Aktivitetsudvidelser!$D$14:$D$197,"23") -> 0
C49: Finansieringsforslag | D49: =SUMIFS(Finansieringsforslag!H$12:H$165,Finansieringsforslag!$N$12:$N$165,"x",Finansieringsforslag!$E$12:$E$165,"23") -> -27 | E49: =SUMIFS(Finansieringsforslag!$I$12:$I$165,Finansieringsforslag!$N$12:$N$165,"x",Finansieringsforslag!$E$12:$E$165,"23") -> -27 | F49: =SUMIFS(Finansieringsforslag!$J$12:$J$165,Finansieringsforslag!$N$12:$N$165,"x",Finansieringsforslag!$E$12:$E$165,"23") -> -27 | G49: =SUMIFS(Finansieringsforslag!$K$12:$K$165,Finansieringsforslag!$N$12:$N$165,"x",Finansieringsforslag!$E$12:$E$165,"23") -> -27
B50: =B14 -> Vedtaget budget 2027 - 2030 | D50: =SUM(D44:D49) -> 3042.696 | E50: =SUM(E44:E49) -> 3091.715 | F50: =SUM(F44:F49) -> 3091.715 | G50: =SUM(G44:G49) -> 3091.715 | J50: 3067 | K50: 3117 | L50: 3117 | M50: 3117 | N50: OPUS | O50: =O14 -> 24.08.2026
A53: 27.Ejendomme - Grøn drift
B54: =B9 -> Oprindelig budget 2027-2030 | D54: -6.203 | E54: -6.179 | F54: -6.08 | G54: -6.08
C55: Tekniske korrektioner | D55: =SUMIFS('Tekniske korrektioner'!F$13:F$288,'Tekniske korrektioner'!$K$13:$K$288,"x",'Tekniske korrektioner'!$C$13:$C$288,"27")+SUMIFS('Tekniske korrektioner'!E$13:E$288,'Tekniske korrektioner'!$K$13:$K$288,"x",'Tekniske korrektioner'!$C$13:$C$288,"27") -> 1388 | E55: =SUMIFS('Tekniske korrektioner'!G$13:G$288,'Tekniske korrektioner'!$K$13:$K$288,"x",'Tekniske korrektioner'!$C$13:$C$288,"27") -> 1389 | F55: =SUMIFS('Tekniske korrektioner'!H$13:H$288,'Tekniske korrektioner'!$K$13:$K$288,"x",'Tekniske korrektioner'!$C$13:$C$288,"27") -> 1390 | G55: =SUMIFS('Tekniske korrektioner'!I$13:I$288,'Tekniske korrektioner'!$K$13:$K$288,"x",'Tekniske korrektioner'!$C$13:$C$288,"27") -> 1391
C56: Afledt drift | D56: =SUMIFS('Afledt drift'!E$13:E$78,'Afledt drift'!$J$13:$J$78,"x",'Afledt drift'!$C$13:$C$78,"27") -> 0 | E56: =SUMIFS('Afledt drift'!F$13:F$78,'Afledt drift'!$J$13:$J$78,"x",'Afledt drift'!$C$13:$C$78,"27") -> 0 | F56: =SUMIFS('Afledt drift'!G$13:G$78,'Afledt drift'!$J$13:$J$78,"x",'Afledt drift'!$C$13:$C$78,"27") -> 0 | G56: =SUMIFS('Afledt drift'!H$13:H$78,'Afledt drift'!$J$13:$J$78,"x",'Afledt drift'!$C$13:$C$78,"27") -> 0 | J56: =(D59-J59) -> -0.203 | K56: =(E59-K59) -> 0.821 | L56: =(F59-L59) -> 1.92 | M56: =(G59-M59) -> 2.92 | O56: Difference
C57: Budgetønsker | D57: =SUMIFS(Aktivitetsudvidelser!F$14:F$197,Aktivitetsudvidelser!$L$14:$L$197,"x",Aktivitetsudvidelser!$D$14:$D$197,"27") -> 0 | E57: =SUMIFS(Aktivitetsudvidelser!G$14:G$197,Aktivitetsudvidelser!$L$14:$L$197,"x",Aktivitetsudvidelser!$D$14:$D$197,"27") -> 0 | F57: =SUMIFS(Aktivitetsudvidelser!H$14:H$197,Aktivitetsudvidelser!$L$14:$L$197,"x",Aktivitetsudvidelser!$D$14:$D$197,"27") -> 0 | G57: =SUMIFS(Aktivitetsudvidelser!I$14:I$197,Aktivitetsudvidelser!$L$14:$L$197,"x",Aktivitetsudvidelser!$D$14:$D$197,"27") -> 0
C58: Finansieringsforslag | D58: =SUMIFS(Finansieringsforslag!H$12:H$165,Finansieringsforslag!$N$12:$N$165,"x",Finansieringsforslag!$E$12:$E$165,"27") -> 0 | E58: =SUMIFS(Finansieringsforslag!$I$12:$I$165,Finansieringsforslag!$N$12:$N$165,"x",Finansieringsforslag!$E$12:$E$165,"27") -> 0 | F58: =SUMIFS(Finansieringsforslag!$J$12:$J$165,Finansieringsforslag!$N$12:$N$165,"x",Finansieringsforslag!$E$12:$E$165,"27") -> 0 | G58: =SUMIFS(Finansieringsforslag!$K$12:$K$165,Finansieringsforslag!$N$12:$N$165,"x",Finansieringsforslag!$E$12:$E$165,"27") -> 0
B59: =B14 -> Vedtaget budget 2027 - 2030 | D59: =SUM(D54:D58) -> 1381.797 | E59: =SUM(E54:E58) -> 1382.821 | F59: =SUM(F54:F58) -> 1383.92 | G59: =SUM(G54:G58) -> 1384.92 | J59: 1382 | K59: 1382 | L59: 1382 | M59: 1382 | N59: OPUS | O59: =O14 -> 24.08.2026
A62: 28. By og Trafik
B63: =B9 -> Oprindelig budget 2027-2030 | D63: 1227.825 | E63: 1227.825 | F63: 1227.825 | G63: 1227.825
C64: Tekniske korrektioner | D64: =SUMIFS('Tekniske korrektioner'!F$13:F$288,'Tekniske korrektioner'!$K$13:$K$288,"x",'Tekniske korrektioner'!$C$13:$C$288,"28")+SUMIFS('Tekniske korrektioner'!E$13:E$288,'Tekniske korrektioner'!$K$13:$K$288,"x",'Tekniske korrektioner'!$C$13:$C$288,"28") -> -142 | E64: =SUMIFS('Tekniske korrektioner'!G$13:G$288,'Tekniske korrektioner'!$K$13:$K$288,"x",'Tekniske korrektioner'!$C$13:$C$288,"28") -> -142 | F64: =SUMIFS('Tekniske korrektioner'!H$13:H$288,'Tekniske korrektioner'!$K$13:$K$288,"x",'Tekniske korrektioner'!$C$13:$C$288,"28") -> -142 | G64: =SUMIFS('Tekniske korrektioner'!I$13:I$288,'Tekniske korrektioner'!$K$13:$K$288,"x",'Tekniske korrektioner'!$C$13:$C$288,"28") -> -142
C65: Afledt drift | D65: =SUMIFS('Afledt drift'!E$13:E$78,'Afledt drift'!$J$13:$J$78,"x",'Afledt drift'!$C$13:$C$78,"28") -> 0 | E65: =SUMIFS('Afledt drift'!F$13:F$78,'Afledt drift'!$J$13:$J$78,"x",'Afledt drift'!$C$13:$C$78,"28") -> 0 | F65: =SUMIFS('Afledt drift'!G$13:G$78,'Afledt drift'!$J$13:$J$78,"x",'Afledt drift'!$C$13:$C$78,"28") -> 0 | G65: =SUMIFS('Afledt drift'!H$13:H$78,'Afledt drift'!$J$13:$J$78,"x",'Afledt drift'!$C$13:$C$78,"28") -> 0 | J65: =D68-J68 -> 47.825 | K65: =E68-K68 -> 83.825 | L65: =F68-L68 -> 83.825 | M65: =G68-M68 -> 83.825 | O65: Difference
C66: Budgetønsker | D66: =SUMIFS(Aktivitetsudvidelser!F$14:F$197,Aktivitetsudvidelser!$L$14:$L$197,"x",Aktivitetsudvidelser!$D$14:$D$197,"28") -> 64 | E66: =SUMIFS(Aktivitetsudvidelser!G$14:G$197,Aktivitetsudvidelser!$L$14:$L$197,"x",Aktivitetsudvidelser!$D$14:$D$197,"28") -> 100 | F66: =SUMIFS(Aktivitetsudvidelser!H$14:H$197,Aktivitetsudvidelser!$L$14:$L$197,"x",Aktivitetsudvidelser!$D$14:$D$197,"28") -> 100 | G66: =SUMIFS(Aktivitetsudvidelser!I$14:I$197,Aktivitetsudvidelser!$L$14:$L$197,"x",Aktivitetsudvidelser!$D$14:$D$197,"28") -> 100
C67: Finansieringsforslag | D67: =SUMIFS(Finansieringsforslag!H$12:H$169,Finansieringsforslag!$N$12:$N$169,"x",Finansieringsforslag!$E$12:$E$169,"28") -> -16 | E67: =SUMIFS(Finansieringsforslag!$I$12:$I$165,Finansieringsforslag!$N$12:$N$165,"x",Finansieringsforslag!$E$12:$E$165,"28") -> -16 | F67: =SUMIFS(Finansieringsforslag!$J$12:$J$165,Finansieringsforslag!$N$12:$N$165,"x",Finansieringsforslag!$E$12:$E$165,"28") -> -16 | G67: =SUMIFS(Finansieringsforslag!$K$12:$K$165,Finansieringsforslag!$N$12:$N$165,"x",Finansieringsforslag!$E$12:$E$165,"28") -> -16
B68: =B14 -> Vedtaget budget 2027 - 2030 | D68: =SUM(D63:D67) -> 1133.825 | E68: =SUM(E63:E67) -> 1169.825 | F68: =SUM(F63:F67) -> 1169.825 | G68: =SUM(G63:G67) -> 1169.825 | J68: 1086 | K68: 1086 | L68: 1086 | M68: 1086 | N68: OPUS | O68: =O14 -> 24.08.2026
A70: 29. Affaldshåndtering Hillerød
B71: =B17 -> 0 | D71: 0 | E71: 0 | F71: 0 | G71: 0
C72: Tekniske korrektioner | D72: =SUMIFS('Tekniske korrektioner'!F$13:F$288,'Tekniske korrektioner'!$K$13:$K$288,"x",'Tekniske korrektioner'!$C$13:$C$288,"29")+SUMIFS('Tekniske korrektioner'!E$13:E$288,'Tekniske korrektioner'!$K$13:$K$288,"x",'Tekniske korrektioner'!$C$13:$C$288,"98") -> 0 | E72: =SUMIFS('Tekniske korrektioner'!G$13:G$288,'Tekniske korrektioner'!$K$13:$K$288,"x",'Tekniske korrektioner'!$C$13:$C$288,"29")+SUMIFS('Tekniske korrektioner'!F$13:F$288,'Tekniske korrektioner'!$K$13:$K$288,"x",'Tekniske korrektioner'!$C$13:$C$288,"98") -> 0 | F72: =SUMIFS('Tekniske korrektioner'!H$13:H$288,'Tekniske korrektioner'!$K$13:$K$288,"x",'Tekniske korrektioner'!$C$13:$C$288,"29")+SUMIFS('Tekniske korrektioner'!G$13:G$288,'Tekniske korrektioner'!$K$13:$K$288,"x",'Tekniske korrektioner'!$C$13:$C$288,"98") -> 0 | G72: =SUMIFS('Tekniske korrektioner'!I$13:I$288,'Tekniske korrektioner'!$K$13:$K$288,"x",'Tekniske korrektioner'!$C$13:$C$288,"29")+SUMIFS('Tekniske korrektioner'!H$13:H$288,'Tekniske korrektioner'!$K$13:$K$288,"x",'Tekniske korrektioner'!$C$13:$C$288,"98") -> 0
C73: Afledt drift | D73: =SUMIFS('Afledt drift'!E$13:E$78,'Afledt drift'!$J$13:$J$78,"x",'Afledt drift'!$C$13:$C$78,"29") -> 0 | E73: =SUMIFS('Afledt drift'!F$13:F$78,'Afledt drift'!$J$13:$J$78,"x",'Afledt drift'!$C$13:$C$78,"29") -> 0 | F73: =SUMIFS('Afledt drift'!G$13:G$78,'Afledt drift'!$J$13:$J$78,"x",'Afledt drift'!$C$13:$C$78,"29") -> 0 | G73: =SUMIFS('Afledt drift'!H$13:H$78,'Afledt drift'!$J$13:$J$78,"x",'Afledt drift'!$C$13:$C$78,"29") -> 0 | J73: =D76-J76 -> 0 | K73: =E76-K76 -> 0 | L73: =F76-L76 -> 0 | M73: =G76-M76 -> 0 | O73: Difference
C74: Budgetønsker | D74: =SUMIFS(Aktivitetsudvidelser!F$14:F$197,Aktivitetsudvidelser!$L$14:$L$197,"x",Aktivitetsudvidelser!$D$14:$D$197,"29") -> 0 | E74: =SUMIFS(Aktivitetsudvidelser!G$14:G$197,Aktivitetsudvidelser!$L$14:$L$197,"x",Aktivitetsudvidelser!$D$14:$D$197,"29") -> 0 | F74: =SUMIFS(Aktivitetsudvidelser!H$14:H$197,Aktivitetsudvidelser!$L$14:$L$197,"x",Aktivitetsudvidelser!$D$14:$D$197,"29") -> 0 | G74: =SUMIFS(Aktivitetsudvidelser!I$14:I$197,Aktivitetsudvidelser!$L$14:$L$197,"x",Aktivitetsudvidelser!$D$14:$D$197,"29") -> 0
C75: Finansieringsforslag | D75: =SUMIFS(Finansieringsforslag!H$12:H$165,Finansieringsforslag!$N$12:$N$165,"x",Finansieringsforslag!$E$12:$E$165,"29") -> 0 | E75: =SUMIFS(Finansieringsforslag!$I$12:$I$165,Finansieringsforslag!$N$12:$N$165,"x",Finansieringsforslag!$E$12:$E$165,"29") -> 0 | F75: =SUMIFS(Finansieringsforslag!$J$12:$J$165,Finansieringsforslag!$N$12:$N$165,"x",Finansieringsforslag!$E$12:$E$165,"29") -> 0 | G75: =SUMIFS(Finansieringsforslag!$K$12:$K$165,Finansieringsforslag!$N$12:$N$165,"x",Finansieringsforslag!$E$12:$E$165,"29") -> 0
B76: =B22 -> 0 | D76: =SUM(D71:D75) -> 0 | E76: =SUM(E71:E75) -> 0 | F76: =SUM(F71:F75) -> 0 | G76: =SUM(G71:G75) -> 0 | J76: 0 | K76: 0 | L76: 0 | M76: 0 | N76: OPUS | O76: =O22 -> 0
A78: 31. Beskæftigelsesindsats
B79: =B9 -> Oprindelig budget 2027-2030 | D79: 30653.416 | E79: 29642.41 | F79: 29404.025 | G79: 29404.025
C80: Tekniske korrektioner | D80: =SUMIFS('Tekniske korrektioner'!F$13:F$288,'Tekniske korrektioner'!$K$13:$K$288,"x",'Tekniske korrektioner'!$C$13:$C$288,"31")+SUMIFS('Tekniske korrektioner'!E$13:E$288,'Tekniske korrektioner'!$K$13:$K$288,"x",'Tekniske korrektioner'!$C$13:$C$288,"31") -> -1550 | E80: =SUMIFS('Tekniske korrektioner'!G$13:G$288,'Tekniske korrektioner'!$K$13:$K$288,"x",'Tekniske korrektioner'!$C$13:$C$288,"31") -> 197 | F80: =SUMIFS('Tekniske korrektioner'!H$13:H$288,'Tekniske korrektioner'!$K$13:$K$288,"x",'Tekniske korrektioner'!$C$13:$C$288,"31") -> -2000 | G80: =SUMIFS('Tekniske korrektioner'!I$13:I$288,'Tekniske korrektioner'!$K$13:$K$288,"x",'Tekniske korrektioner'!$C$13:$C$288,"31") -> 426
C81: Afledt drift | D81: =SUMIFS('Afledt drift'!E$13:E$78,'Afledt drift'!$J$13:$J$78,"x",'Afledt drift'!$C$13:$C$78,"31") -> 0 | E81: =SUMIFS('Afledt drift'!F$13:F$78,'Afledt drift'!$J$13:$J$78,"x",'Afledt drift'!$C$13:$C$78,"31") -> 0 | F81: =SUMIFS('Afledt drift'!G$13:G$78,'Afledt drift'!$J$13:$J$78,"x",'Afledt drift'!$C$13:$C$78,"31") -> 0 | G81: =SUMIFS('Afledt drift'!H$13:H$78,'Afledt drift'!$J$13:$J$78,"x",'Afledt drift'!$C$13:$C$78,"31") -> 0 | J81: =D84-J84 -> -48.584 | K81: =E84-K84 -> -51.59 | L81: =F84-L84 -> -51.975 | M81: =G84-M84 -> -50.975 | O81: Difference
C82: Budgetønsker | D82: =SUMIFS(Aktivitetsudvidelser!F$14:F$197,Aktivitetsudvidelser!$L$14:$L$197,"x",Aktivitetsudvidelser!$D$14:$D$197,"31") -> 0 | E82: =SUMIFS(Aktivitetsudvidelser!G$14:G$197,Aktivitetsudvidelser!$L$14:$L$197,"x",Aktivitetsudvidelser!$D$14:$D$197,"31") -> 0 | F82: =SUMIFS(Aktivitetsudvidelser!H$14:H$197,Aktivitetsudvidelser!$L$14:$L$197,"x",Aktivitetsudvidelser!$D$14:$D$197,"31") -> 0 | G82: =SUMIFS(Aktivitetsudvidelser!I$14:I$197,Aktivitetsudvidelser!$L$14:$L$197,"x",Aktivitetsudvidelser!$D$14:$D$197,"31") -> 0
C83: Finansieringsforslag | D83: =SUMIFS(Finansieringsforslag!H$12:H$165,Finansieringsforslag!$N$12:$N$165,"x",Finansieringsforslag!$E$12:$E$165,"31") -> -50 | E83: =SUMIFS(Finansieringsforslag!$I$12:$I$165,Finansieringsforslag!$N$12:$N$165,"x",Finansieringsforslag!$E$12:$E$165,"31") -> -50 | F83: =SUMIFS(Finansieringsforslag!$J$12:$J$165,Finansieringsforslag!$N$12:$N$165,"x",Finansieringsforslag!$E$12:$E$165,"31") -> -50 | G83: =SUMIFS(Finansieringsforslag!$K$12:$K$165,Finansieringsforslag!$N$12:$N$165,"x",Finansieringsforslag!$E$12:$E$165,"31") -> -50
B84: =B14 -> Vedtaget budget 2027 - 2030 | D84: =SUM(D79:D83) -> 29053.416 | E84: =SUM(E79:E83) -> 29789.41 | F84: =SUM(F79:F83) -> 27354.025 | G84: =SUM(G79:G83) -> 29780.025 | J84: 29102 | K84: 29841 | L84: 27406 | M84: 29831 | N84: OPUS | O84: =O14 -> 24.08.2026
A87: 32. Specialiseret voksenområde
B88: =B9 -> Oprindelig budget 2027-2030 | D88: 399968.17 | E88: 394114.04 | F88: 388246.79 | G88: 388246.79
C89: Tekniske korrektioner | D89: =SUMIFS('Tekniske korrektioner'!F$13:F$401,'Tekniske korrektioner'!$K$13:$K$401,"x",'Tekniske korrektioner'!$C$13:$C$401,"32")+SUMIFS('Tekniske korrektioner'!E$13:E$401,'Tekniske korrektioner'!$K$13:$K$401,"x",'Tekniske korrektioner'!$C$13:$C$401,"32") -> -1679 | E89: =SUMIFS('Tekniske korrektioner'!G$13:G$288,'Tekniske korrektioner'!$K$13:$K$288,"x",'Tekniske korrektioner'!$C$13:$C$288,"32") -> -118 | F89: =SUMIFS('Tekniske korrektioner'!H$13:H$288,'Tekniske korrektioner'!$K$13:$K$288,"x",'Tekniske korrektioner'!$C$13:$C$288,"32") -> 433 | G89: =SUMIFS('Tekniske korrektioner'!I$13:I$288,'Tekniske korrektioner'!$K$13:$K$288,"x",'Tekniske korrektioner'!$C$13:$C$288,"32") -> 419
C90: Afledt drift | D90: =SUMIFS('Afledt drift'!E$13:E$78,'Afledt drift'!$J$13:$J$78,"x",'Afledt drift'!$C$13:$C$78,"32") -> 0 | E90: =SUMIFS('Afledt drift'!F$13:F$78,'Afledt drift'!$J$13:$J$78,"x",'Afledt drift'!$C$13:$C$78,"32") -> 0 | F90: =SUMIFS('Afledt drift'!G$13:G$78,'Afledt drift'!$J$13:$J$78,"x",'Afledt drift'!$C$13:$C$78,"32") -> 0 | G90: =SUMIFS('Afledt drift'!H$13:H$78,'Afledt drift'!$J$13:$J$78,"x",'Afledt drift'!$C$13:$C$78,"32") -> 0 | J90: =D93-J93 -> -5658.829 | K90: =E93-K93 -> -5658.962 | L90: =F93-L93 -> -12310.21 | M90: =G93-M93 -> -18961.21 | O90: Difference
C91: Budgetønsker | D91: =SUMIFS(Aktivitetsudvidelser!F$14:F$197,Aktivitetsudvidelser!$L$14:$L$197,"x",Aktivitetsudvidelser!$D$14:$D$197,"32") -> 11641 | E91: =SUMIFS(Aktivitetsudvidelser!G$14:G$197,Aktivitetsudvidelser!$L$14:$L$197,"x",Aktivitetsudvidelser!$D$14:$D$197,"32") -> 21791 | F91: =SUMIFS(Aktivitetsudvidelser!H$14:H$197,Aktivitetsudvidelser!$L$14:$L$197,"x",Aktivitetsudvidelser!$D$14:$D$197,"32") -> 20853 | G91: =SUMIFS(Aktivitetsudvidelser!I$14:I$197,Aktivitetsudvidelser!$L$14:$L$197,"x",Aktivitetsudvidelser!$D$14:$D$197,"32") -> 14202
C92: Finansieringsforslag | D92: =SUMIFS(Finansieringsforslag!H$12:H$165,Finansieringsforslag!$N$12:$N$165,"x",Finansieringsforslag!$E$12:$E$165,"32") -> -6559 | E92: =SUMIFS(Finansieringsforslag!$I$12:$I$165,Finansieringsforslag!$N$12:$N$165,"x",Finansieringsforslag!$E$12:$E$165,"32") -> -6559 | F92: =SUMIFS(Finansieringsforslag!$J$12:$J$165,Finansieringsforslag!$N$12:$N$165,"x",Finansieringsforslag!$E$12:$E$165,"32") -> -6559 | G92: =SUMIFS(Finansieringsforslag!$K$12:$K$165,Finansieringsforslag!$N$12:$N$165,"x",Finansieringsforslag!$E$12:$E$165,"32") -> -6559
B93: =B14 -> Vedtaget budget 2027 - 2030 | D93: =SUM(D88:D92) -> 403371.17 | E93: =SUM(E88:E92) -> 409228.04 | F93: =SUM(F88:F92) -> 402973.79 | G93: =SUM(G88:G92) -> 396308.79 | J93: 409030 | K93: 414887 | L93: 415284 | M93: 415270 | N93: OPUS | O93: =O14 -> 24.08.2026
A96: 33. Forsørgelsesydelser
B97: =B9 -> Oprindelig budget 2027-2030 | D97: 721951.65 | E97: 737320.97 | F97: 733481.32 | G97: 733481.32
C98: Tekniske korrektioner | D98: =SUMIFS('Tekniske korrektioner'!F$13:F$401,'Tekniske korrektioner'!$K$13:$K$401,"x",'Tekniske korrektioner'!$C$13:$C$401,"33")+SUMIFS('Tekniske korrektioner'!E$13:E$401,'Tekniske korrektioner'!$K$13:$K$401,"x",'Tekniske korrektioner'!$C$13:$C$401,"33") -> 1573 | E98: =SUMIFS('Tekniske korrektioner'!G$13:G$288,'Tekniske korrektioner'!$K$13:$K$288,"x",'Tekniske korrektioner'!$C$13:$C$288,"33") -> 4157 | F98: =SUMIFS('Tekniske korrektioner'!H$13:H$288,'Tekniske korrektioner'!$K$13:$K$288,"x",'Tekniske korrektioner'!$C$13:$C$288,"33") -> 12277 | G98: =SUMIFS('Tekniske korrektioner'!I$13:I$288,'Tekniske korrektioner'!$K$13:$K$288,"x",'Tekniske korrektioner'!$C$13:$C$288,"33") -> 27929
C99: Afledt drift | D99: =SUMIFS('Afledt drift'!E$13:E$78,'Afledt drift'!$J$13:$J$78,"x",'Afledt drift'!$C$13:$C$78,"33") -> 0 | E99: =SUMIFS('Afledt drift'!F$13:F$78,'Afledt drift'!$J$13:$J$78,"x",'Afledt drift'!$C$13:$C$78,"33") -> 0 | F99: =SUMIFS('Afledt drift'!G$13:G$78,'Afledt drift'!$J$13:$J$78,"x",'Afledt drift'!$C$13:$C$78,"33") -> 0 | G99: =SUMIFS('Afledt drift'!H$13:H$78,'Afledt drift'!$J$13:$J$78,"x",'Afledt drift'!$C$13:$C$78,"33") -> 0 | J99: =D102-J102 -> 0.649 | K99: =E102-K102 -> -0.025 | L99: =F102-L102 -> 0.318 | M99: =G102-M102 -> 0.318 | O99: Difference
C100: Budgetønsker | D100: =SUMIFS(Aktivitetsudvidelser!F$14:F$197,Aktivitetsudvidelser!$L$14:$L$197,"x",Aktivitetsudvidelser!$D$14:$D$197,"33") -> 0 | E100: =SUMIFS(Aktivitetsudvidelser!G$14:G$189,Aktivitetsudvidelser!$L$14:$L$189,"x",Aktivitetsudvidelser!$D$14:$D$189,"33") -> 0 | F100: =SUMIFS(Aktivitetsudvidelser!H$14:H$189,Aktivitetsudvidelser!$L$14:$L$189,"x",Aktivitetsudvidelser!$D$14:$D$189,"33") -> 0 | G100: =SUMIFS(Aktivitetsudvidelser!I$14:I$189,Aktivitetsudvidelser!$L$14:$L$189,"x",Aktivitetsudvidelser!$D$14:$D$189,"33") -> 0
C101: Finansieringsforslag | D101: =SUMIFS(Finansieringsforslag!H$12:H$165,Finansieringsforslag!$N$12:$N$165,"x",Finansieringsforslag!$E$12:$E$165,"33") -> 0 | E101: =SUMIFS(Finansieringsforslag!$I$12:$I$165,Finansieringsforslag!$N$12:$N$165,"x",Finansieringsforslag!$E$12:$E$165,"33") -> 0 | F101: =SUMIFS(Finansieringsforslag!$J$12:$J$165,Finansieringsforslag!$N$12:$N$165,"x",Finansieringsforslag!$E$12:$E$165,"33") -> 0 | G101: =SUMIFS(Finansieringsforslag!$K$12:$K$165,Finansieringsforslag!$N$12:$N$165,"x",Finansieringsforslag!$E$12:$E$165,"33") -> 0
B102: =B14 -> Vedtaget budget 2027 - 2030 | D102: =SUM(D97:D101) -> 723524.65 | E102: =SUM(E97:E101) -> 741477.97 | F102: =SUM(F97:F101) -> 745758.32 | G102: =SUM(G97:G101) -> 761410.32 | J102: 723524 | K102: 741478 | L102: 745758 | M102: 761410 | N102: OPUS | O102: =O14 -> 24.08.2026
A105: 34. Ældre
B106: =B9 -> Oprindelig budget 2027-2030 | D106: 534245.83 | E106: 551200.69 | F106: 560216.22 | G106: 560216.22
C107: Tekniske korrektioner | D107: =SUMIFS('Tekniske korrektioner'!F$13:F$288,'Tekniske korrektioner'!$K$13:$K$288,"x",'Tekniske korrektioner'!$C$13:$C$288,"34")+SUMIFS('Tekniske korrektioner'!E$13:E$288,'Tekniske korrektioner'!$K$13:$K$288,"x",'Tekniske korrektioner'!$C$13:$C$288,"34") -> 11462 | E107: =SUMIFS('Tekniske korrektioner'!G$13:G$288,'Tekniske korrektioner'!$K$13:$K$288,"x",'Tekniske korrektioner'!$C$13:$C$288,"34") -> 10292 | F107: =SUMIFS('Tekniske korrektioner'!H$13:H$288,'Tekniske korrektioner'!$K$13:$K$288,"x",'Tekniske korrektioner'!$C$13:$C$288,"34") -> 15003 | G107: =SUMIFS('Tekniske korrektioner'!I$13:I$288,'Tekniske korrektioner'!$K$13:$K$288,"x",'Tekniske korrektioner'!$C$13:$C$288,"34") -> 20933
C108: Afledt drift | D108: =SUMIFS('Afledt drift'!E$13:E$78,'Afledt drift'!$J$13:$J$78,"x",'Afledt drift'!$C$13:$C$78,"34") -> 0 | E108: =SUMIFS('Afledt drift'!F$13:F$78,'Afledt drift'!$J$13:$J$78,"x",'Afledt drift'!$C$13:$C$78,"34") -> 0 | F108: =SUMIFS('Afledt drift'!G$13:G$78,'Afledt drift'!$J$13:$J$78,"x",'Afledt drift'!$C$13:$C$78,"34") -> 0 | G108: =SUMIFS('Afledt drift'!H$13:H$78,'Afledt drift'!$J$13:$J$78,"x",'Afledt drift'!$C$13:$C$78,"34") -> 0 | J108: =D111-J111 -> -436.174 | K108: =E111-K111 -> -424.313 | L108: =F111-L111 -> -423.775 | M108: =G111-M111 -> -267.775 | O108: Difference
C109: Budgetønsker | D109: =SUMIFS(Aktivitetsudvidelser!F$14:F$197,Aktivitetsudvidelser!$L$14:$L$197,"x",Aktivitetsudvidelser!$D$14:$D$197,"34") -> 1790 | E109: =SUMIFS(Aktivitetsudvidelser!G$14:G$197,Aktivitetsudvidelser!$L$14:$L$197,"x",Aktivitetsudvidelser!$D$14:$D$197,"34") -> 1790 | F109: =SUMIFS(Aktivitetsudvidelser!H$14:H$197,Aktivitetsudvidelser!$L$14:$L$197,"x",Aktivitetsudvidelser!$D$14:$D$197,"34") -> 1790 | G109: =SUMIFS(Aktivitetsudvidelser!I$14:I$197,Aktivitetsudvidelser!$L$14:$L$197,"x",Aktivitetsudvidelser!$D$14:$D$197,"34") -> 1946
C110: Finansieringsforslag | D110: =SUMIFS(Finansieringsforslag!H$12:H$165,Finansieringsforslag!$N$12:$N$165,"x",Finansieringsforslag!$E$12:$E$165,"34") -> -2223 | E110: =SUMIFS(Finansieringsforslag!$I$12:$I$165,Finansieringsforslag!$N$12:$N$165,"x",Finansieringsforslag!$E$12:$E$165,"34") -> -2210 | F110: =SUMIFS(Finansieringsforslag!$J$12:$J$165,Finansieringsforslag!$N$12:$N$165,"x",Finansieringsforslag!$E$12:$E$165,"34") -> -2210 | G110: =SUMIFS(Finansieringsforslag!$K$12:$K$165,Finansieringsforslag!$N$12:$N$165,"x",Finansieringsforslag!$E$12:$E$165,"34") -> -2210
B111: =B14 -> Vedtaget budget 2027 - 2030 | D111: =SUM(D106:D110) -> 545274.83 | E111: =SUM(E106:E110) -> 561072.69 | F111: =SUM(F106:F110) -> 574799.22 | G111: =SUM(G106:G110) -> 580885.22 | J111: 545711 | K111: 561497 | L111: 575223 | M111: 581153 | O111: =O32 -> 24.08.2026
A114: 35. Sundhed
B115: =B9 -> Oprindelig budget 2027-2030 | D115: 331430.78 | E115: 331269.84 | F115: 331269.75 | G115: 331269.75
C116: Tekniske korrektioner | D116: =SUMIFS('Tekniske korrektioner'!F$13:F$288,'Tekniske korrektioner'!$K$13:$K$288,"x",'Tekniske korrektioner'!$C$13:$C$288,"35")+SUMIFS('Tekniske korrektioner'!E$13:E$288,'Tekniske korrektioner'!$K$13:$K$288,"x",'Tekniske korrektioner'!$C$13:$C$288,"35") -> -288601 | E116: =SUMIFS('Tekniske korrektioner'!G$13:G$288,'Tekniske korrektioner'!$K$13:$K$288,"x",'Tekniske korrektioner'!$C$13:$C$288,"35") -> -288341 | F116: =SUMIFS('Tekniske korrektioner'!H$13:H$288,'Tekniske korrektioner'!$K$13:$K$288,"x",'Tekniske korrektioner'!$C$13:$C$288,"35") -> -288340 | G116: =SUMIFS('Tekniske korrektioner'!I$13:I$288,'Tekniske korrektioner'!$K$13:$K$288,"x",'Tekniske korrektioner'!$C$13:$C$288,"35") -> -288340
C117: Afledt drift | D117: =SUMIFS('Afledt drift'!E$13:E$78,'Afledt drift'!$J$13:$J$78,"x",'Afledt drift'!$C$13:$C$78,"35") -> 0 | E117: =SUMIFS('Afledt drift'!F$13:F$78,'Afledt drift'!$J$13:$J$78,"x",'Afledt drift'!$C$13:$C$78,"35") -> 0 | F117: =SUMIFS('Afledt drift'!G$13:G$78,'Afledt drift'!$J$13:$J$78,"x",'Afledt drift'!$C$13:$C$78,"35") -> 0 | G117: =SUMIFS('Afledt drift'!H$13:H$78,'Afledt drift'!$J$13:$J$78,"x",'Afledt drift'!$C$13:$C$78,"35") -> 0 | J117: =D120-J120 -> -3001.222 | K117: =E120-K120 -> -3003.157 | L117: =F120-L120 -> -3001.248 | M117: =G120-M120 -> -3001.248 | O117: Difference
C118: Budgetønsker | D118: =SUMIFS(Aktivitetsudvidelser!F$14:F$197,Aktivitetsudvidelser!$L$14:$L$197,"x",Aktivitetsudvidelser!$D$14:$D$197,"35") -> 0 | E118: =SUMIFS(Aktivitetsudvidelser!G$14:G$197,Aktivitetsudvidelser!$L$14:$L$197,"x",Aktivitetsudvidelser!$D$14:$D$197,"35") -> 0 | F118: =SUMIFS(Aktivitetsudvidelser!H$14:H$197,Aktivitetsudvidelser!$L$14:$L$197,"x",Aktivitetsudvidelser!$D$14:$D$197,"35") -> 0 | G118: =SUMIFS(Aktivitetsudvidelser!I$14:I$197,Aktivitetsudvidelser!$L$14:$L$197,"x",Aktivitetsudvidelser!$D$14:$D$197,"35") -> 0
C119: Finansieringsforslag | D119: =SUMIFS(Finansieringsforslag!H$12:H$165,Finansieringsforslag!$N$12:$N$165,"x",Finansieringsforslag!$E$12:$E$165,"35") -> -3000 | E119: =SUMIFS(Finansieringsforslag!$I$12:$I$165,Finansieringsforslag!$N$12:$N$165,"x",Finansieringsforslag!$E$12:$E$165,"35") -> -3000 | F119: =SUMIFS(Finansieringsforslag!$J$12:$J$165,Finansieringsforslag!$N$12:$N$165,"x",Finansieringsforslag!$E$12:$E$165,"35") -> -3000 | G119: =SUMIFS(Finansieringsforslag!$K$12:$K$165,Finansieringsforslag!$N$12:$N$165,"x",Finansieringsforslag!$E$12:$E$165,"35") -> -3000
B120: =B14 -> Vedtaget budget 2027 - 2030 | D120: =SUM(D115:D119) -> 39829.778 | E120: =SUM(E115:E119) -> 39928.843 | F120: =SUM(F115:F119) -> 39929.752 | G120: =SUM(G115:G119) -> 39929.752 | J120: 42831 | K120: 42932 | L120: 42931 | M120: 42931 | N120: OPUS | O120: =O32 -> 24.08.2026
A122: 38. Erhverv og Uddannelse
B123: =+B115 -> Oprindelig budget 2027-2030 | D123: 60631.368 | E123: 60637.568 | F123: 60637.565 | G123: 60637.565
C124: Tekniske korrektioner | D124: =SUMIFS('Tekniske korrektioner'!F$13:F$288,'Tekniske korrektioner'!$K$13:$K$288,"x",'Tekniske korrektioner'!$C$13:$C$288,"38")+SUMIFS('Tekniske korrektioner'!E$13:E$288,'Tekniske korrektioner'!$K$13:$K$288,"x",'Tekniske korrektioner'!$C$13:$C$288,"38") -> -4919 | E124: =SUMIFS('Tekniske korrektioner'!G$13:G$288,'Tekniske korrektioner'!$K$13:$K$288,"x",'Tekniske korrektioner'!$C$13:$C$288,"38") -> -4317 | F124: =SUMIFS('Tekniske korrektioner'!H$13:H$288,'Tekniske korrektioner'!$K$13:$K$288,"x",'Tekniske korrektioner'!$C$13:$C$288,"38") -> -4254 | G124: =SUMIFS('Tekniske korrektioner'!I$13:I$288,'Tekniske korrektioner'!$K$13:$K$288,"x",'Tekniske korrektioner'!$C$13:$C$288,"38") -> -4254
C125: Afledt drift | D125: =SUMIFS('Afledt drift'!E$13:E$78,'Afledt drift'!$J$13:$J$78,"x",'Afledt drift'!$C$13:$C$78,"38") -> 0 | E125: =SUMIFS('Afledt drift'!F$13:F$78,'Afledt drift'!$J$13:$J$78,"x",'Afledt drift'!$C$13:$C$78,"38") -> 0 | F125: =SUMIFS('Afledt drift'!G$13:G$78,'Afledt drift'!$J$13:$J$78,"x",'Afledt drift'!$C$13:$C$78,"38") -> 0 | G125: =SUMIFS('Afledt drift'!H$13:H$78,'Afledt drift'!$J$13:$J$78,"x",'Afledt drift'!$C$13:$C$78,"38") -> 0 | J125: =D128-J128 -> -2371.632 | K125: =E128-K128 -> -2124.432 | L125: =F128-L128 -> -2124.435 | M125: =G128-M128 -> -2124.435 | O125: Difference
C126: Budgetønsker | D126: =SUMIFS(Aktivitetsudvidelser!F$14:F$197,Aktivitetsudvidelser!$L$14:$L$197,"x",Aktivitetsudvidelser!$D$14:$D$197,"38") -> 100 | E126: =SUMIFS(Aktivitetsudvidelser!G$14:G$197,Aktivitetsudvidelser!$L$14:$L$197,"x",Aktivitetsudvidelser!$D$14:$D$197,"38") -> 100 | F126: =SUMIFS(Aktivitetsudvidelser!H$14:H$197,Aktivitetsudvidelser!$L$14:$L$197,"x",Aktivitetsudvidelser!$D$14:$D$197,"38") -> 100 | G126: =SUMIFS(Aktivitetsudvidelser!I$14:I$197,Aktivitetsudvidelser!$L$14:$L$197,"x",Aktivitetsudvidelser!$D$14:$D$197,"38") -> 100
C127: Finansieringsforslag | D127: =SUMIFS(Finansieringsforslag!H$12:H$175,Finansieringsforslag!$N$12:$N$175,"x",Finansieringsforslag!$E$12:$E$175,"38") -> -4465 | E127: =SUMIFS(Finansieringsforslag!I$12:I$175,Finansieringsforslag!$N$12:$N$175,"x",Finansieringsforslag!$E$12:$E$175,"38") -> -2215 | F127: =SUMIFS(Finansieringsforslag!J$12:J$175,Finansieringsforslag!$N$12:$N$175,"x",Finansieringsforslag!$E$12:$E$175,"38") -> -2215 | G127: =SUMIFS(Finansieringsforslag!K$12:K$175,Finansieringsforslag!$N$12:$N$175,"x",Finansieringsforslag!$E$12:$E$175,"38") -> -2215
B128: =+B120 -> Vedtaget budget 2027 - 2030 | D128: =SUM(D123:D127) -> 51347.368 | E128: =SUM(E123:E127) -> 54205.568 | F128: =SUM(F123:F127) -> 54268.565 | G128: =SUM(G123:G127) -> 54268.565 | J128: 53719 | K128: 56330 | L128: 56393 | M128: 56393 | N128: OPUS | O128: =+O120 -> 24.08.2026
A130: 41. Dagtilbud børn
...
