Workbook
Name _GoBack: Finansieringsforslag!$B$37
Name _Toc102655464: Aktivitetsudvidelser!$B$59
Name _Toc102655465: Aktivitetsudvidelser!$B$64
Name _Toc137023395: Aktivitetsudvidelser!$B$59
Name _Toc196311238: Finansieringsforslag!$B$143
Name _Toc196402557: Aktivitetsudvidelser!$B$82
Name _Toc196402560: Aktivitetsudvidelser!#REF!
Name _Toc196402561: Aktivitetsudvidelser!#REF!
Name _Toc196402562: Aktivitetsudvidelser!#REF!
Name _Toc196827022: Aktivitetsudvidelser!$B$142
Name _Toc198109041: Aktivitetsudvidelser!#REF!
Name _Toc233361828: Anlægsønsker!$A$209
Name _Toc238131926: Anlægsønsker!#REF!
Name _Toc269807039: Aktivitetsudvidelser!#REF!
Name _Toc34638328: Aktivitetsudvidelser!$B$16
Name _Toc34640908: Finansieringsforslag!$B$37
Name _Toc34640909: Finansieringsforslag!#REF!
Name _Toc34640910: Finansieringsforslag!#REF!
Name _Toc34640911: Finansieringsforslag!#REF!
Name _Toc41307569: Aktivitetsudvidelser!#REF!
Name _Toc422136273: Anlægsønsker!#REF!
Name _Toc449534135: Aktivitetsudvidelser!#REF!
Name _Toc449534136: Aktivitetsudvidelser!#REF!
Name _Toc452714603: Aktivitetsudvidelser!#REF!
Name _Toc452714604: Aktivitetsudvidelser!#REF!
Name _Toc452714605: Aktivitetsudvidelser!$B$141
Name _Toc480807185: Finansieringsforslag!#REF!
Name _Toc483296837: Aktivitetsudvidelser!#REF!
Name _Toc509499967: Aktivitetsudvidelser!#REF!
Name _Toc509499968: Aktivitetsudvidelser!#REF!
Name _Toc511823335: Aktivitetsudvidelser!#REF!
Name _Toc514753201: Aktivitetsudvidelser!#REF!
Name _Toc517773207: Anlægsønsker!#REF!
Name _Toc517946780: Aktivitetsudvidelser!$B$142
Name _Toc67402931: Aktivitetsudvidelser!$B$59
Name _Toc67402932: Aktivitetsudvidelser!#REF!
Name _Toc72420131: Anlægsønsker!#REF!
Name _Toc72420132: Anlægsønsker!#REF!
Name _Toc72420133: Anlægsønsker!#REF!
Name _Toc72420134: Anlægsønsker!#REF!
Name _Toc72420135: Anlægsønsker!#REF!
Name _Toc72420136: Anlægsønsker!#REF!
Name _Toc72420138: Anlægsønsker!#REF!
Name _Toc72420139: Anlægsønsker!#REF!
Name _Toc72420141: Anlægsønsker!#REF!
Name _Toc72420142: Anlægsønsker!$A$285
Name _Toc72420143: Anlægsønsker!#REF!
Name _Toc72420144: Anlægsønsker!#REF!
Name _Toc72420145: Anlægsønsker!#REF!
Name _Toc72420147: Anlægsønsker!#REF!
Name _Toc72420148: Anlægsønsker!#REF!
Name _Toc72420149: Anlægsønsker!#REF!
Name OLE_LINK11: Aktivitetsudvidelser!#REF!

Sheet LOG ændringer
A1: LOG over ændringer ift. 1. version af SIM
A2: 1.9 | B2: kryds i FF vedr. akt. 31 rettet så forslag tæller med
A4: 3.9 | B4: 2 anlægsønsker fra KIF er godkendt af KB og sendt som tillæg i supplerende høring og lagt ind i SIM. Det er AØ 383 og 384
A6: 7.9 | B6: 60AØ2027-021 Nedskriver budgettet i 2027 med det beløb der oprindelig stod i 2030
A9: 10.9 | B9: Mulige justeringer i finansieringsforslag lagt ind som ekstra linjer
B10: Forslag vedr. Regional Kulturtilskud rettet fra 300.000 kr. oplyst til budgetseminar 9.9 til 293.000 kr. svarende til DUT-kompensation
A13: 14.9 | B13: Der er tilføjet en linje nederst i FF arket med leje af pavilloner på Grønnevang Skole
B14: XA-0000030166 Grønnevang Skole, husleje vedr. pavilloner - modpost
B15: tilføjelse under FF-arket:
B16: STU - reduktion af budgetramme
B17: STU - flytning af service til overførsler
B18: STU - flytning af service til overførsler | F18: tæller ikke med i service ved modregning på forside linje 57
A21: 15.9 | B21: Scenarie 3 og 4 vedr. Hillerød Vestskolen
B22: NY 602027-121 Tulstrup Børnehus - justeret budget
B23: 0,25 pct. rammebesparelse ind på alle områder
B24: Reduktion af ældrepulje - ændret disponering
B25: der er på akt 12 reduceret 500 t. kr. og flyttet til anlæg vedr. Skolen ved Skoven. Kodet modpost på anlæg
B26: nye versioner af AU-forslag
B27: 11-006 halv effekt i alle år og med kvart effekt i 2027
B28: 11-009 begge linjer reduceret til 75 pct. i år 2027.
B29: 11-010 Nyt forslag med nye penge vedr. Hillerød Hospital og Hillerød Stadion inkl. rådgiver på akt. 28. med 75 pct. i år 2027
B30: NY41AU2027-001 Ny lovgivning for Dagtilbud (forslag 2: 57%/43%)
B31: Ny version af 60AØ-040 genopretnning af kommunale bygninger - kun beløb i 2027. Overslagsår nullet
B32: NYAØ2027-999 flyttet forslag 11AU2027-016 Midler til foreningen Jordnær, ekstern rådgiver til anlæg
B33: indtægtsside rettet med septemberkørslen
B34: beregning af pl-effekt vedr. anlægsforslag rettet. Der var korrigeret dobbelt ift. omregning i mio. kr.

Sheet  Balance akt.
J6: i pct. af oprindelig serviceramme!
A7: Aktivitetsområde | B7: type | C7: UDVALG | D7: =+'Budgetforslag 2027-2030'!C3 -> 2027 | E7: =+D7+1 -> 2028 | F7: =+E7+1 -> 2029 | G7: =+F7+1 -> 2030 | H7: =A7 -> Aktivitetsområde | I7: type | J7: 2027 i pct | K7: 2028 i pct | L7: 2029 i pct | M7: 2030 i pct
A8: 11. Administration | B8: Serviceramme ompr.sag | C8: ØU | D8: 475352.99 | E8: 464720.52 | F8: 472800.5 | G8: 472800.5 | H8: =A8 -> 11. Administration | I8: =B8 -> Serviceramme ompr.sag
A9: 11. Administration | B9: Driftsramme | C9: ØU | D9: =Afstemning!D9 -> 475923.87 | E9: =Afstemning!E9 -> 465291.4 | F9: =Afstemning!F9 -> 473371.39 | G9: =Afstemning!G9 -> 473371.39 | H9: =A9 -> 11. Administration | I9: =B9 -> Driftsramme
A10: 11. Administration | B10: Tekniske korrektioner | C10: ØU | D10: =Afstemning!D10 -> 7185 | E10: =Afstemning!E10 -> 8224 | F10: =Afstemning!F10 -> 7970 | G10: =Afstemning!G10 -> -545 | H10: =A10 -> 11. Administration | I10: =B10 -> Tekniske korrektioner | J10: =D10/D8 -> 0.015115083 | K10: =E10/E8 -> 0.017696658 | L10: =F10/F8 -> 0.016857004 | M10: =G10/G8 -> -0.001152706
A11: 11. Administration | B11: Afledt drift | C11: ØU | D11: =Afstemning!D11 -> 106 | E11: =Afstemning!E11 -> 296 | F11: =Afstemning!F11 -> 296 | G11: =Afstemning!G11 -> 106 | H11: =A11 -> 11. Administration | I11: =B11 -> Afledt drift | J11: =D11/D8 -> 0.00022299218 | K11: =E11/E8 -> 0.00063694197 | L11: =F11/F8 -> 0.00062605686 | M11: =G11/G8 -> 0.00022419604
A12: 11. Administration | B12: Budgetønsker | C12: ØU | D12: =Afstemning!D12 -> 8451 | E12: =Afstemning!E12 -> 8991 | F12: =Afstemning!F12 -> 8991 | G12: =Afstemning!G12 -> 8991 | H12: =A12 -> 11. Administration | I12: =B12 -> Budgetønsker | J12: =D12/D8 -> 0.017778367 | K12: =E12/E8 -> 0.019347112 | L12: =F12/F8 -> 0.019016477 | M12: =G12/G8 -> 0.019016477
A13: 11. Administration | B13: Finansieringsforslag | C13: ØU | D13: =Afstemning!D13 -> -20625 | E13: =Afstemning!E13 -> -16795 | F13: =Afstemning!F13 -> -16695 | G13: =Afstemning!G13 -> -13570 | H13: =A13 -> 11. Administration | I13: =B13 -> Finansieringsforslag | J13: =D13/D8 -> -0.043388809 | K13: =E13/E8 -> -0.036140001 | L13: =F13/F8 -> -0.035310876 | M13: =G13/G8 -> -0.028701323
A14: 11. Administration | B14: Vedtaget budget 2020 - 2023 | C14: ØU | D14: =SUM(D9:D13) -> 471040.87 | E14: =SUM(E9:E13) -> 466007.4 | F14: =SUM(F9:F13) -> 473933.39 | G14: =SUM(G9:G13) -> 468353.39 | H14: =A14 -> 11. Administration | I14: =B14 -> Vedtaget budget 2020 - 2023
H15: =A15 -> 0 | I15: =B15 -> 0
H16: =A16 -> 0 | I16: =B16 -> 0
A17: 12. Ejendomme | B17: Serviceramme ompr.sag | C17: ØU | D17: 168790.3 | E17: 168249.92 | F17: 166302.54 | G17: 166302.54 | H17: =A17 -> 12. Ejendomme | I17: =B17 -> Serviceramme ompr.sag
A18: 12. Ejendomme | B18: Driftsramme | C18: ØU | D18: =Afstemning!D18 -> 169925.58 | E18: =Afstemning!E18 -> 169385.23 | F18: =Afstemning!F18 -> 167437.85 | G18: =Afstemning!G18 -> 167437.85 | H18: =A18 -> 12. Ejendomme | I18: =B18 -> Driftsramme
A19: 12. Ejendomme | B19: Tekniske korrektioner | C19: ØU | D19: =Afstemning!D19 -> -12243 | E19: =Afstemning!E19 -> -2430 | F19: =Afstemning!F19 -> 38 | G19: =Afstemning!G19 -> -3253 | H19: =A19 -> 12. Ejendomme | I19: =B19 -> Tekniske korrektioner | J19: =D19/D17 -> -0.072533791 | K19: =E19/E17 -> -0.0144428 | L19: =F19/F17 -> 0.00022849922 | M19: =G19/G17 -> -0.019560736
A20: 12. Ejendomme | B20: Afledt drift | C20: ØU | D20: =Afstemning!D20 -> -1541 | E20: =Afstemning!E20 -> -1181 | F20: =Afstemning!F20 -> 112 | G20: =Afstemning!G20 -> -298 | H20: =A20 -> 12. Ejendomme | I20: =B20 -> Afledt drift | J20: =D20/D17 -> -0.0091296718 | K20: =E20/E17 -> -0.0070193199 | L20: =F20/F17 -> 0.00067347139 | M20: =G20/G17 -> -0.001791915
A21: 12. Ejendomme | B21: Budgetønsker | C21: ØU | D21: =Afstemning!D21 -> 280 | E21: =Afstemning!E21 -> 300 | F21: =Afstemning!F21 -> 300 | G21: =Afstemning!G21 -> 300 | H21: =A21 -> 12. Ejendomme | I21: =B21 -> Budgetønsker | J21: =D21/D17 -> 0.0016588631 | K21: =E21/E17 -> 0.0017830618 | L21: =F21/F17 -> 0.0018039412 | M21: =G21/G17 -> 0.0018039412
A22: 12. Ejendomme | B22: Finansieringsforslag | C22: ØU | D22: =Afstemning!D22 -> -15257 | E22: =Afstemning!E22 -> -14605 | F22: =Afstemning!F22 -> -14605 | G22: =Afstemning!G22 -> -14605 | H22: =A22 -> 12. Ejendomme | I22: =B22 -> Finansieringsforslag | J22: =D22/D17 -> -0.090390268 | K22: =E22/E17 -> -0.086805391 | L22: =F22/F17 -> -0.087821872 | M22: =G22/G17 -> -0.087821872
A23: 12. Ejendomme | B23: Vedtaget budget 2020 - 2023 | C23: ØU | D23: =SUM(D18:D22) -> 141164.58 | E23: =SUM(E18:E22) -> 151469.23 | F23: =SUM(F18:F22) -> 153282.85 | G23: =SUM(G18:G22) -> 149581.85 | H23: =A23 -> 12. Ejendomme | I23: =B23 -> Vedtaget budget 2020 - 2023
H24: =A24 -> 0 | I24: =B24 -> 0
H25: =A25 -> 0 | I25: =B25 -> 0
A26: 13. Rengøring - Bestiller | B26: Serviceramme ompr.sag | C26: ØU | D26: 53357.778 | E26: 53386.782 | F26: 53440.282 | G26: 53440.282 | H26: =A26 -> 13. Rengøring - Bestiller | I26: =B26 -> Serviceramme ompr.sag
A27: 13. Rengøring - Bestiller | B27: Driftsramme | C27: ØU | D27: =Afstemning!D27 -> 53966.778 | E27: =Afstemning!E27 -> 53994.782 | F27: =Afstemning!F27 -> 54048.282 | G27: =Afstemning!G27 -> 54048.282 | H27: =A27 -> 13. Rengøring - Bestiller | I27: =B27 -> Driftsramme
A28: 13. Rengøring - Bestiller | B28: Tekniske korrektioner | C28: ØU | D28: =Afstemning!D28 -> 872 | E28: =Afstemning!E28 -> 1088 | F28: =Afstemning!F28 -> 891 | G28: =Afstemning!G28 -> 731 | H28: =A28 -> 13. Rengøring - Bestiller | I28: =B28 -> Tekniske korrektioner | J28: =D28/D26 -> 0.01634251 | K28: =E28/E26 -> 0.020379576 | L28: =F28/F26 -> 0.016672816 | M28: =G28/G26 -> 0.01367882
A29: 13. Rengøring - Bestiller | B29: Afledt drift | C29: ØU | D29: =Afstemning!D29 -> -277 | E29: =Afstemning!E29 -> -325 | F29: =Afstemning!F29 -> -133 | G29: =Afstemning!G29 -> -120 | H29: =A29 -> 13. Rengøring - Bestiller | I29: =B29 -> Afledt drift | J29: =D29/D26 -> -0.0051913706 | K29: =E29/E26 -> -0.0060876492 | L29: =F29/F26 -> -0.0024887593 | M29: =G29/G26 -> -0.0022454971
A30: 13. Rengøring - Bestiller | B30: Budgetønsker | C30: ØU | D30: =Afstemning!D30 -> 100 | E30: =Afstemning!E30 -> 100 | F30: =Afstemning!F30 -> 100 | G30: =Afstemning!G30 -> 100 | H30: =A30 -> 13. Rengøring - Bestiller | I30: =B30 -> Budgetønsker | J30: =D30/D26 -> 0.001874141 | K30: =E30/E26 -> 0.0018731228 | L30: =F30/F26 -> 0.0018712476 | M30: =G30/G26 -> 0.0018712476
A31: 13. Rengøring - Bestiller | B31: Finansieringsforslag | C31: ØU | D31: =Afstemning!D31 -> -360 | E31: =Afstemning!E31 -> -360 | F31: =Afstemning!F31 -> -360 | G31: =Afstemning!G31 -> -360 | H31: =A31 -> 13. Rengøring - Bestiller | I31: =B31 -> Finansieringsforslag | J31: =D31/D26 -> -0.0067469076 | K31: =E31/E26 -> -0.0067432422 | L31: =F31/F26 -> -0.0067364914 | M31: =G31/G26 -> -0.0067364914
A32: 13. Rengøring - Bestiller | B32: Vedtaget budget 2020 - 2023 | C32: ØU | D32: =SUM(D27:D31) -> 54301.778 | E32: =SUM(E27:E31) -> 54497.782 | F32: =SUM(F27:F31) -> 54546.282 | G32: =SUM(G27:G31) -> 54399.282 | H32: =A32 -> 13. Rengøring - Bestiller | I32: =B32 -> Vedtaget budget 2020 - 2023
H33: =A33 -> 0 | I33: =B33 -> 0
H34: =A34 -> 0 | I34: =B34 -> 0
A35: 21. Natur, Miljø og Klima | B35: Serviceramme ompr.sag | C35: NMK | D35: 13943.986 | E35: 13791.991 | F35: 13791.989 | G35: 13791.989 | H35: =A35 -> 21. Natur, Miljø og Klima | I35: =B35 -> Serviceramme ompr.sag
A36: 21. Natur, Miljø og Klima | B36: Driftsramme | C36: NMK | D36: =Afstemning!D36 -> 13943.986 | E36: =Afstemning!E36 -> 13791.991 | F36: =Afstemning!F36 -> 13791.989 | G36: =Afstemning!G36 -> 13791.989 | H36: =A36 -> 21. Natur, Miljø og Klima | I36: =B36 -> Driftsramme
A37: 21. Natur, Miljø og Klima | B37: Tekniske korrektioner | C37: NMK | D37: =Afstemning!D37 -> -972 | E37: =Afstemning!E37 -> -972 | F37: =Afstemning!F37 -> -971 | G37: =Afstemning!G37 -> -971 | H37: =A37 -> 21. Natur, Miljø og Klima | I37: =B37 -> Tekniske korrektioner | J37: =D37/D35 -> -0.069707471 | K37: =E37/E35 -> -0.070475684 | L37: =F37/F35 -> -0.070403188 | M37: =G37/G35 -> -0.070403188
A38: 21. Natur, Miljø og Klima | B38: Afledt drift | C38: NMK | D38: =Afstemning!D38 -> 0 | E38: =Afstemning!E38 -> 0 | F38: =Afstemning!F38 -> 0 | G38: =Afstemning!G38 -> 0 | H38: =A38 -> 21. Natur, Miljø og Klima | I38: =B38 -> Afledt drift | J38: =D38/D35 -> 0 | K38: =E38/E35 -> 0 | L38: =F38/F35 -> 0 | M38: =G38/G35 -> 0
A39: 21. Natur, Miljø og Klima | B39: Budgetønsker | C39: NMK | D39: =Afstemning!D39 -> 2900 | E39: =Afstemning!E39 -> 2900 | F39: =Afstemning!F39 -> 2900 | G39: =Afstemning!G39 -> 2900 | H39: =A39 -> 21. Natur, Miljø og Klima | I39: =B39 -> Budgetønsker | J39: =D39/D35 -> 0.20797496 | K39: =E39/E35 -> 0.21026696 | L39: =F39/F35 -> 0.21026699 | M39: =G39/G35 -> 0.21026699
A40: 21. Natur, Miljø og Klima | B40: Finansieringsforslag | C40: NMK | D40: =Afstemning!D40 -> -200 | E40: =Afstemning!E40 -> -200 | F40: =Afstemning!F40 -> -200 | G40: =Afstemning!G40 -> -200 | H40: =A40 -> 21. Natur, Miljø og Klima | I40: =B40 -> Finansieringsforslag | J40: =D40/D35 -> -0.014343101 | K40: =E40/E35 -> -0.01450117 | L40: =F40/F35 -> -0.014501172 | M40: =G40/G35 -> -0.014501172
A41: 21. Natur, Miljø og Klima | B41: Vedtaget budget 2020 - 2023 | C41: NMK | D41: =SUM(D36:D40) -> 15671.986 | E41: =SUM(E36:E40) -> 15519.991 | F41: =SUM(F36:F40) -> 15520.989 | G41: =SUM(G36:G40) -> 15520.989 | H41: =A41 -> 21. Natur, Miljø og Klima | I41: =B41 -> Vedtaget budget 2020 - 2023
H42: =A42 -> 0 | I42: =B42 -> 0
H43: =A43 -> 0 | I43: =B43 -> 0
A44: 23. Kirkegårde | B44: Serviceramme ompr.sag | C44: ØU | D44: 3356.696 | E44: 3358.715 | F44: 3358.715 | G44: 3358.715 | H44: =A44 -> 23. Kirkegårde | I44: =B44 -> Serviceramme ompr.sag
A45: 23. Kirkegårde | B45: Driftsramme | C45: ØU | D45: =Afstemning!D45 -> 3356.696 | E45: =Afstemning!E45 -> 3358.715 | F45: =Afstemning!F45 -> 3358.715 | G45: =Afstemning!G45 -> 3358.715 | H45: =A45 -> 23. Kirkegårde | I45: =B45 -> Driftsramme
...

Sheet  Balance udvalg
B2: HUSK AT OPDAGERE PIVOT-TABELLER NEDFOR
G3: Serviceudg.
A4: AU og FF i kr. | G4: omp.ramme | H4: i pct. i 2027
A5: Rækkemærkater | B5: Sum af 2027 | C5: Sum af 2028 | D5: Sum af 2029 | E5: Sum af 2030
A6: BFU | B6: 21844 | C6: 32719 | D6: 30948 | E6: 16850 | G6: =' Balance akt.'!D125+' Balance akt.'!D134+' Balance akt.'!D143+' Balance akt.'!D152 -> 1250704 | H6: =B6/G6 -> 0.017465364
A7: Budgetønsker | B7: 33081 | C7: 46329 | D7: 44958 | E7: 30860
A8: Finansieringsforslag | B8: -11237 | C8: -13610 | D8: -14010 | E8: -14010
A9: EUU | B9: -4415 | C9: -2165 | D9: -2165 | E9: -2165 | G9: =' Balance akt.'!D116+' Balance akt.'!D89+' Balance akt.'!D71 -> 50138.438 | H9: =B9/G9 -> -0.088056194
A10: Budgetønsker | B10: 100 | C10: 100 | D10: 100 | E10: 100
A11: Finansieringsforslag | B11: -4515 | C11: -2265 | D11: -2265 | E11: -2265
A12: KIL | B12: -4303 | C12: 2136 | D12: 136 | E12: 136 | G12: =' Balance akt.'!D161 -> 106195.37 | H12: =B12/G12 -> -0.040519656
A13: Budgetønsker | B13: 485 | C13: 485 | D13: 485 | E13: 485
A14: Finansieringsforslag | B14: -4788 | C14: 1651 | D14: -349 | E14: -349
A15: MTU | B15: -19869 | C15: -2300 | D15: -2300 | E15: -2300 | G15: =' Balance akt.'!D179 -> 117905.95 | H15: =B15/G15 -> -0.16851567
A16: Budgetønsker | B16: 0 | C16: 0 | D16: 0 | E16: 0
A17: Finansieringsforslag | B17: -19869 | C17: -2300 | D17: -2300 | E17: -2300
A18: NMK | B18: 2700 | C18: 2700 | D18: 2700 | E18: 2700 | G18: =' Balance akt.'!D35 -> 13943.986 | H18: =B18/G18 -> 0.19363186
A19: Budgetønsker | B19: 2900 | C19: 2900 | D19: 2900 | E19: 2900
A20: Finansieringsforslag | B20: -200 | C20: -200 | D20: -200 | E20: -200
A21: PBU | B21: 48 | C21: 84 | D21: 84 | E21: 84 | G21: =' Balance akt.'!D62 -> 1227.825 | H21: =B21/G21 -> 0.039093519
A22: Budgetønsker | B22: 64 | C22: 100 | D22: 100 | E22: 100
A23: Finansieringsforslag | B23: -16 | C23: -16 | D23: -16 | E23: -16
A24: ÆSS | B24: 1649 | C24: 11812 | D24: 10874 | E24: 4379 | G24: =' Balance akt.'!D80+' Balance akt.'!D98+' Balance akt.'!D107 -> 993700.38 | H24: =B24/G24 -> 0.0016594539
A25: Budgetønsker | B25: 13431 | C25: 23581 | D25: 22643 | E25: 16148
A26: Finansieringsforslag | B26: -11782 | C26: -11769 | D26: -11769 | E26: -11769
A27: ØU | B27: -27516 | C27: -22474 | D27: -22374 | E27: -19249 | G27: =' Balance akt.'!D8+' Balance akt.'!D17+' Balance akt.'!D26+' Balance akt.'!D44+' Balance akt.'!D53+' Balance akt.'!D170 -> 707029.34 | H27: =B27/G27 -> -0.038917763
A28: Budgetønsker | B28: 8831 | C28: 9391 | D28: 9391 | E28: 9391
A29: Finansieringsforslag | B29: -36347 | C29: -31865 | D29: -31765 | E29: -28640
A30: I alt Hill.Km. | B30: -29862 | C30: 22512 | D30: 17903 | E30: 435 | G30: =G6+G9+G12+G15+G18+G21+G24+G27 -> 3240845.2 | H30: =B30/G30 -> -0.0092142629
A31: Budgetønsker | B31: 58892 | C31: 82886 | D31: 80577 | E31: 59984
A32: Finansieringsforslag | B32: -88754 | C32: -60374 | D32: -62674 | E32: -59549

Sheet Budgetforslag 2027-2030
A1: Budgetaftale 2027-2030
A3: Mio.kr. , netto, årets priser | B3: 2026 | C3: =B3+1 -> 2027 | D3: =C3+1 -> 2028 | E3: =D3+1 -> 2029 | F3: =E3+1 -> 2030
B4: Korrigeret Budget | C4: Budget | D4: Budget | E4: Budget | F4: Budget | I4: 27 | J4: 28 | K4: 29 | L4: 30
A5: DRIFTS OG ANLÆGSUDGIFTER:
A6: Skatter | B6: ='Vedtaget budget i 2026'!B10 -> -4299.018 | C6: ='Vedtaget budget i 2026'!C10+'Ændringer til vedtaget budget'!C16 -> -4691.291 | D6: ='Vedtaget budget i 2026'!D10+'Ændringer til vedtaget budget'!D16 -> -4751.489 | E6: ='Vedtaget budget i 2026'!E10+'Ændringer til vedtaget budget'!E16 -> -4838.381 | F6: ='Vedtaget budget i 2026'!F10+'Ændringer til vedtaget budget'!F16 -> -5052.403
A7: Refusion købsmoms | B7: ='Vedtaget budget i 2026'!B11 -> 0 | C7: =SUM('Vedtaget budget i 2026'!C11+'Ændringer til vedtaget budget'!C17) -> 0 | D7: =SUM('Vedtaget budget i 2026'!D11+'Ændringer til vedtaget budget'!D17) -> 0 | E7: =SUM('Vedtaget budget i 2026'!E11+'Ændringer til vedtaget budget'!E17) -> 0 | F7: =SUM('Vedtaget budget i 2026'!F11+'Ændringer til vedtaget budget'!F17) -> 0
A8: Tilskud og udligning | B8: ='Vedtaget budget i 2026'!B12 -> -153.116 | C8: ='Vedtaget budget i 2026'!C12+'Ændringer til vedtaget budget'!C18 -> 302.582 | D8: ='Vedtaget budget i 2026'!D12+'Ændringer til vedtaget budget'!D18 -> 351.09 | E8: ='Vedtaget budget i 2026'!E12+'Ændringer til vedtaget budget'!E18 -> 317.141 | F8: ='Vedtaget budget i 2026'!F12+'Ændringer til vedtaget budget'!F18 -> 371.494
A9: Driftsudgifter | B9: ='Vedtaget budget i 2026'!B13 -> 4225.081 | C9: ='Vedtaget budget i 2026'!C13+'Ændringer til vedtaget budget'!C8+'Ændringer til vedtaget budget'!C9+'Ændringer til vedtaget budget'!C10+'Ændringer til vedtaget budget'!C11 -> 3987.984 | D9: ='Vedtaget budget i 2026'!D13+'Ændringer til vedtaget budget'!D8+'Ændringer til vedtaget budget'!D9+'Ændringer til vedtaget budget'!D10+'Ændringer til vedtaget budget'!D11-0.001 -> 4053.425 | E9: ='Vedtaget budget i 2026'!E13+'Ændringer til vedtaget budget'!E8+'Ændringer til vedtaget budget'!E9+'Ændringer til vedtaget budget'!E10+'Ændringer til vedtaget budget'!E11 -> 4066.588 | F9: ='Vedtaget budget i 2026'!F13+'Ændringer til vedtaget budget'!F8+'Ændringer til vedtaget budget'!F9+'Ændringer til vedtaget budget'!F10+'Ændringer til vedtaget budget'!F11 -> 4060.196
A10: Renter | B10: ='Vedtaget budget i 2026'!B14 -> -2.141 | C10: ='Vedtaget budget i 2026'!C14+'Ændringer til vedtaget budget'!C21 -> -5.646 | D10: ='Vedtaget budget i 2026'!D14+'Ændringer til vedtaget budget'!D21 -> -5.596 | E10: ='Vedtaget budget i 2026'!E14+'Ændringer til vedtaget budget'!E21 -> -5.546 | F10: ='Vedtaget budget i 2026'!F14+'Ændringer til vedtaget budget'!F21 -> -5.546
A11: Resultat af ordinær drift | B11: ='Vedtaget budget i 2026'!B15 -> -229.194 | C11: =SUM(C6:C10) -> -406.371 | D11: =SUM(D6:D10) -> -352.57 | E11: =SUM(E6:E10) -> -460.198 | F11: =SUM(F6:F10) -> -626.259 | I11: =C11 -> -406.371 | J11: =D11 -> -352.57 | K11: =E11 -> -460.198 | L11: =F11 -> -626.259 | N11: Resultatet af den ordinære drift skal være minimum 100 mio. kr. pr. år.
A12: Anlægsudgifter (HK 0, 2-6) | B12: ='Vedtaget budget i 2026'!B16 -> 313.313 | C12: ='Ændringer til vedtaget budget'!C12+'Ændringer til vedtaget budget'!C14-C15 -> 189.20319 | D12: ='Ændringer til vedtaget budget'!D12+'Ændringer til vedtaget budget'!D14-D15 -> 705.58902 | E12: ='Ændringer til vedtaget budget'!E12+'Ændringer til vedtaget budget'!E14-E15 -> 313.55263 | F12: ='Ændringer til vedtaget budget'!F12+'Ændringer til vedtaget budget'!F14-F15 -> 230.3168 | I12: =C12 -> 189.20319 | N12: Vejledende anlægsramme fra KL på 189,367 mio. kr. udmeldt 7.2.2026.
A13: Anlægsindtægter (HK 0, 2-6) | C13: ='Ændringer til vedtaget budget'!C13+'Ændringer til vedtaget budget'!C15 -> -11.7 | D13: ='Ændringer til vedtaget budget'!D13+'Ændringer til vedtaget budget'!D15 -> -9.045 | E13: ='Ændringer til vedtaget budget'!E13+'Ændringer til vedtaget budget'!E15 -> -10.645 | F13: ='Ændringer til vedtaget budget'!F13+'Ændringer til vedtaget budget'!F15 -> 0
A14: Skattefinansieret område ialt | B14: ='Vedtaget budget i 2026'!B18+'Budgetforslag 2027-2030'!O19 -> 84.119 | C14: =SUM(C11:C13) -> -228.86781 | D14: =SUM(D11:D13) -> 343.97402 | E14: =SUM(E11:E13) -> -157.29037 | F14: =SUM(F11:F13) -> -395.9422
A15: Anlægsudgifter (HK 1 - brugerfinansieret og uden for anlægsloft) | C15: 0 | D15: 0 | E15: 0 | F15: 0
A16: Brugerfinansieret område ialt | C16: =SUM(C15) -> 0 | D16: =SUM(D15) -> 0 | E16: =SUM(E15) -> 0 | F16: =SUM(F15) -> 0
A17: Pris og lønskøn FF&AU | D17: =(D50+D51+D57)*D63 -> -1.6579418 | E17: =(E50+E51+E57)*E63 -> -4.4163898 | F17: =(F50+F51+F57)*F63 -> -8.3777782
A18: Pris og lønskøn AØ | D18: =D59*D64 -> 2.3253823 | E18: =E59*E64 -> 2.9885153 | F18: =F59*F64 -> 2.3286427
A19: Pris og lønskøn i alt | B19: ='Vedtaget budget i 2026'!B20 -> 0 | C19: ='Vedtaget budget i 2026'!C20+'Ændringer til vedtaget budget'!C7 -> 0 | D19: =prisfremskrivning!F39 -> 119.622 | E19: =prisfremskrivning!G39 -> 250.265 | F19: =prisfremskrivning!H39 -> 389.25
A20: Årets resultat, ekskl. HK 1 - brugerfinansieret anlæg | B20: ='Vedtaget budget i 2026'!B21 -> 84.119 | C20: =C14+C19 -> -228.86781 | D20: =D14+D19+D18+D17 -> 464.26346 | E20: =E14+E19+E18+E17 -> 91.546758 | F20: =F14+F19+F18+F17 -> -12.741337 | I20: =C20 -> -228.86781 | J20: =D20 -> 464.26346 | K20: =E20 -> 91.546758 | L20: =F20 -> -12.741337 | N20: Årets resultat skal være positiv
A22: KAPITALBEVÆGELSER:
A23: Årets resultat, inkl. HK 1 - brugerfinansieret anlæg | B23: ='Vedtaget budget i 2026'!B24+'Budgetforslag 2027-2030'!O23 -> 84.119 | C23: =C20+C15 -> -228.86781 | D23: =D20+D15 -> 464.26346 | E23: =E20+E15 -> 91.546758 | F23: =F20+F15 -> -12.741337
A24: Låneoptagelse | B24: ='Vedtaget budget i 2026'!B25+'Budgetforslag 2027-2030'!O24 -> -29.226 | C24: ='Vedtaget budget i 2026'!C25+'Ændringer til vedtaget budget'!C19 -> -2.6 | D24: ='Vedtaget budget i 2026'!D25+'Ændringer til vedtaget budget'!D19 -> -27.447 | E24: ='Vedtaget budget i 2026'!E25+'Ændringer til vedtaget budget'!E19 -> -15.024 | F24: ='Vedtaget budget i 2026'!F25+'Ændringer til vedtaget budget'!F19 -> -15.025 | I24: =+C25+C24 -> 31.682 | J24: =+D25+D24 -> 7.285 | K24: =+E25+E24 -> 20.461 | L24: =+F25+F24 -> 20.727 | N24: Kommunens langfristede gæld skal nedbringes.
A25: Afdrag på lån | B25: ='Vedtaget budget i 2026'!B26+'Budgetforslag 2027-2030'!O25 -> 35.369 | C25: ='Vedtaget budget i 2026'!C26+'Ændringer til vedtaget budget'!C20 -> 34.282 | D25: ='Vedtaget budget i 2026'!D26+'Ændringer til vedtaget budget'!D20 -> 34.732 | E25: ='Vedtaget budget i 2026'!E26+'Ændringer til vedtaget budget'!E20 -> 35.485 | F25: ='Vedtaget budget i 2026'!F26+'Ændringer til vedtaget budget'!F20 -> 35.752
A26: Finansforskydninger | B26: ='Vedtaget budget i 2026'!B27 -> 57.885 | C26: ='Vedtaget budget i 2026'!C27+'Ændringer til vedtaget budget'!C22 -> -12.713 | D26: ='Vedtaget budget i 2026'!D27+'Ændringer til vedtaget budget'!D22 -> -12.943 | E26: ='Vedtaget budget i 2026'!E27+'Ændringer til vedtaget budget'!E22 -> -10.409 | F26: ='Vedtaget budget i 2026'!F27+'Ændringer til vedtaget budget'!F22 -> -6.629
A27: Ændring af likviditet ('POSITIVT TAL er lig med forbrug af likvider) ** inkl. korrektioner vedr. likviditetstræk | B27: ='Vedtaget budget i 2026'!B28 -> 148.147 | C27: =SUM(C23:C26) -> -209.89881 | D27: =SUM(D23:D26) -> 458.60546 | E27: =SUM(E23:E26) -> 101.59876 | F27: =SUM(F23:F26) -> 1.3566635
A28: + = udgift/underskud - = indtægt/overskud
B30: forventet kasse ult. 2026 | C30: forventet kasse ult.2027 | D30: forventet kasse ult. 2028 | E30: forventet kasse ult. 2029 | F30: forventet kasse ult. 2030
A31: Likviditet ultimo juni 2026 (608,406 mio. kr.) | B31: =608.406-B27-B34 -> 458.959 | C31: =B31-C27 -> 668.85781 | D31: =C31-D27 -> 210.25236 | E31: =D31-E27 -> 108.6536 | F31: =E31-F27 -> 107.29693 | I31: =C31 -> 668.85781 | J31: =D31 -> 210.25236 | K31: =E31 -> 108.6536 | L31: =F31 -> 107.29693 | N31: Kommunens gennemsnitslikviditet skal løbende ligge på mindst 100 mio. kr.
A32: OBS - udgangspunkt for kassen
A34: Korrektion af kasse - fremrykket vedr. FBC effekt i 2026 | B34: =IF(Finansieringsforslag!N137="x",-Finansieringsforslag!H137,0)/1000 -> 1.3
A37: NØGLETAL:
A38: Skatteprocent | B38: 25.6 | C38: 25.6 | D38: 25.6 | E38: 25.6 | F38: 25.6
A39: Grundskyldspromille *) - Produktionsjord | B39: 5.85 | C39: 5.85 | D39: 5.85 | E39: 5.85 | F39: 5.85
A40: Grundskyldspromille *) - Øvrige ejendomme | B40: 6.6 | C40: 6.6 | D40: 6.6 | E40: 6.6 | F40: 6.6
A41: Langfristet gæld - skattefinans. | B41: ='Vedtaget budget i 2026'!B35 -> 635.425 | C41: =B41-C24-C25 -> 603.743 | D41: =C41-D24-D25 -> 596.458 | E41: =D41-E24-E25 -> 575.997 | F41: =E41-F24-F25 -> 555.27
A42: Servicerammen (med pl - dvs i løbende priser) overslagsår beregnet | B42: 3090.856 | C42: 3189.65 | D42: =C42*(1+C63) -> 3275.7705 | E42: =C42*(1+D63) -> 3360.9406 | F42: =C42*(1+E63) -> 3455.0469 | N42: Vejledende ramme KL 2.7.2026
A43: Udgifter indenfor servicerammen (med pl - dvs i løbende priser) | C43: 3234.673 | D43: 3355.823 | E43: 3497.184 | F43: 3609.43 | N43: opus pr. 24.08.2026
A44: + = udgift/underskud - = indtægt/overskud
A45: *) fra 2024 omlægges beskatning for boligejere fra afgiftspligtige grundværdier til beskatning direkte på grundværdien for ejendomsejere. Grundskyldspromillen fastsættes ved lov.
A47: Servicebuffer - afstemning til vejledende ramme (+ = over serviceramme) | C47: =(C43-C42) -> 45.023 | D47: =(D43-D42) -> 80.05245 | E47: =(E43-E42) -> 136.24342 | F47: =(F43-F42) -> 154.38308
...

Sheet Finansieringsforslag
B2: FINANSIERINGSFORSLAG. FORSLAG DER ER MARKERET MED X I HØJRE KOLONNE INDGÅR I BUDGETFORSLAGET
B5: - = mindreudgift/merindtægt + = merudgift/mindreindtægt
B6: Finansieringsforslag til budget
B9: - = mindreudgift/merindtægt + = merudgift/mindreindtægt
B10: 1.000 kr. | D10: obs | E10: Akt. | F10: Service | H10: =+'Budgetforslag 2027-2030'!C3 -> 2027 | I10: =H10+1 -> 2028 | J10: =I10+1 -> 2029 | K10: =J10+1 -> 2030 | L10: Områdets | N10: Godkendte
B11: Finansieringsforslag | H11: =SUMIF($N$12:$N$175,"x",H12:H175) -> -88754 | I11: =SUMIF($N$12:$N$175,"x",I12:I175) -> -60374 | J11: =SUMIF($N$12:$N$175,"x",J12:J175) -> -62674 | K11: =SUMIF($N$12:$N$175,"x",K12:K175) -> -59549 | L11: budget | N11: korrektioner
B12: Akt. 11, Administrationen
B14: 11FF2027-001 Indkøbsprovenu | E14: 11 | F14: 100 | H14: -800 | I14: -800 | J14: -800 | K14: -800 | L14: 1206400 | N14: x
B15: NY11FF2027-001 Indkøbsprovenu | E15: 11 | F15: 100 | H15: -500 | N15: x
B16: 11FF2027-002 Ydelsesstøtte og info-aktiviteter | E16: 11 | F16: 100 | H16: -225 | I16: -225 | J16: -225 | K16: -225 | L16: =1244-198 -> 1046 | N16: x
B17: 11FF2027-003 Systemudgifter | E17: 11 | F17: 100 | H17: -1000 | I17: -1000 | J17: -1000 | K17: -1000 | L17: =1106 -> 1106 | N17: x
B18: 11FF2027-004 Automatisering | E18: 11 | F18: 100 | H18: -800 | I18: -800 | J18: -800 | K18: -800 | L18: relevante lønsummer | N18: x
B19: NY11FF2027-004 Automatisering | E19: 11 | F19: 100 | H19: -200 | I19: -200 | J19: -200 | K19: -200 | N19: x
B20: 11FF2027-005 Opkrævningsgebyrer | E20: 11 | F20: 100 | H20: -100 | I20: -100 | J20: -100 | K20: -100 | L20: -993 | N20: x
B21: 11FF2027-006 Tjenestemandspensioner | E21: 11 | F21: 100 | H21: -1400 | I21: -1400 | J21: -1400 | K21: -1400 | L21: 21560 | N21: x
B22: NY11FF2027-006 Tjenestemandspensioner | E22: 11 | F22: 100 | H22: -400 | N22: x
B23: 11FF2027-007 Justering af pulje til tiltag i forbindelse med forsikringspolitikken | E23: 11 | F23: 100 | H23: -221 | I23: -221 | J23: -221 | K23: -221 | L23: 1021 | N23: x
B24: NY11FF2027-007 – Forsikringspulje. | E24: 11 | F24: 100 | H24: -150 | I24: -150 | J24: -150 | K24: -150 | N24: x
B25: 11FF2027-008 Justering af pulje til reparation af skader på biler | E25: 11 | F25: 100 | H25: -150 | I25: -150 | J25: -150 | K25: -150 | L25: 1846 | N25: x
B26: NY11FF2027-008 – reparation af bilskader | E26: 11 | F26: 100 | H26: -25 | I26: -25 | J26: -25 | K26: -25 | N26: x
B27: 11FF2027-009 Tilpasning af budget til generelt kontorhold | E27: 11 | F27: 100 | H27: -50 | I27: -50 | J27: -50 | K27: -50 | L27: 180 | N27: x
B28: 11FF2027-010 Begravelseshjælp, befordringsgodtgørelse og lægeerklæringer | E28: 11 | F28: 100 | H28: =-100-40 -> -140 | I28: =-100-40 -> -140 | J28: =-100-40 -> -140 | K28: =-100-40 -> -140 | L28: =1082+143+175 -> 1400 | N28: x
B29: 11FF2027-011 Administrativ lønreduktion - residual til senere udmøntning | E29: 11 | F29: 100 | H29: -533 | I29: -533 | J29: -533 | K29: -533 | L29: 281448 | N29: x
B30: 11FF2027-011 Administrativ lønreduktion - rammebesparelse i Familiesektionen – reduktion af rådgivere. | E30: 11 | F30: 100 | H30: -650 | I30: -650 | J30: -650 | K30: -650
B31: 11FF2027-011 Administrativ lønreduktion - klimaplanens indsats med virksomheder og boligejere om energibesparelser. | E31: 11 | F31: 100 | H31: -770 | I31: -770 | J31: -770 | K31: -770
B32: 11FF2027-011 Administrativ lønreduktion - tværgående hygiejneindsats | E32: 11 | F32: 100 | H32: -300 | I32: -300 | J32: -300 | K32: -300 | N32: x
B33: NY FF flytning af projektledelsesressourcer fra drift til anlæg (Ejendomme og By og Miljø) | E33: 11 | F33: 100 | H33: -6355 | I33: -3425 | J33: -3325 | K33: -200 | N33: x
B34: NYUspecificeret Rammebesparelse på alle aktivtetsområder og arbejdspladser 0,25 pct (1/400 del) - ex. dagtilbud | E34: 11 | F34: 100 | H34: =-8096+820 -> -7276 | I34: =-8096+820 -> -7276 | J34: =-8096+820 -> -7276 | K34: =-8096+820 -> -7276 | N34: x
B36: Akt. 12, Ejendomme
B37: 12FF2027-001 Renovering af kommunale bygninger | E37: 12 | F37: 100 | H37: -1502 | I37: -1502 | J37: -1502 | K37: -1502 | L37: 7655 | N37: x
B38: 12FF2027-002 Husleje, grunde og bygninger | E38: 12 | F38: 100 | H38: -1100 | I38: -1100 | J38: -1100 | K38: -1100 | L38: 40391 | N38: x
B39: NY12FF2027-002 – Husleje – yderligere | E39: 12 | F39: 100 | H39: -200 | I39: -200 | J39: -200 | K39: -200 | N39: x
B40: 12FF2027-003 Øvrige ejendomsudgifter | E40: 12 | F40: 100 | H40: -100 | I40: -100 | J40: -100 | K40: -100 | L40: 1391 | N40: x
B41: NY12FF2027-003 – Øvrige ejendomsudgifter. | E41: 12 | F41: 100 | H41: -25 | I41: -25 | J41: -25 | K41: -25 | N41: x
B42: NY12FF2027-003 – Øvrige ejendomsudgifter Udbedring af brandforhold | E42: 12 | F42: 100 | H42: -200 | I42: -200 | J42: -200 | K42: -200 | N42: x
B43: NY12FF2027-003 – Øvrige ejendomsudgifter Forbrugsudgifter - varme | E43: 12 | F43: 100 | H43: -150 | I43: -150 | J43: -150 | K43: -150 | N43: x
B44: NY12FF2027-003 – Øvrige ejendomsudgifter forbrugsudgifter - el | E44: 12 | F44: 100 | H44: -100 | I44: -100 | J44: -100 | K44: -100 | N44: x
B45: NY12FF2027-003 – Øvrige ejendomsudgifter forbrugsudgifter - vand | E45: 12 | F45: 100 | H45: -50 | I45: -50 | J45: -50 | K45: -50 | N45: x
B46: NY12FF2027-003 – Øvrige ejendomsudgifter Indvendig vedligehold af ejendomme - yderligere reduktion | E46: 12 | F46: 100 | H46: -228 | I46: -228 | J46: -228 | K46: -228 | N46: x
B47: NY Midlertidige pavilloner på Skolen ved Skoven – konvertering fra drift til anlæg i 2027 | E47: 12 | F47: 100 | H47: -500 | I47: 0 | J47: 0 | K47: 0 | N47: x
...

Sheet Aktivitetsudvidelser
B2: AKTIVITETSUDVIDELSER. ØNSKER DER ER MARKERET MED X I HØJRE KOLONNE INDGÅR I BUDGETFORSLAGET
B5: - = mindreudgift/merindtægt + = merudgift/mindreindtægt
B7: Aktivitetsudvidelser
B10: - = mindreudgift/merindtægt + = merudgift/mindreindtægt
B11: 1.000 kr. | C11: obs | D11: Akt. | E11: Service | F11: =+'Budgetforslag 2027-2030'!C3 -> 2027 | G11: =+F11+1 -> 2028 | H11: =+G11+1 -> 2029 | I11: =+H11+1 -> 2030 | J11: Områdets | L11: Godkendte | M11: Godkendt til
B12: Aktivitetsudvidelser | F12: =SUMIF($L14:$L189,"x",F14:F189)-SUMIF($L$175,"x",F175) -> 58892 | G12: =SUMIF($L14:$L189,"x",G14:G189)-SUMIF($L$175,"x",G175) -> 82886 | H12: =SUMIF($L14:$L189,"x",H14:H189)-SUMIF($L$175,"x",H175) -> 80577 | I12: =SUMIF($L14:$L189,"x",I14:I189)-SUMIF($L$175,"x",I175) -> 59984 | J12: budget | L12: korrektioner | M12: 1. behandling
B15: Akt. 11, Administration
B16: 11AU2027-001 Opfølgning på ILO-konvention nr. 94 i Hillerød Kommunes kontrakter | D16: 11 | E16: 100 | F16: 175 | G16: 175 | H16: 175 | I16: 175 | J16: 0 | L16: x
B17: 11AU2027-002 Omdannelse af Hillerød Hospital | D17: 11 | E17: 100 | F17: 1155 | G17: 1155 | H17: 1155 | I17: 1155 | J17: 8857
B18: 11AU2027-002 Omdannelse af Hillerød Hospital | D18: 28 | E18: 100 | F18: 200 | G18: 200 | H18: 200 | I18: 200 | J18: 1179
B19: 11AU2027-003 Projektledelse af opgaver knyttet til Arresø Treparten | D19: 11 | E19: 100 | F19: 257 | G19: 257 | H19: 257 | I19: 257 | J19: 17052
B20: 11AU2027-004 Strategi og handleplan for cirkularitet i kommunens bygninger | D20: 11 | E20: 100 | F20: 750 | G20: 750 | H20: 750 | I20: 0 | J20: 24439
B21: 11AU2027-005 Ekstra ressource til teknik – og vedligeholdelsesteam | D21: 11 | E21: 100 | F21: 800 | G21: 800 | H21: 800 | I21: 800 | J21: 24439
B22: 11AU2027-006 Øge procent fra 3% til 4% til lønsum fra anlægsprojekter | D22: 11 | E22: A | F22: 2500 | G22: 2500 | H22: 2500 | I22: 2500 | J22: 24439
B23: NY11AU2027-006 Øge procent fra 3% til 4% til lønsum fra anlægsprojekter - halv effekt | D23: 11 | E23: A | F23: 625 | G23: =G22/2 -> 1250 | H23: =H22/2 -> 1250 | I23: =I22/2 -> 1250 | J23: 24439
B24: 11AU2027-007 Beredskab – krav undersøgelse af tilstanden af sikringsrum | D24: 11 | E24: 100 | F24: 385 | G24: 385 | H24: 0 | I24: 0 | J24: 8469
B25: 11AU2027-007 Beredskab – krav undersøgelse af tilstanden af sikringsrum | D25: 28 | E25: 100 | F25: 215 | G25: 215 | H25: 0 | I25: 0 | J25: 0
B26: 11AU2027-008 Byggesagsbehandling – kortere sagsbehandlingstider | D26: 11 | E26: 100 | F26: 770 | G26: 770 | H26: 770 | I26: 770 | J26: 8469 | L26: x
B27: 11AU2027-008 Byggesagsbehandling – kortere sagsbehandlingstider - takstindtægt | D27: 28 | E27: 100 | F27: -100 | G27: -100 | H27: -100 | I27: -100 | J27: -1395 | L27: x
B28: 11AU2027-009 Grøn trepart - Realisering af Hillerød Kommunes Omlægningsplan | D28: 11 | E28: 100 | F28: 3080 | G28: 3080 | H28: 3080 | I28: 3080 | J28: 17716
B29: 11AU2027-009 Grøn trepart - Realisering af Hillerød Kommunes Omlægningsplan | D29: 21 | E29: 100 | F29: 2000 | G29: 2000 | H29: 2000 | I29: 2000 | J29: 13453
B30: NY11AU2027-009 Grøn trepart og Arresø Trepart - Realisering af Hillerød Kommunes Omlægningsplan | D30: 11 | E30: 100 | F30: 3080 | G30: 3080 | H30: 3080 | I30: 3080 | L30: x
B31: NY11AU2027-009 Grøn trepart og Arresø Trepart - Realisering af Hillerød Kommunes Omlægningsplan | D31: 21 | E31: 100 | F31: 2000 | G31: 2000 | H31: 2000 | I31: 2000 | L31: x
B32: NY11AU2027-009 Grøn trepart - Realisering af Hillerød Kommunes Omlægningsplan | D32: 11 | E32: 100 | F32: =F28*0.75 -> 2310 | G32: 3080 | H32: 3080 | I32: 3080 | J32: 17716
B33: NY11AU2027-009 Grøn trepart - Realisering af Hillerød Kommunes Omlægningsplan | D33: 21 | E33: 100 | F33: =F29*0.75 -> 1500 | G33: 2000 | H33: 2000 | I33: 2000 | J33: 13453
B34: 11AU2027-010 Resurser til lokalplanlægning | D34: 11 | E34: 100 | F34: 1540 | G34: 1540 | H34: 1540 | I34: 1540 | J34: 8857
B35: NY11AU2027-010 Øgede ressourcer til lokalplanlægning, herunder omdannelse af Hillerød Hospital og Hillerød Stadion | D35: 11 | E35: 100 | F35: =0.82*G35 -> 2460 | G35: 3000 | H35: 3000 | I35: 3000 | J35: 8857 | L35: x
B36: NY11AU2027-010 Øgede ressourcer til lokalplanlægning, herunder omdannelse af Hillerød Hospital og Hillerød Stadion | D36: 28 | E36: 100 | F36: =0.82*G36 -> 164 | G36: 200 | H36: 200 | I36: 200 | L36: x
B37: 11AU2027-011 Drikkevandsforsyning – reduktion af venteliste | D37: 11 | E37: 100 | F37: 770 | G37: 770 | H37: 770 | I37: 770 | J37: 17716 | L37: x
B38: 11AU2027-011 Drikkevandsforsyning – reduktion af venteliste | D38: 21 | E38: 100 | F38: 500 | G38: 500 | H38: 500 | I38: 500 | J38: 1899 | L38: x
B39: 11AU2027-012 Indførelse af social ansvarlighedsmærkning | D39: 11 | E39: 100 | F39: 330 | G39: 330 | H39: 330 | I39: 330 | J39: 13910
B40: 11AU2027-013 Natur på kommunale arealer | D40: 11 | E40: 100 | F40: 385 | G40: 385 | H40: 385 | I40: 385 | J40: 17716
B41: 11AU2027-013 Natur på kommunale arealer indtægter | D41: 12 | E41: 100 | G41: 302 | H41: 302 | I41: 302
B42: 11AU2027-014 Øget sortiment af hjælpemidler og åbningstid i Kvikkassen | D42: 11 | E42: 100 | F42: 700 | G42: 700 | H42: 0 | I42: 0 | J42: 16286
B43: 11AU2027-015 Programledelse og ekstern finansiering til større byggeprojekter | D43: 11 | E43: 100 | F43: 790 | G43: 790 | H43: 790 | I43: 790 | J43: 6678 | L43: x
B44: 11AU2027-016 Midler til foreningen Jordnær, ekstern rådgiver | D44: 11 | E44: 100 | F44: 150 | G44: 0 | H44: 0 | I44: 0 | J44: 0
B45: 11AU2027-017 Dyrevelfærd, scenarie A udelukker Scenarie B Cafeladen | D45: 11 | E45: 100 | F45: 130 | G45: 130 | H45: 130 | I45: 130
B46: 11AU2027-017 Dyrevelfærd, scenarie A udelukker Scenarie B Det specialiserede voksenområde | D46: 32 | E46: 100 | F46: 108 | G46: 108 | H46: 108 | I46: 108
B47: 11AU2027-017 Dyrevelfærd, scenarie A udelukker Scenarie B Ældre | D47: 34 | E47: 100 | F47: 57 | G47: 57 | H47: 57 | I47: 57
B48: 11AU2027-017 Dyrevelfærd, scenarie A udelukker Scenarie B Dagtilbud | D48: 41 | E48: 100 | F48: 556 | G48: 556 | H48: 556 | I48: 556
...

Sheet Anlægsønsker
A2: ANLÆG
A4: - = mindreudgift/merindtægt + = merudgift/mindreindtægt
A6: Anlægskorrektioner til budget
A7: =NOW() -> 46283.025
A9: - = mindreudgift/merindtægt + = merudgift/mindreindtægt
A10: i 1000 kr. | D10: =+'Budgetforslag 2027-2030'!C3 -> 2027 | E10: =+D10+1 -> 2028 | F10: =+E10+1 -> 2029 | G10: =+F10+1 -> 2030
A11: Vedtaget anlægsbudget, oktober 2025 | D11: ='Vedtaget budget i 2026'!C16*1000 -> 541546 | E11: ='Vedtaget budget i 2026'!D16*1000 -> 278807 | F11: ='Vedtaget budget i 2026'!E16*1000 -> 242382 | G11: ='Vedtaget budget i 2026'!F16*1000 -> 0
A14: Forslag til anlægsbudget 2026-2029 - Bruttoanlægsudgifter | C14: A | D14: =SUMIFS(D20:D115,$I20:$I115,"x",$C20:$C115,"A") -> 164998.64 | E14: =SUMIFS(E20:E115,$I20:$I115,"x",$C20:$C115,"A") -> 636026.22 | F14: =SUMIFS(F20:F115,$I20:$I115,"x",$C20:$C115,"A") -> 259049.08 | G14: =SUMIFS(G20:G115,$I20:$I115,"x",$C20:$C115,"A") -> 198834.8 | I14: Godkendte | J14: Godkendt til
A15: Forslag til anlægsbudget 2026-2029 - Bruttoanlægsindtægter | C15: I | D15: =SUMIFS(D20:D115,$I20:$I115,"x",$C20:$C115,"I") -> -10800 | E15: =SUMIFS(E20:E115,$I20:$I115,"x",$C20:$C115,"I") -> -3500 | F15: =SUMIFS(F20:F115,$I20:$I115,"x",$C20:$C115,"I") -> -10500 | G15: =SUMIFS(G20:G115,$I20:$I115,"x",$C20:$C115,"I") -> 0 | I15: korrektioner
A17: ANLÆG DER ER MARKERET MED X I HØJRE KOLONNE INDGÅR I DEN VEDTAGNE ANLÆGSPLAN
J18: 1. behandling
A19: Kolonne1 | B19: Kolonne2 | C19: Kolonne4 | D19: Kolonne6 | E19: Kolonne7 | F19: Kolonne8 | G19: Kolonne9 | H19: Kolonne10 | I19: Kolonne11 | J19: Kolonne12 | K19: Kolonne13 | L19: Kolonne132 | M19: Kolonne133 | N19: Kolonne134 | O19: Kolonne135 | P19: Kolonne136 | Q19: Kolonne137 | R19: Kolonne138 | S19: Kolonne139
A21: Jordforsyning
A22: XA-0000000203 | B22: Generationernes Kvarter, byggemodning | C22: A | D22: 1516 | E22: 14153 | F22: 0 | G22: 0
A23: XA-0000000203 | B23: Generationernes Kvarter, byggemodning | C23: A | D23: =1516-1000 -> 516 | E23: =14153+1000 -> 15153 | F23: 0 | G23: 0 | I23: x | M23: Profil i direktionens forslag
A24: XA-0000000208 | B24: Ullerød Nord - Infrastruktur og byggemodning | C24: A | D24: 885 | E24: 0 | F24: 0 | G24: 0 | I24: x
A25: XA-0000000238 | B25: Favrholm Syd, arkæologiske udgravninger | C25: A | D25: 1067 | E25: 0 | F25: 0 | G25: 0 | I25: x
A26: XA-0000000238 | B26: Favrholm Syd, arkæologiske udgravninger | C26: I | D26: 0 | E26: 0 | F26: -10500 | G26: 0 | I26: x
A27: XA-0000000242 | B27: Salg af Petras Hus, Hulvejen 31 | C27: A | D27: 125 | E27: 0 | F27: 0 | G27: 0 | I27: x
A28: XA-0000000242 | B28: Salg af Petras Hus, Hulvejen 31 | C28: I | D28: -4400 | E28: 0 | F28: 0 | G28: 0 | I28: x
A29: XA-0000000303 | B29: Favrholm, byggemodning til erhverv, Favrholm alle | C29: A | D29: 6138 | E29: 0 | F29: 0 | G29: 0
A30: XA-0000000303 | B30: Favrholm, byggemodning til erhverv, Favrholm alle | C30: A | D30: =6138-5000 -> 1138 | E30: =0+5000 -> 5000 | F30: 0 | G30: 0 | I30: x | M30: Profil i direktionens forslag
A31: Faste ejendomme
A32: XA-0000001048 | B32: Favrholm, Generationernes Kvartershus | C32: A | D32: 723 | E32: 17403.573 | F32: 29156.783 | G32: 87651.305 | I32: x
A33: XA-0000001054 | B33: Vedligeholdelse af bygninger | C33: A | D33: 152 | E33: 0 | F33: 0 | G33: 0 | I33: x | M33: Flyttet fra drift til anlæg
A34: XA-0000001057 | B34: Energibesparende foranstaltninger 2027 | C34: A | D34: 7923 | E34: 17924 | F34: 12924 | G34: 12925
A35: XA-0000001057 | B35: Energibesparende foranstaltninger 2027 | C35: A | D35: =7923-7423 -> 500 | E35: =17924+7423 -> 25347 | F35: 12924 | G35: 12925 | I35: x | M35: Profil i direktionens forslag
A36: XA-0000001061 | B36: Genopretning af bygninger 2028 | C36: A | D36: 0 | E36: 3198 | F36: 3200 | G36: 3199 | I36: x
A37: XA-0000001064 | B37: Returvandstemperatur, tiltag for at mindske strafafgift | C37: A | D37: 0 | E37: 781 | F37: 0 | G37: 0 | I37: x
A38: XA-0000001068 | B38: Tilgængelighedsindsats 2026-2029 | C38: A | D38: 199 | E38: 818 | F38: 508 | G38: 0 | I38: x
A39: XA-0000001302 | B39: Trollesbro, udskiftning af tag | C39: A | D39: 7161 | E39: 10029 | F39: 0 | G39: 0
A40: XA-0000001302 | B40: Trollesbro, udskiftning af tag | C40: A | D40: =7161-6861 -> 300 | E40: =10029+6862 -> 16891 | F40: 0 | G40: 0 | I40: x | M40: Profil i direktionens forslag
A41: Fritidsfaciliteter
A42: XA-0000003132 | B42: Kunstgræsbane i Hillerød Øst | C42: A | D42: 0 | E42: 0 | F42: 232.893 | G42: 114.437 | I42: x
A43: XA-0000003134 | B43: Hillerød Stadion, løbelys og minibane | C43: A | D43: 0 | E43: 0 | F43: 913.27 | G43: 0 | I43: x
A44: XA-0000003136 | B44: Hillerød Svømmehal rep. inkl. hydraulik | C44: A | D44: 9153.035 | E44: 0 | F44: 0 | G44: 0 | I44: x
A45: XA-0000003139 | B45: Renovering af Hillerød Stadion K1 | C45: A | D45: 2697 | E45: 0 | F45: 0 | G45: 0 | I45: x
A46: Vandløbsvæsen
A47: XA-0000007108 | B47: Kritiske vandløbsstrækninger, opretning 2027-2029 | C47: A | D47: 610.202 | E47: 406.802 | F47: 406.801 | G47: 0 | I47: x
A48: Kommunale veje | J48: x
...

Sheet Afledt drift
A2: AFLEDT DRIFT SOM FØLGE AF VEDTAGNE ANLÆGSØNSKER UDEN FOR BUDGET RAMMEN.
A5: - = mindreudgift/merindtægt + = merudgift/mindreindtægt
A7: Afledt drift uden for rammen til budget
A8: =NOW() -> 46283.025
A10: - = mindreudgift/merindtægt + = merudgift/mindreindtægt
A11: 1.000 kr. | C11: Akt. | D11: Service | E11: =+Aktivitetsudvidelser!F11 -> 2027 | F11: =+E11+1 -> 2028 | G11: =+F11+1 -> 2029 | H11: =+G11+1 -> 2030 | J11: Godkendte | K11: Godkendt til
A12: Afledt drift udenfor rammen | E12: =SUMIF(J13:J76,"x",E13:E76) -> -1407 | F12: =SUMIF(J13:J76,"x",F13:F76) -> -1065 | G12: =SUMIF(J13:J76,"x",G13:G76) -> 696 | H12: =SUMIF(J13:J76,"x",H13:H76) -> 85 | J12: korrektioner | K12: 1. behandling
A14: Akt. 11, Administration
A15: Afledt drift på anlægsønsker | C15: 11 | D15: 100 | E15: =SUMIFS(Anlægsønsker!D$13:D$374,Anlægsønsker!$I$13:$I$374,"x",Anlægsønsker!$C$13:$C$374,"11") -> 106 | F15: =SUMIFS(Anlægsønsker!E$13:E$374,Anlægsønsker!$I$13:$I$374,"x",Anlægsønsker!$C$13:$C$374,"11") -> 296 | G15: =SUMIFS(Anlægsønsker!F$13:F$374,Anlægsønsker!$I$13:$I$374,"x",Anlægsønsker!$C$13:$C$374,"11") -> 296 | H15: =SUMIFS(Anlægsønsker!G$13:G$374,Anlægsønsker!$I$13:$I$374,"x",Anlægsønsker!$C$13:$C$374,"11") -> 106 | J15: x | K15: x
A17: Akt. 12, Ejendomme
A18: Afledt drift på anlægsønsker | C18: 12 | D18: 100 | E18: =SUMIFS(Anlægsønsker!D$13:D$374,Anlægsønsker!$I$13:$I$374,"x",Anlægsønsker!$C$13:$C$374,"12") -> -1541 | F18: =SUMIFS(Anlægsønsker!E$13:E$374,Anlægsønsker!$I$13:$I$374,"x",Anlægsønsker!$C$13:$C$374,"12") -> -1181 | G18: =SUMIFS(Anlægsønsker!F$13:F$374,Anlægsønsker!$I$13:$I$374,"x",Anlægsønsker!$C$13:$C$374,"12") -> 112 | H18: =SUMIFS(Anlægsønsker!G$13:G$374,Anlægsønsker!$I$13:$I$374,"x",Anlægsønsker!$C$13:$C$374,"12") -> -298 | J18: x | K18: x
A20: Akt. 13 Rengøring, bestiller
A21: Afledt drift på anlægsønsker | C21: 13 | D21: 100 | E21: =SUMIFS(Anlægsønsker!D$13:D$374,Anlægsønsker!$I$13:$I$374,"x",Anlægsønsker!$C$13:$C$374,"13") -> -277 | F21: =SUMIFS(Anlægsønsker!E$13:E$374,Anlægsønsker!$I$13:$I$374,"x",Anlægsønsker!$C$13:$C$374,"13") -> -325 | G21: =SUMIFS(Anlægsønsker!F$13:F$374,Anlægsønsker!$I$13:$I$374,"x",Anlægsønsker!$C$13:$C$374,"13") -> -133 | H21: =SUMIFS(Anlægsønsker!G$13:G$374,Anlægsønsker!$I$13:$I$374,"x",Anlægsønsker!$C$13:$C$374,"13") -> -120 | J21: x | K21: x
A23: Akt. 27 Ejendomme - Grøn drift
A24: Afledt drift på anlægsønsker | C24: 27 | D24: 100 | E24: =SUMIFS(Anlægsønsker!D$13:D$374,Anlægsønsker!$I$13:$I$374,"x",Anlægsønsker!$C$13:$C$374,"27") -> 0 | F24: =SUMIFS(Anlægsønsker!E$13:E$374,Anlægsønsker!$I$13:$I$374,"x",Anlægsønsker!$C$13:$C$374,"27") -> 0 | G24: =SUMIFS(Anlægsønsker!F$13:F$374,Anlægsønsker!$I$13:$I$374,"x",Anlægsønsker!$C$13:$C$374,"27") -> 0 | H24: =SUMIFS(Anlægsønsker!G$13:G$374,Anlægsønsker!$I$13:$I$374,"x",Anlægsønsker!$C$13:$C$374,"27") -> 0 | J24: x | K24: x
A26: Akt. 21. Natur, Miljø og Klima
A27: Afledt drift på anlægsønsker | C27: 21 | D27: 100 | E27: =SUMIFS(Anlægsønsker!D$13:D$374,Anlægsønsker!$I$13:$I$374,"x",Anlægsønsker!$C$13:$C$374,"21") -> 0 | F27: =SUMIFS(Anlægsønsker!E$13:E$374,Anlægsønsker!$I$13:$I$374,"x",Anlægsønsker!$C$13:$C$374,"21") -> 0 | G27: =SUMIFS(Anlægsønsker!F$13:F$374,Anlægsønsker!$I$13:$I$374,"x",Anlægsønsker!$C$13:$C$374,"21") -> 0 | H27: =SUMIFS(Anlægsønsker!G$13:G$374,Anlægsønsker!$I$13:$I$374,"x",Anlægsønsker!$C$13:$C$374,"21") -> 0 | J27: x
A29: Akt. 23. Kirkegårde
A30: Afledt drift på anlægsønsker | C30: 23 | D30: 100 | E30: =SUMIFS(Anlægsønsker!D$13:D$374,Anlægsønsker!$I$13:$I$374,"x",Anlægsønsker!$C$13:$C$374,"23") -> 0 | F30: =SUMIFS(Anlægsønsker!E$13:E$374,Anlægsønsker!$I$13:$I$374,"x",Anlægsønsker!$C$13:$C$374,"23") -> 0 | G30: =SUMIFS(Anlægsønsker!F$13:F$374,Anlægsønsker!$I$13:$I$374,"x",Anlægsønsker!$C$13:$C$374,"23") -> 0 | H30: =SUMIFS(Anlægsønsker!G$13:G$374,Anlægsønsker!$I$13:$I$374,"x",Anlægsønsker!$C$13:$C$374,"23") -> 0 | J30: x
A32: Akt. 28. By og Miljø
A33: Afledt drift på anlægsønsker | C33: 28 | D33: 100 | E33: =SUMIFS(Anlægsønsker!D$13:D$374,Anlægsønsker!$I$13:$I$374,"x",Anlægsønsker!$C$13:$C$374,"28") -> 0 | F33: =SUMIFS(Anlægsønsker!E$13:E$374,Anlægsønsker!$I$13:$I$374,"x",Anlægsønsker!$C$13:$C$374,"28") -> 0 | G33: =SUMIFS(Anlægsønsker!F$13:F$374,Anlægsønsker!$I$13:$I$374,"x",Anlægsønsker!$C$13:$C$374,"28") -> 0 | H33: =SUMIFS(Anlægsønsker!G$13:G$374,Anlægsønsker!$I$13:$I$374,"x",Anlægsønsker!$C$13:$C$374,"28") -> 0 | J33: x | K33: x
A35: Akt. 30. Ungdommens Uddannelsesvejledning
A36: Afledt drift på anlægsønsker | C36: 30 | D36: 100 | E36: =SUMIFS(Anlægsønsker!D$13:D$374,Anlægsønsker!$I$13:$I$374,"x",Anlægsønsker!$C$13:$C$374,"30") -> 0 | F36: =SUMIFS(Anlægsønsker!E$13:E$374,Anlægsønsker!$I$13:$I$374,"x",Anlægsønsker!$C$13:$C$374,"30") -> 0 | G36: =SUMIFS(Anlægsønsker!F$13:F$374,Anlægsønsker!$I$13:$I$374,"x",Anlægsønsker!$C$13:$C$374,"30") -> 0 | H36: =SUMIFS(Anlægsønsker!G$13:G$374,Anlægsønsker!$I$13:$I$374,"x",Anlægsønsker!$C$13:$C$374,"30") -> 0 | J36: x | K36: x
A38: Akt. 31. Beskæftigelsesindsats
C39: 31 | D39: 200 | E39: =SUMIFS(Anlægsønsker!D$13:D$374,Anlægsønsker!$I$13:$I$374,"x",Anlægsønsker!$C$13:$C$374,"31") -> 0 | F39: =SUMIFS(Anlægsønsker!E$13:E$374,Anlægsønsker!$I$13:$I$374,"x",Anlægsønsker!$C$13:$C$374,"31") -> 0 | G39: =SUMIFS(Anlægsønsker!F$13:F$374,Anlægsønsker!$I$13:$I$374,"x",Anlægsønsker!$C$13:$C$374,"31") -> 0 | H39: =SUMIFS(Anlægsønsker!G$13:G$374,Anlægsønsker!$I$13:$I$374,"x",Anlægsønsker!$C$13:$C$374,"31") -> 0 | J39: x | K39: x
A41: Akt. 33. Forsørgelsesydelser
A42: Afledt drift på anlægsønsker | C42: 33 | D42: 100 | E42: =SUMIFS(Anlægsønsker!D$13:D$374,Anlægsønsker!$I$13:$I$374,"x",Anlægsønsker!$C$13:$C$374,"33") -> 0 | F42: =SUMIFS(Anlægsønsker!E$13:E$374,Anlægsønsker!$I$13:$I$374,"x",Anlægsønsker!$C$13:$C$374,"33") -> 0 | G42: =SUMIFS(Anlægsønsker!F$13:F$374,Anlægsønsker!$I$13:$I$374,"x",Anlægsønsker!$C$13:$C$374,"33") -> 0 | H42: =SUMIFS(Anlægsønsker!G$13:G$374,Anlægsønsker!$I$13:$I$374,"x",Anlægsønsker!$C$13:$C$374,"33") -> 0 | J42: x | K42: x
A44: Akt. 32. Specialiseret voksenområde
A45: Afledt drift på anlægsønsker | C45: 32 | D45: 100 | E45: =SUMIFS(Anlægsønsker!D$13:D$374,Anlægsønsker!$I$13:$I$374,"x",Anlægsønsker!$C$13:$C$374,"32") -> 0 | F45: =SUMIFS(Anlægsønsker!E$13:E$374,Anlægsønsker!$I$13:$I$374,"x",Anlægsønsker!$C$13:$C$374,"32") -> 0 | G45: =SUMIFS(Anlægsønsker!F$13:F$374,Anlægsønsker!$I$13:$I$374,"x",Anlægsønsker!$C$13:$C$374,"32") -> 0 | H45: =SUMIFS(Anlægsønsker!G$13:G$374,Anlægsønsker!$I$13:$I$374,"x",Anlægsønsker!$C$13:$C$374,"32") -> 0 | J45: x | K45: x
A47: Akt. 34. Ældreområdet
A48: Afledt drift på anlægsønsker | C48: 34 | D48: 100 | E48: =SUMIFS(Anlægsønsker!D$13:D$374,Anlægsønsker!$I$13:$I$374,"x",Anlægsønsker!$C$13:$C$374,"34") -> 0 | F48: =SUMIFS(Anlægsønsker!E$13:E$374,Anlægsønsker!$I$13:$I$374,"x",Anlægsønsker!$C$13:$C$374,"34") -> 0 | G48: =SUMIFS(Anlægsønsker!F$13:F$374,Anlægsønsker!$I$13:$I$374,"x",Anlægsønsker!$C$13:$C$374,"34") -> 0 | H48: =SUMIFS(Anlægsønsker!G$13:G$374,Anlægsønsker!$I$13:$I$374,"x",Anlægsønsker!$C$13:$C$374,"34") -> 0 | J48: x | K48: x
A50: Akt. 35. Sundhedsområdet
A51: Afledt drift på anlægsønsker | C51: 35 | D51: 100 | E51: =SUMIFS(Anlægsønsker!D$13:D$374,Anlægsønsker!$I$13:$I$374,"x",Anlægsønsker!$C$13:$C$374,"35") -> 0 | F51: =SUMIFS(Anlægsønsker!E$13:E$374,Anlægsønsker!$I$13:$I$374,"x",Anlægsønsker!$C$13:$C$374,"35") -> 0 | G51: =SUMIFS(Anlægsønsker!F$13:F$374,Anlægsønsker!$I$13:$I$374,"x",Anlægsønsker!$C$13:$C$374,"35") -> 0 | H51: =SUMIFS(Anlægsønsker!G$13:G$374,Anlægsønsker!$I$13:$I$374,"x",Anlægsønsker!$C$13:$C$374,"35") -> 0 | J51: x | K51: x
A53: Akt. 38, Erhverv og Uddannelse
A54: Afledt drift på anlægsønsker | C54: 36 | D54: 100 | E54: =SUMIFS(Anlægsønsker!D$13:D$374,Anlægsønsker!$I$13:$I$374,"x",Anlægsønsker!$C$13:$C$374,"38") -> 0 | F54: =SUMIFS(Anlægsønsker!E$13:E$374,Anlægsønsker!$I$13:$I$374,"x",Anlægsønsker!$C$13:$C$374,"38") -> 0 | G54: =SUMIFS(Anlægsønsker!F$13:F$374,Anlægsønsker!$I$13:$I$374,"x",Anlægsønsker!$C$13:$C$374,"38") -> 0 | H54: =SUMIFS(Anlægsønsker!G$13:G$374,Anlægsønsker!$I$13:$I$374,"x",Anlægsønsker!$C$13:$C$374,"38") -> 0 | J54: x
A56: Akt. 41. Dagtilbud børn
A57: Afledt drift på anlægsønsker | C57: 41 | D57: 100 | E57: =SUMIFS(Anlægsønsker!D$13:D$374,Anlægsønsker!$I$13:$I$374,"x",Anlægsønsker!$C$13:$C$374,"41") -> 29 | F57: =SUMIFS(Anlægsønsker!E$13:E$374,Anlægsønsker!$I$13:$I$374,"x",Anlægsønsker!$C$13:$C$374,"41") -> 29 | G57: =SUMIFS(Anlægsønsker!F$13:F$374,Anlægsønsker!$I$13:$I$374,"x",Anlægsønsker!$C$13:$C$374,"41") -> 29 | H57: =SUMIFS(Anlægsønsker!G$13:G$374,Anlægsønsker!$I$13:$I$374,"x",Anlægsønsker!$C$13:$C$374,"41") -> 0 | J57: x | K57: x
A59: Akt. 42. Skoler
A60: Afledt drift på anlægsønsker | C60: 42 | D60: 100 | E60: =SUMIFS(Anlægsønsker!D$13:D$374,Anlægsønsker!$I$13:$I$374,"x",Anlægsønsker!$C$13:$C$374,"42") -> 141 | F60: =SUMIFS(Anlægsønsker!E$13:E$374,Anlægsønsker!$I$13:$I$374,"x",Anlægsønsker!$C$13:$C$374,"42") -> 141 | G60: =SUMIFS(Anlægsønsker!F$13:F$374,Anlægsønsker!$I$13:$I$374,"x",Anlægsønsker!$C$13:$C$374,"42") -> 147 | H60: =SUMIFS(Anlægsønsker!G$13:G$374,Anlægsønsker!$I$13:$I$374,"x",Anlægsønsker!$C$13:$C$374,"42") -> 152 | J60: x | K60: x
A62: Akt. 43, Kriminalpræventive- og boligsociale aktiviteter
...

Sheet Tekniske korrektioner
A2: TEKNISKE KORREKTIONER - KORREKTIONER MARKERET MED X I HØJRE KOLONNE INDGÅR I BUDGETFORSLAGET
A5: - = mindreudgift/merindtægt + = merudgift/mindreindtægt
A7: Tekniske korrektioner til budget
A8: =NOW() -> 46283.025
A10: - = mindreudgift/merindtægt + = merudgift/mindreindtægt
A11: 1.000 kr. | C11: Akt. | F11: 2027 | G11: =F11+1 -> 2028 | H11: =G11+1 -> 2029 | I11: =H11+1 -> 2030 | K11: Godkendte
A12: Tekniske korrektioner | E12: =SUMIF(K13:K316,"x",E13:E316) -> 0 | F12: =SUMIF(K13:K376,"x",F13:F376) -> -270662 | G12: =SUMIF(K13:K376,"x",G13:G376) -> -254505 | H12: =SUMIF(K13:K376,"x",H13:H376) -> -243911 | I12: =SUMIF(K13:K376,"x",I13:I376) -> -232224 | K12: korrektioner
A14: Akt. 11, Administration
A15: Letbetaling NY11AU2024-004 | C15: 11 | F15: -6 | G15: -6 | H15: -6 | I15: -6 | K15: x | L15: 11.11.2025 cstr
A16: Budgetopfølgning 3-2025 Arbejdskade Erhvervssikring | C16: 11 | F16: 300 | G16: 300 | H16: 300 | I16: 300 | K16: x | L16: 24.11.2025 llia
A17: Budgetopfølgning 3-2025 Ældre og Sundhed | C17: 11 | F17: 22 | G17: 22 | H17: 22 | I17: 22 | K17: x | L17: 24.11.2025 betni
A18: Budgetopfølgning 3-2025 Familiesektionen | C18: 11 | F18: -27 | G18: -27 | H18: -27 | I18: -27 | K18: x | L18: 24.11.2025 peos
A19: Budgetopfølgning 3-2025 Trafik, Vej og Park | C19: 11 | F19: 272 | G19: 272 | H19: 272 | I19: 272 | K19: x | L19: 24.11.2025 like
A20: Budgetopfølgning 3-2025 Natur, Miljø og Klima | C20: 11 | F20: 62 | G20: 62 | H20: 62 | I20: 62 | K20: x | L20: 24.11.2025 like
A21: Tilpasning af valgbudget, Kommunalvalg og EU-valg budget ud i 2030, budget til Folketingsvalg ind i 2030 | C21: 11 | I21: =-3039+1316 -> -1723 | K21: x | L21: 08.12.2025 llia
A22: Udgift til rådhus PC'er hvert 5. år. ( 2029) budget ud i 2030 | C22: 11 | I22: -5712 | K22: x | L22: 08.12.2025 llia
A23: Forskydning af udgifter til IT-udstyr byråd | C23: 11 | H23: -283 | I23: -40 | K23: x | L23: 08.12.2025 llia
A24: Afledt drift, Hillerødshomskolen, kapacitetsudvidelse | B24: NY50AØ2022-222-B | C24: 11 | I24: -488 | K24: x | L24: 17.12.2025 kira
A25: Afledt drift, Grønnevang Skole, genhusning | B25: 50AØ2025-221 | C25: 11 | I25: -252 | K25: x | L25: 17.12.2025 kira
A26: Afledt drift, Tilgængelighedsindsats 2026-2029 | B26: 50AØ2026-082 | C26: 11 | I26: -15 | K26: x | L26: 17.12.2025 kira
A27: Afledt drift, Daginstitutioner, pulje til funktionsopgradering | B27: 50AØ2026-220 | C27: 11 | I27: -15 | K27: x | L27: 17.12.2025 kira
A28: Afledt drift, Hillerød Vest Skolen, afd. Ålholm, kapacitetsudvidelse | B28: 50AØ2026-221 | C28: 11 | I28: -92 | K28: x | L28: 17.12.2025 kira
A29: Vejafvanding - renov stikled brønd | B29: 50AØ2026-140 | C29: 11 | I29: -325 | K29: x | L29: 22.12.25 Linea
A30: Sundhedsplejen lederløn var lagt på akt.omr .11, men hører til på akt.omr. 44 | C30: 11 | F30: -44 | G30: -44 | H30: -44 | I30: -44 | K30: x | L30: 20.01.2026 peos
A31: Afledt drift, Farvholm Stationskvarter | B31: 11AU2021-008 | C31: 11 | F31: -900 | G31: -900 | H31: -900 | I31: -900 | K31: x | L31: 30.01.2025 like
A32: Indkøbsbesparelse vedr inde- og udelegetøj fra akt. 42 skoler til akt. 11 | C32: 11 | F32: 6 | G32: 6 | H32: 6 | I32: 6 | K32: x | L32: 11.03.2026 llia
A33: Virkningen af nyt PL skøn fra KL. 13/3 2026 | C33: 11 | F33: 1069 | G33: 1055 | H33: 1021 | I33: 1050 | K33: x | L33: 16.03.2026 betni
A34: Videreførsel af budget til tilkøb til OPUS kontrakt. fortsættelse af budgetprincip | C34: 11 | F34: 125 | G34: 125 | H34: 125 | I34: 125 | K34: x | L34: 15.04.2026 llia
A35: Virkningen af korrrigeret PL skøn fra KL. - i G.1-1 | C35: 11 | F35: -132 | G35: -130 | H35: -130 | I35: -130 | K35: x | L35: 06.05.2026 betni
A36: OK24 Pulje opskrivning til OK26 prisniveau | C36: 11 | F36: 114 | G36: 114 | H36: 114 | I36: 114 | K36: x | L36: 07.05.2026 llia
A37: Budgetopfølgning 1-2026 Merudgift et fagudvalg mere end forudsat i budgettet | C37: 11 | F37: 430 | G37: 430 | H37: 430 | I37: 430 | K37: x | L37: 22.05.2026 llia
A38: Budgetopfølgning 1-2026 Merudgift til et §17 stk 4 udvalg fra 1. marts 2026 til 31. maj 2027 | C38: 11 | F38: 75 | K38: x | L38: 22.05.2026 llia
A39: Budgetopfølgning 1-2026 Støttesagsgebyr, Skoleparken udskudt til 2027 | C39: 11 | F39: -71 | K39: x | L39: 22.05.2026 llia
A40: Budgetopfølgning 1-2026 Støttesagsgebyr, Ved Torvet udskudt til 2028 | C40: 11 | G40: -357 | K40: x | L40: 22.05.2026 llia
A41: Budgetopfølgning 1-2026 Administrationsbidrag til lønmodtagernes feriemidler | C41: 11 | F41: 95 | G41: 95 | H41: 95 | I41: 95 | K41: x | L41: 22.05.2026 llia
A42: Udmøntning af 11FF2026-008 Automatisering - gevinster fra akt. 34 | C42: 11 | F42: 155 | G42: 155 | H42: 155 | I42: 155 | K42: x | L42: 22.05.2026 llia
A43: Udmøntning fra digitaliseringspuljen akt. 38 - godkendt af DIR 12.5.2026 Test digital signaturløsning | C43: 11 | F43: 17 | G43: 15 | K43: x | L43: 19.05.2026 llia
A44: Budgetopfølgning 1-2026 Cafeladen | C44: 11 | F44: 260 | G44: 260 | H44: 260 | I44: 260 | K44: x | L44: 21.05.2025 kira
A45: Hygiejnesygeplejersker til akt.omr. 11 fra akt.omr. 35 | C45: 11 | F45: 300 | G45: 420 | H45: 420 | I45: 420 | K45: x | L45: 26.05.2026 peos
A46: Mere beredskab - risikobaseret dimensionering - ØU 20.5 | C46: 11 | F46: =273+689+1185 -> 2147 | G46: =441+689+1185 -> 2315 | H46: =476+689+1185 -> 2350 | I46: =498+689+1185 -> 2372 | K46: x | L46: 28.05.2025 like
...

Sheet Korrektioner vedr. finansiering
A2: SKAT, TILSKUD OG UDLIGNING SAMT FINANSPOSTER. DE ANFØRTE BELØB ER ÆNDRINGER TIL OPRINDELIGT BUDGET
A4: - = mindreudgift/merindtægt + = merudgift/mindreindtægt
A6: korrektioner vedrørende Finansiering mm
A7: =NOW() -> 46283.025
A9: - = mindreudgift/merindtægt + = merudgift/mindreindtægt
A10: 1.000 kr. | C10: 2010 | D10: =+'Budgetforslag 2027-2030'!C3 -> 2027 | E10: =D10+1 -> 2028 | F10: =E10+1 -> 2029 | G10: =F10+1 -> 2030
D11: =('Vedtaget budget i 2026'!C10+'Vedtaget budget i 2026'!C12+'Vedtaget budget i 2026'!C14+'Vedtaget budget i 2026'!C25+'Vedtaget budget i 2026'!C26+'Vedtaget budget i 2026'!C27+'Vedtaget budget i 2026'!C11)*1000 -> -4474933 | E11: =('Vedtaget budget i 2026'!D10+'Vedtaget budget i 2026'!D12+'Vedtaget budget i 2026'!D14+'Vedtaget budget i 2026'!D25+'Vedtaget budget i 2026'!D26+'Vedtaget budget i 2026'!D27)*1000 -> -4662764 | F11: =('Vedtaget budget i 2026'!E10+'Vedtaget budget i 2026'!E12+'Vedtaget budget i 2026'!E14+'Vedtaget budget i 2026'!E25+'Vedtaget budget i 2026'!E26+'Vedtaget budget i 2026'!E27)*1000 -> -4821193 | G11: =('Vedtaget budget i 2026'!F10+'Vedtaget budget i 2026'!F12+'Vedtaget budget i 2026'!F14+'Vedtaget budget i 2026'!F25+'Vedtaget budget i 2026'!F26+'Vedtaget budget i 2026'!F27)*1000 -> -4821193
A13: Skatter | C13: =SUM(C14:C20) -> 0 | D13: =SUM(D14:D25) -> -125937 | E13: =SUM(E14:E25) -> 860 | F13: =SUM(F14:F25) -> -24818 | G13: =SUM(G14:G25) -> -238840
A15: justering af skatteindtægter vedr. pl stigning fra 2029 til 2030 - artskonto 69080001 | G15: =prisfremskrivning!K7*1000*-1 -> -149089 | I15: drift
A16: justering af skatteindtægter vedr. pl stigning fra 2029 til 2030 - artskonto 69080001 | G16: -5381 | I16: anlæg
A17: justering af skatteindtægter vedr. pl stigning fra 2029 til 2030 - artskonto 69080001 | G17: 6525 | I17: nyt pl. Juni
